BEGIN:VCALENDAR
VERSION:2.0
PRODID:-//Alerta Chiapas - ECPv6.15.20//NONSGML v1.0//EN
CALSCALE:GREGORIAN
METHOD:PUBLISH
X-WR-CALNAME:Alerta Chiapas
X-ORIGINAL-URL:https://alertachiapas.com
X-WR-CALDESC:Eventos para Alerta Chiapas
REFRESH-INTERVAL;VALUE=DURATION:PT1H
X-Robots-Tag:noindex
X-PUBLISHED-TTL:PT1H
BEGIN:VTIMEZONE
TZID:America/Mexico_City
BEGIN:STANDARD
TZOFFSETFROM:-0600
TZOFFSETTO:-0600
TZNAME:CST
DTSTART:20250101T000000
END:STANDARD
END:VTIMEZONE
BEGIN:VEVENT
DTSTART;TZID=America/Mexico_City:20260607T070000
DTEND;TZID=America/Mexico_City:20260607T100000
DTSTAMP:20260424T154613
CREATED:20260423T030004Z
LAST-MODIFIED:20260423T030004Z
UID:10001295-1780815600-1780826400@alertachiapas.com
SUMMARY:¡A correr! Presentan la 9ª edición del "Running Day Chiapas" en Tuxtla
DESCRIPTION:La capital chiapaneca se prepara para una doble celebración deportiva y ecológica. El próximo domingo 07 de junio de 2026\, se llevará a cabo la 9ª Edición de la Carrera Running Day Chiapas\, un evento diseñado para conmemorar el Día Mundial de Correr y el Día Mundial del Medio Ambiente. \nLa competencia\, que cuenta con cupo limitado\, arrancará en punto de las 07:00 AM desde la Calzada de las Personas Ilustres\, teniendo como meta el Parque Recreativo Caña Hueca. Las categorías participantes incluyen Libre\, Sillas de Ruedas y una división especial para Niñas y Niños\, en ambas ramas (varonil y femenil). \n\n\n	Relacionado
URL:https://alertachiapas.com/evento/a-correr-presentan-la-9a-edicion-del-running-day-chiapas-en-tuxtla/
LOCATION:Calzada de las Personas Ilustres\, Calzada de las Personas Ilustres\, tuxtla gutiérrez\, Chiapas\, 29000\, Mexico
CATEGORIES:Deportes
ATTACH;FMTTYPE=image/jpeg:https://alertachiapas.com/wp-content/uploads/2026/04/670918765_1460519849205144_839657373773707528_n.jpg
GEO:16°45'32.0"N;93°06'30.5"W
X-APPLE-STRUCTURED-LOCATION;VALUE=URI;X-ADDRESS=Calzada de las Personas Ilustres Calzada de las Personas Ilustres tuxtla gutiérrez Chiapas 29000 Mexico;X-APPLE-RADIUS=500;X-TITLE=Calzada de las Personas Ilustres:geo:93°06'30.5"W,16°45'32.0"N
END:VEVENT
END:VCALENDAR