BEGIN:VCALENDAR
VERSION:2.0
PRODID:-//Alerta Chiapas - ECPv6.15.20//NONSGML v1.0//EN
CALSCALE:GREGORIAN
METHOD:PUBLISH
X-ORIGINAL-URL:https://alertachiapas.com
X-WR-CALDESC:Eventos para Alerta Chiapas
REFRESH-INTERVAL;VALUE=DURATION:PT1H
X-Robots-Tag:noindex
X-PUBLISHED-TTL:PT1H
BEGIN:VTIMEZONE
TZID:America/Mexico_City
BEGIN:STANDARD
TZOFFSETFROM:-0600
TZOFFSETTO:-0600
TZNAME:CST
DTSTART:20250101T000000
END:STANDARD
END:VTIMEZONE
BEGIN:VEVENT
DTSTART;TZID=America/Mexico_City:20260416T200000
DTEND;TZID=America/Mexico_City:20260416T230000
DTSTAMP:20260422T200239
CREATED:20260414T005339Z
LAST-MODIFIED:20260414T011003Z
UID:10001285-1776369600-1776380400@alertachiapas.com
SUMMARY:¡Magia en el Rabasa! Harry Potter Sinfónico llega a Tuxtla este 16 de abril
DESCRIPTION:La magia de Hogwarts aterrizará en la capital chiapaneca con la presentación de Harry Potter Sinfónico\, un espectáculo que promete transportar a los asistentes al mundo fantástico creado por J.K. Rowling a través de una experiencia multisensorial única. \nEste evento permitirá a los fans vivir la proyección de la película acompañada por una orquesta en vivo con más de 30 músicos en escena\, quienes interpretarán las icónicas piezas musicales que dieron vida a la saga cinematográfica. La cita es el próximo jueves 16 de abril en el emblemático Teatro de la Ciudad Emilio Rabasa.
URL:https://alertachiapas.com/evento/243587/
LOCATION:Teatro Emilio Rabasa\, De Los Hombres Ilustres S/N\, Centro\, Tuxtla Gutierrez\, Chiapas\, 29000\, Mexico
CATEGORIES:Concierto
ATTACH;FMTTYPE=image/png:https://alertachiapas.com/wp-content/uploads/2026/04/Captura-de-pantalla-2026-04-13-a-las-6.56.51-p.m.png
END:VEVENT
BEGIN:VEVENT
DTSTART;TZID=America/Mexico_City:20260417T090000
DTEND;TZID=America/Mexico_City:20260419T190000
DTSTAMP:20260422T200239
CREATED:20260417T020759Z
LAST-MODIFIED:20260417T020759Z
UID:10001287-1776416400-1776625200@alertachiapas.com
SUMMARY:¡Cuna de Sabores llega a Tuxtla! Disfruta de la gran Ruta Gastronómica
DESCRIPTION:Chiapas se viste de gala para recibir la Ruta Gastronómica “Cuna de Sabores”\, un evento organizado por Fundación ADO que promete deleitar el paladar de todos los asistentes. Durante tres días\, la capital del estado se convertirá en el epicentro del sabor\, reuniendo la riqueza culinaria y cultural de diversos estados de la República Mexicana. 🌮🌶️ \nEn esta edición\, los estados participantes son Chiapas\, Oaxaca\, Puebla y Veracruz\, por lo que podrás encontrar desde el cacao más puro y tamales tradicionales hasta artesanías y bailes regionales que llenarán de color la terminal. Es una oportunidad única para apoyar el talento local y conocer de cerca las raíces gastronómicas que dan identidad al sureste y centro del país. 🍫💃 \n¡No te lo pierdas! El evento es totalmente familiar y es el punto de encuentro ideal para quienes aman la buena comida y las tradiciones mexicanas. \n\nDetalles del Evento:\n\n\n📍 Lugar: Terminal ADO 5ta Norte\, Tuxtla Gutiérrez. \n\n\n📅 Fecha: Del 17 al 19 de abril de 2026. \n\n\n🕘 Hora: 09:00 a 19:00 horas. \n\n\n✨ Participan: Chiapas\, Oaxaca\, Puebla y Veracruz. \n\n\n🎟️ Organiza: Fundación ADO y Voluntariado Corporativo.
URL:https://alertachiapas.com/evento/cuna-de-sabores-llega-a-tuxtla-disfruta-de-la-gran-ruta-gastronomica/
LOCATION:Terminal ADO\, 5ta Norte\, Tuxtla Gutiérrez.\, Tuxtla Gutiérrez\, Select a State:\, 29000\, Mexico
CATEGORIES:Expo venta
ATTACH;FMTTYPE=image/jpeg:https://alertachiapas.com/wp-content/uploads/2026/04/00b67fe9-1ccd-4300-bf7c-af07d8a2ebac.jpg
END:VEVENT
BEGIN:VEVENT
DTSTART;TZID=America/Mexico_City:20260417T180000
DTEND;TZID=America/Mexico_City:20260417T200000
DTSTAMP:20260422T200239
CREATED:20260413T231615Z
LAST-MODIFIED:20260413T231615Z
UID:10001282-1776448800-1776456000@alertachiapas.com
SUMMARY:¡Diversión para los peques! El tour "Baila a lo Loco" llega al Polyforum de Tuxtla
DESCRIPTION:¡Atención papás de la capital! La energía y la música se apoderarán de Tuxtla Gutiérrez con la llegada del “Baila a lo Loco Tour 2026”\, un espectáculo diseñado para que toda la familia disfrute de una tarde inolvidable. Este show contará con la participación estelar de Los Meñiques de la Casa y la carismática Saritah “Bebé”\, quienes prometen poner a bailar a todos con sus mejores éxitos.
URL:https://alertachiapas.com/evento/diversion-para-los-peques-el-tour-baila-a-lo-loco-llega-al-polyforum-de-tuxtla/
LOCATION:Poliforum Chiapas\, Andrés Serra Rojas S/N\, El Retiro\, tuxtla gutiérrez\, Chiapas\, 29000\, Mexico
CATEGORIES:Concierto
ATTACH;FMTTYPE=image/jpeg:https://alertachiapas.com/wp-content/uploads/2026/04/668280585_122317179062017030_5235671343855055125_n.jpg
ORGANIZER;CN="Hilton Garden inn Tuxtla Gutierrez":MAILTO:TGZGI_GM@hilton.com
END:VEVENT
BEGIN:VEVENT
DTSTART;TZID=America/Mexico_City:20260418T070000
DTEND;TZID=America/Mexico_City:20260418T090000
DTSTAMP:20260422T200239
CREATED:20260410T181448Z
LAST-MODIFIED:20260410T181448Z
UID:10001280-1776495600-1776502800@alertachiapas.com
SUMMARY:¡Actívate por una causa! Presentan la carrera "Código Salud Run 5K" en Tuxtla
DESCRIPTION:La comunidad estudiantil de la Facultad de Medicina C-II de la UNACH invita a todo el público a participar en la carrera “Código Salud Run 5K”\, un evento deportivo organizado con el objetivo de recaudar fondos para la graduación de los alumnos de la Generación 97 de la licenciatura en Médico Cirujano.
URL:https://alertachiapas.com/evento/activate-por-una-causa-presentan-la-carrera-codigo-salud-run-5k-en-tuxtla/
LOCATION:Parque Recreativo Caña Hueca\, Blvd. Belisario Domínguez SN\, tuxtla gutiérrez\, chiapas\, Mexico
CATEGORIES:Deportes
ATTACH;FMTTYPE=image/jpeg:https://alertachiapas.com/wp-content/uploads/2026/04/WhatsApp-Image-2026-04-10-at-11.08.50-AM.jpeg
END:VEVENT
BEGIN:VEVENT
DTSTART;TZID=America/Mexico_City:20260422T080000
DTEND;TZID=America/Mexico_City:20260422T170000
DTSTAMP:20260422T200239
CREATED:20260422T225304Z
LAST-MODIFIED:20260422T225304Z
UID:10001288-1776844800-1776877200@alertachiapas.com
SUMMARY:El Trono de México hará vibrar la Feria San Marcos Tecpatán 2026
DESCRIPTION:Todo está listo en el municipio de Tecpatán\, Chiapas\, para vivir una de las noches más esperadas de sus festividades anuales. En el marco de la Feria San Marcos Tecpatán 2026\, la agrupación El Trono de México se presentará este jueves 23 de abril para ofrecer un espectáculo lleno de energía y sus más grandes éxitos.
URL:https://alertachiapas.com/evento/el-trono-de-mexico-hara-vibrar-la-feria-san-marcos-tecpatan-2026/
LOCATION:Tecpatán\, Cerca de\, San Lucía\, 29610 Tecpatán\, Chis.\, Tecpatán\, Chiapas\, 29610\, Mexico
CATEGORIES:Concierto
ATTACH;FMTTYPE=image/png:https://alertachiapas.com/wp-content/uploads/2026/04/Captura-de-pantalla-2026-04-22-a-las-4.46.51-p.m.png
ORGANIZER;CN="H. Ayuntamiento Municipal de Tecpat%C3%A1n 2024-2027":MAILTO:ayuntamientotecpatan2024@gmail.com
END:VEVENT
BEGIN:VEVENT
DTSTART;TZID=America/Mexico_City:20260424T080000
DTEND;TZID=America/Mexico_City:20260424T130000
DTSTAMP:20260422T200239
CREATED:20260422T234317Z
LAST-MODIFIED:20260422T234317Z
UID:10001289-1777017600-1777035600@alertachiapas.com
SUMMARY:¡Vive la Tradición! Llega la Ensarta de Flor de Mayo a Tuxtla
DESCRIPTION:Tuxtla Gutiérrez se viste de gala y aroma con una de sus tradiciones más emblemáticas. El Ayuntamiento Municipal\, a través del Instituto Tuxtleco de Arte y Cultura (ITAC)\, invita a toda la ciudadanía a participar en la celebración de la Ensarta de Flor de Mayo\, un evento que busca preservar y difundir las raíces culturales de nuestra capital. \nDurante esta jornada\, los asistentes podrán sumergirse en la riqueza del patrimonio Zoque a través de diversas actividades diseñadas para toda la familia: \n\n\nBailes Folklóricos: Presentaciones dancísticas que llenarán de color y movimiento el recinto. 💃🕺 \n\n\nMúsica Tradicional: Disfruta de la sonoridad única de la música tradicional Zoque en vivo. 🎶🥁 \n\n\nTalleres de Identidad: Aprende de cerca el arte de la elaboración de Somé y Joyyonaqués\, elementos fundamentales en las ofrendas y festividades regionales. 🌿🌼 \n\n\nNo pierdas la oportunidad de ser parte de este rescate cultural y vivir de cerca nuestras tradiciones más profundas. ¡Te esperamos! \n\nDetalles del Evento: \n\n\n📍 Lugar: Patio Cívico del Ayuntamiento (Tuxtla Gutiérrez). \n\n\n📅 Fecha: 24 de abril. \n\n\n🕒 Hora: De 8:00 a 13:00 h. \n\n\n📝 Actividades: Bailes folklóricos\, música tradicional Zoque\, elaboración de Somé y Joyyonaqués.
URL:https://alertachiapas.com/evento/vive-la-tradicion-llega-la-ensarta-de-flor-de-mayo-a-tuxtla/
LOCATION:Palacio Municipal de Tuxtla Gutierrez\, Tuxtla Gutiérrez\, Chiapas\, 29000\, Mexico
CATEGORIES:Cultura,Evento general
ATTACH;FMTTYPE=image/jpeg:https://alertachiapas.com/wp-content/uploads/2026/04/670794019_1389660949855815_3343047133767712518_n.jpg
END:VEVENT
BEGIN:VEVENT
DTSTART;TZID=America/Mexico_City:20260424T090000
DTEND;TZID=America/Mexico_City:20260425T160000
DTSTAMP:20260422T200239
CREATED:20260423T001652Z
LAST-MODIFIED:20260423T001652Z
UID:10001290-1777021200-1777132800@alertachiapas.com
SUMMARY:¡Sabor y Tradición! Invitan a la Expo-Venta Gastronómica de Adultos Mayores
DESCRIPTION:En el marco de las festividades regionales\, se llevará a cabo la Expo-Venta Gastronómica de Adultos Mayores: Edición Especial San Marcos 2026. Este evento es una oportunidad única para degustar el sazón auténtico de nuestras abuelas y abuelos\, quienes compartirán lo mejor de la comida tradicional chiapaneca. \nLos asistentes podrán disfrutar de una gran variedad de platillos típicos elaborados con recetas ancestrales\, apoyando directamente a los adultos mayores de nuestra comunidad. Es el espacio ideal para convivir en familia\, celebrar nuestras raíces y deleitar el paladar con los sabores que dan identidad a Chiapas. \nDesde guisos tradicionales hasta antojitos regionales\, la oferta gastronómica promete transportar a los visitantes a través de la historia culinaria de nuestro estado en un ambiente de fiesta y tradición. ¡No faltes! \n\nDetalles del Evento: \n\n\n📍 Lugar: A un costado de la Catedral\, sobre el lado de la Av. Central. \n\n\n📅 Fecha: Viernes 24 y sábado 25 de abril de 2026. \n\n\n🕒 Hora: De 9:00 a 16:00 hrs. \n\n\n🍴 Concepto: Expo-Venta de comida tradicional chiapaneca elaborada por adultos mayores. \n\n\n✨ Edición: Especial San Marcos 2026.
URL:https://alertachiapas.com/evento/sabor-y-tradicion-invitan-a-la-expo-venta-gastronomica-de-adultos-mayores/
LOCATION:Catedral Metropolitana de San Marcos\, Av. Central y Calle Central SN\, Tuxtla Gutiérrez\, Chiapas\, 29000\, Mexico
CATEGORIES:Expo venta
ATTACH;FMTTYPE=image/jpeg:https://alertachiapas.com/wp-content/uploads/2026/04/WhatsApp-Image-2026-04-22-at-3.12.44-PM.jpeg
END:VEVENT
BEGIN:VEVENT
DTSTART;VALUE=DATE:20260425
DTEND;VALUE=DATE:20260426
DTSTAMP:20260422T200239
CREATED:20260228T015115Z
LAST-MODIFIED:20260228T015115Z
UID:10001232-1777075200-1777161599@alertachiapas.com
SUMMARY:¡Pura candela! Tuxtla recibirá el festival "Brasa & Fuego del Sur"
DESCRIPTION:Para los amantes del buen corte y el olor a leña\, llega a la capital chiapaneca la mejor experiencia gastronómica de asado: el festival “Brasa & Fuego del Sur”. La cita es el próximo 25 de abril de 2026\, en un evento que promete ser un espacio lleno de sabor\, fiesta y diversión para todos los asistentes. \nFecha: 25 de abril de 2026. \nDetalles del Evento: Festival gastronómico especializado en asados. Cuenta con degustación de expositores\, shows en vivo y tres áreas de experiencia (Brasa\, Fuego y Mu). \nVenta de Boletos: En línea por Fan Access y en Hotel Hilton Garden Inn / Galerías Boulevard.
URL:https://alertachiapas.com/evento/pura-candela-tuxtla-recibira-el-festival-brasa-fuego-del-sur/
LOCATION:Tuxtla Gutiérrez\, Tuxtla Gutiérrez\, Select a State:\, 29000\, Mexico
CATEGORIES:Evento general
ATTACH;FMTTYPE=image/jpeg:https://alertachiapas.com/wp-content/uploads/2026/02/644292752_1338987998268084_6386146611524537445_n.jpg
ORGANIZER;CN="Hilton Garden inn Tuxtla Gutierrez":MAILTO:TGZGI_GM@hilton.com
END:VEVENT
BEGIN:VEVENT
DTSTART;TZID=America/Mexico_City:20260425T170000
DTEND;TZID=America/Mexico_City:20260425T190000
DTSTAMP:20260422T200239
CREATED:20260423T003447Z
LAST-MODIFIED:20260423T003447Z
UID:10001292-1777136400-1777143600@alertachiapas.com
SUMMARY:Invitan a la tradicional felicitación a San Marcos en Tuxtla
DESCRIPTION:Como ya es una tradición que llena de color y fe las calles del corazón de Chiapas\, el señor Gustavo Vázquez Velázquez\, conocido cariñosamente como “Pecho Gordo”\, extiende una cálida invitación a toda la ciudadanía para participar en la celebración en honor a San Marcos. \nEste evento anual es una de las manifestaciones culturales más esperadas por la comunidad\, donde la devoción y la identidad chiapaneca se unen en un solo festejo. Se invita a los asistentes a sumarse con alegría y\, de ser posible\, portar con orgullo el traje de Parachico y de Chiapaneca\, para preservar las tradiciones que nos dan identidad. La familia organizadora agradece de antemano la valiosa asistencia de amigos\, vecinos y público en general para hacer de esta felicitación un momento inolvidable. \n\nDetalles del Evento\n\n\nLugar: 4ta Oriente entre 1ra y 2da Norte\, Barrio San Jacinto\, #261. \n\n\nFecha: Sábado 25 de abril de 2026. \n\n\nHora: 5:00 PM. \n\n\nRequisito especial: Se sugiere asistir con traje de Parachico y Chiapaneca.
URL:https://alertachiapas.com/evento/invitan-a-la-tradicional-felicitacion-a-san-marcos-en-tuxtla/
LOCATION:Casa Grupo de Parachicos San Jacinto\, 4ta Oriente entre 1ra y 2da Norte\, Barrio San Jacinto\, #261.\, Tuxtla Gutiérrez\, Chiapas\, 29020\, Mexico
CATEGORIES:Cultura,Danza y Baile
ATTACH;FMTTYPE=image/jpeg:https://alertachiapas.com/wp-content/uploads/2026/04/WhatsApp-Image-2026-04-15-at-9.59.23-AM.jpeg
END:VEVENT
BEGIN:VEVENT
DTSTART;TZID=America/Mexico_City:20260425T180000
DTEND;TZID=America/Mexico_City:20260425T210000
DTSTAMP:20260422T200239
CREATED:20260423T004321Z
LAST-MODIFIED:20260423T004321Z
UID:10001293-1777140000-1777150800@alertachiapas.com
SUMMARY:Invitan al tradicional recorrido de Chunta en honor a San Marcos
DESCRIPTION:La algarabía y la tradición se apoderan de las calles con el esperado anuncio de “La Pandilla de Tía Mari”\, quienes tienen el honor de convocar a la ciudadanía al tradicional recorrido de Chunta en honor a San Marcos. Este evento promete llenar de música\, danza y folclor el centro de la ciudad\, manteniendo viva una de las expresiones más auténticas de nuestra cultura. \nSe invita a todos los participantes a no olvidar su traje para sumarse a la columna de alegría que recorrerá las vialidades principales. Bajo el lema “¡Arrecha la que no grité!”\, la invitación está abierta para quienes deseen vivir de cerca la fe y la fiesta que caracteriza a estas celebraciones patronales. El punto de reunión será en un conocido establecimiento de antojitos\, desde donde partirá el contingente para rendir tributo al santo patrono. \n\nDetalles del Evento\n\n\nLugar: 2a Oriente Sur #723\, Col. Centro (Antojitos Tía Fa). \n\n\nFecha: 25 de abril de 2026. \n\n\nHora: 6:00 PM. \n\n\nDetalles: No olvides llevar tu traje y toda la actitud para el recorrido.
URL:https://alertachiapas.com/evento/invitan-al-tradicional-recorrido-de-chunta-en-honor-a-san-marcos/
LOCATION:Antojitos Tía Fa\, 2a Oriente Sur #723\, Col. Centro\, Tuxtla Gutiérrez\, Chiapas\, 29020\, Mexico
CATEGORIES:Danza y Baile
ATTACH;FMTTYPE=image/jpeg:https://alertachiapas.com/wp-content/uploads/2026/04/670296842_2493638224441112_8535878551052390051_n-1.jpg
END:VEVENT
BEGIN:VEVENT
DTSTART;TZID=America/Mexico_City:20260426T090000
DTEND;TZID=America/Mexico_City:20260426T190000
DTSTAMP:20260422T200239
CREATED:20260423T002735Z
LAST-MODIFIED:20260423T002735Z
UID:10001291-1777194000-1777230000@alertachiapas.com
SUMMARY:Festejarán el Día de las Niñas y los Niños en Convivencia Infantil
DESCRIPTION:El Ayuntamiento de Tuxtla Gutiérrez invita a las familias chiapanecas a una gran celebración en honor a los más pequeños del hogar. Este próximo domingo\, el Centro de Convivencia Infantil se transformará en el escenario principal para festejar el Día de las Niñas y los Niños con un itinerario lleno de sorpresas\, juegos y regalos. \nDesde temprano\, los asistentes podrán disfrutar de una jornada cargada de diversión que incluye juegos mecánicos gratuitos (en juegos seleccionados) durante la mañana\, seguido de una tarde llena de magia con música y shows infantiles. Para cerrar con broche de oro\, se realizarán rifas donde podrá participar toda la familia. \nAdemás de las actividades programadas\, el parque contará con sus clásicos atractivos como el trenecito\, paseos en ponis\, motos\, brincolines y se hará entrega de box lunches para los pequeños. ¡Es una cita imperdible para vivir la alegría de la infancia en Tuxtla! 🍦🎡 \n\nDetalles del Evento: \n\n\n📍 Lugar: Centro de Convivencia Infantil\, Tuxtla Gutiérrez. \n\n\n📅 Fecha: Domingo 26 de abril. \n\n\n🕒 Horario y Actividades: \n\n\n09:00 am a 12:00 pm: Juegos mecánicos gratis para niñas y niños (seleccionados). \n\n\n05:00 pm: Música y shows infantiles. \n\n\n06:00 pm: Rifas para toda la familia. \n\n\n\n\n✨ Atractivos adicionales: Brincolines\, Box lunch\, Trenecito\, Motos y Ponis.
URL:https://alertachiapas.com/evento/festejaran-el-dia-de-las-ninas-y-los-ninos-en-convivencia-infantil/
LOCATION:Centro de Convivencia Infantil\, Calzada al sumidero\, Las Granjas\, tuxtla gutiérrez\, Chiapas\, 29000\, Mexico
CATEGORIES:Evento general
ATTACH;FMTTYPE=image/jpeg:https://alertachiapas.com/wp-content/uploads/2026/04/5f3001e3-8f17-4a27-be77-1625a249de1a.jpg
END:VEVENT
BEGIN:VEVENT
DTSTART;TZID=America/Mexico_City:20260501T200000
DTEND;TZID=America/Mexico_City:20260501T230000
DTSTAMP:20260422T200239
CREATED:20260414T001657Z
LAST-MODIFIED:20260414T001657Z
UID:10001283-1777665600-1777676400@alertachiapas.com
SUMMARY:¡A bailar con "La Chona"! Los Tucanes de Tijuana llegan al Foro Chiapas
DESCRIPTION:La música norteña resonará con fuerza en la capital chiapaneca con la presentación de Los Tucanes de Tijuana\, quienes traerán su cargamento de éxitos al Foro Chiapas. El evento\, presentado por Royal Producciones e Imperia Signature Entertainment\, promete ser una noche inolvidable para los amantes del género el próximo viernes 01 de mayo.
URL:https://alertachiapas.com/evento/a-bailar-con-la-chona-los-tucanes-de-tijuana-llegan-al-foro-chiapas/
LOCATION:Poliforum Chiapas\, Andrés Serra Rojas S/N\, El Retiro\, tuxtla gutiérrez\, Chiapas\, 29000\, Mexico
CATEGORIES:Concierto
ATTACH;FMTTYPE=image/jpeg:https://alertachiapas.com/wp-content/uploads/2026/04/661492117_18051207983533460_4103843156508612419_n.jpg
ORGANIZER;CN="Holiday Inn":MAILTO:reservas.hitgz@gfarrera.com.mx
END:VEVENT
BEGIN:VEVENT
DTSTART;VALUE=DATE:20260503
DTEND;VALUE=DATE:20260504
DTSTAMP:20260422T200239
CREATED:20260130T215012Z
LAST-MODIFIED:20260130T215012Z
UID:10001166-1777766400-1777852799@alertachiapas.com
SUMMARY:¡A conquistar la cima! Invitan al Trail "Mujeres de Montaña" 2026 en San Cristóbal
DESCRIPTION:Las montañas de los Altos de Chiapas serán el escenario de una prueba de resistencia y empoderamiento con la llegada de la carrera “Mujeres de Montaña” (Asaltamontes Female). El evento se llevará a cabo el próximo domingo 3 de mayo de 2026 en el paraje Montetik\, ubicado en San Cristóbal de las Casas. \nLugar: Montetik\, San Cristóbal de las Casas\, Chiapas. \nFecha: Domingo 3 de mayo de 2026. \nDetalles del Evento: Carrera de trail exclusiva para mujeres con distancias de 7K\, 15K y 21K. Incluye kit completo y premiación por categorías. \nCierre de inscripciones: 22 de abril de 2026. \nLos costos de inscripción varían según la distancia elegida: \n7 KM: $400.00 pesos. \n15 KM: $450.00 pesos. \n21 KM: $500.00 pesos.
URL:https://alertachiapas.com/evento/a-conquistar-la-cima-invitan-al-trail-mujeres-de-montana-2026-en-san-cristobal/
LOCATION:MonteTik San Cristóbal\, Artículo 115 y en el aguaje ejido la albarada\, San Cristóbal\, Chiapas\, 29295\, Mexico
CATEGORIES:Deportes
ATTACH;FMTTYPE=image/jpeg:https://alertachiapas.com/wp-content/uploads/2026/01/608994819_122270393300205376_3136209586344777898_n.jpg
ORGANIZER;CN="Mujeres de Monta%C3%B1a":MAILTO:mujersdemontana@gmail.com
END:VEVENT
BEGIN:VEVENT
DTSTART;TZID=America/Mexico_City:20260503T070000
DTEND;TZID=America/Mexico_City:20260503T100000
DTSTAMP:20260422T200239
CREATED:20260410T192953Z
LAST-MODIFIED:20260410T192953Z
UID:10001281-1777791600-1777802400@alertachiapas.com
SUMMARY:¡A correr con causa! Presentan la 1ra Carrera del Constructor 5K en Tuxtla
DESCRIPTION:La Secretaría de Infraestructura de Chiapas invita a la ciudadanía y a la comunidad de la construcción a participar en la “1ra Carrera del Constructor 5K”\, un evento deportivo que combina la promoción de la salud con la solidaridad social. Esta competencia se realizará con causa\, ya que lo recaudado será destinado a beneficio del DIF Chiapas. \nLa cita deportiva tendrá lugar el domingo 3 de mayo de 2026 a partir de las 7:00 horas. El recorrido iniciará en la Puerta 3 del Parque Recreativo y Deportivo Caña Hueca y finalizará en las instalaciones de la Secretaría de Infraestructura. Como requisito de inscripción\, cada participante deberá donar tres insumos no perecederos (como arroz\, frijol\, atún\, aceite o leche en polvo).
URL:https://alertachiapas.com/evento/a-correr-con-causa-presentan-la-1ra-carrera-del-constructor-5k-en-tuxtla/
LOCATION:Parque Recreativo Caña Hueca\, Blvd. Belisario Domínguez SN\, tuxtla gutiérrez\, chiapas\, Mexico
CATEGORIES:Deportes
ATTACH;FMTTYPE=image/jpeg:https://alertachiapas.com/wp-content/uploads/2026/04/670513022_1759924471881735_7060576087403163802_n.jpg
END:VEVENT
BEGIN:VEVENT
DTSTART;TZID=America/Mexico_City:20260506T090000
DTEND;TZID=America/Mexico_City:20260506T233000
DTSTAMP:20260422T200239
CREATED:20251217T014834Z
LAST-MODIFIED:20251217T014834Z
UID:10001138-1778058000-1778110200@alertachiapas.com
SUMMARY:"Tu Maliante Bebé" Tour: El Malilla Llega al Polyforum Chiapas en Mayo
DESCRIPTION:La escena urbana y el género reguetón se preparan para recibir a uno de sus exponentes más populares: El Malilla. La Esquina Inc. presenta el “Tu Maliante Tour Bebé”\, que hará una parada en el Polyforum Chiapas el sábado 9 de mayo. \nEste evento forma parte de su gira oficial de 2026 y promete ser una de las presentaciones más esperadas para los seguidores del artista. \nLa venta de boletos se realizará a través del sistema Eticket (http://www.eticket.mx). La Gran Venta HSBC exclusiva para tarjetahabientes comenzará el 18 de diciembre para Tarjetas de Crédito y se extenderá al 19 de diciembre para Tarjetas de Crédito y Débito\, ofreciendo la ventaja de 3 y 5 meses sin intereses (aplican restricciones). La Venta General para el público inicia a partir del 20 de diciembre. Este concierto es presentado por La Esquina Inc. y cuenta con la participación de OCESA y Apodaca Group. \n\nDetalles del Evento (Concentrado)\n\n\nLugar: Polyforum Chiapas \n\n\nFecha: Sábado 9 de mayo (Tour Oficial 2026) \n\n\nHora: No especificada en la imagen\, se sugiere consultar el programa oficial de Eticket. \n\n\nDetalles del Evento: Concierto del artista El Malilla (Tour “Tu Maliante Bebé”)\, presentado por La Esquina Inc. \n\n\nVenta de Boletos: \n\n\nGran Venta HSBC (Crédito): 18 de diciembre \n\n\nGran Venta HSBC (Crédito y Débito): 19 de diciembre \n\n\nVenta General: A partir del 20 de diciembre \n\n\nPlataforma: Eticket (http://www.eticket.mx)
URL:https://alertachiapas.com/evento/tu-maliante-bebe-tour-el-malilla-llega-al-polyforum-chiapas-en-mayo-2/
LOCATION:Poliforum Chiapas\, Andrés Serra Rojas S/N\, El Retiro\, tuxtla gutiérrez\, Chiapas\, 29000\, Mexico
CATEGORIES:Concierto
ATTACH;FMTTYPE=image/jpeg:https://alertachiapas.com/wp-content/uploads/2025/12/600298945_1199502888942506_1693711444830368483_n.jpg
END:VEVENT
BEGIN:VEVENT
DTSTART;TZID=America/Mexico_City:20260517T200000
DTEND;TZID=America/Mexico_City:20260517T213000
DTSTAMP:20260422T200239
CREATED:20260127T021618Z
LAST-MODIFIED:20260127T021618Z
UID:10001156-1779048000-1779053400@alertachiapas.com
SUMMARY:Gala Internacional en San Cristóbal: El Ballet de Kiev trae "El Lago de los Cisnes" a Chiapas
DESCRIPTION:La majestuosidad de la danza clásica regresa a tierras chiapanecas con una de las obras más emblemáticas de todos los tiempos. El Ballet de Kiev se presentará en el Teatro de la Ciudad Hermanos Domínguez\, en San Cristóbal de Las Casas\, el próximo 27 de marzo de 2026. Esta función forma parte de su esperada gira por los escenarios más prestigiosos de México\, consolidando el regreso de la compañía al país.
URL:https://alertachiapas.com/evento/gala-internacional-en-san-cristobal-el-ballet-de-kiev-trae-el-lago-de-los-cisnes-a-chiapas/
LOCATION:Teatro Hermanos Domínguez\, Diagonal Hermanos Paniagua S/N\, San Ramon\, San Cristóbal de Las Casas\, Chiapas\, 29264\, Mexico
CATEGORIES:Danza y Baile
ATTACH;FMTTYPE=image/jpeg:https://alertachiapas.com/wp-content/uploads/2026/01/capa-negra-ballet.jpg
END:VEVENT
BEGIN:VEVENT
DTSTART;TZID=America/Mexico_City:20260607T060000
DTEND;TZID=America/Mexico_City:20260607T100000
DTSTAMP:20260422T200239
CREATED:20260407T003433Z
LAST-MODIFIED:20260407T003433Z
UID:10001277-1780812000-1780826400@alertachiapas.com
SUMMARY:¡Reto en la montaña! Teopisca se prepara para el "Tem Pist Ka" 2026 este 7 de junio
DESCRIPTION:El municipio de Teopisca\, Chiapas\, se convertirá en el epicentro del trail running el próximo 7 de junio con la realización del Desafío a la Montaña “Tem Pist Ka” – Chakte Xun Chak. Este evento deportivo invita a corredores y entusiastas de la naturaleza a poner a prueba su resistencia en un entorno que promete ser tan místico como exigente. \nPara esta edición\, la organización ha diseñado tres rutas que se adaptan a distintos niveles de preparación: \n8KM (Recreativa): Ideal para quienes inician en el senderismo o quieren disfrutar del paisaje a un ritmo moderado. \n15KM (Competitiva): Un reto intermedio para corredores con experiencia en montaña. \n21KM (Competitiva): La prueba máxima del evento\, diseñada para atletas que buscan superar sus límites personales.
URL:https://alertachiapas.com/evento/reto-en-la-montana-teopisca-se-prepara-para-el-tem-pist-ka-2026-este-7-de-junio/
LOCATION:Parque Central de Teopisca\, Comitán de Domínguez - San Cristóbal de Las Casas 117\, San Sebastián\, 29410 Teopisca\, Chis.\, Teopisca\, Chiapas\, 29410
CATEGORIES:Deportes
ATTACH;FMTTYPE=image/jpeg:https://alertachiapas.com/wp-content/uploads/2026/04/656893469_925089000486336_3861211590369369074_n.jpg
ORGANIZER;CN="Draft Marketing":MAILTO:draft.marketing20@gmail.com
END:VEVENT
BEGIN:VEVENT
DTSTART;TZID=America/Mexico_City:20260612T080000
DTEND;TZID=America/Mexico_City:20260612T170000
DTSTAMP:20260422T200239
CREATED:20260414T004113Z
LAST-MODIFIED:20260414T004113Z
UID:10001284-1781251200-1781283600@alertachiapas.com
SUMMARY:¡Papa esta de regreso! Chayanne llega a Tuxtla Gutiérrez con su gira "Bailemos Otra Vez"
DESCRIPTION:¡Prepárate\, Chiapas! El icónico cantante puertorriqueño\, Chayanne\, ha confirmado su visita a la capital del estado para ofrecer lo que promete ser el concierto más esperado por el público femenino. Gracias a la organización de Apodaca Group\, el “Papá de México” se presentará en Tuxtla Gutiérrez como parte de su aclamada gira “Bailemos Otra Vez Tour 2025”. \nEl magno evento tendrá lugar en el Foro Chiapas el próximo 12 de junio\, donde los asistentes podrán disfrutar de una noche llena de ritmo\, romanticismo y los grandes éxitos que han marcado su trayectoria.
URL:https://alertachiapas.com/evento/papa-esta-de-regreso-chayanne-llega-a-tuxtla-gutierrez-con-su-gira-bailemos-otra-vez/
LOCATION:Foro Chiapas\, Carretera Juan Crispin\, Carr. Chicoasen Km. 2.5\, Plan de Ayala\, tuxtla gutiérrez\, chiapas\, 29000\, Mexico
CATEGORIES:Concierto
ATTACH;FMTTYPE=image/jpeg:https://alertachiapas.com/wp-content/uploads/2026/04/651238264_122313069476017030_1441379670679488918_n.jpg
END:VEVENT
BEGIN:VEVENT
DTSTART;TZID=America/Mexico_City:20260829T213000
DTEND;TZID=America/Mexico_City:20260829T233000
DTSTAMP:20260422T200239
CREATED:20260326T005616Z
LAST-MODIFIED:20260326T005616Z
UID:10001275-1788039000-1788046200@alertachiapas.com
SUMMARY:El rock elegante de Enjambre aterrizará en Tuxtla Gutiérrez con su "Daños Luz Tour"
DESCRIPTION:Los corazones rockeros de Chiapas tienen una cita marcada en el calendario. La banda zacatecana Enjambre regresará a la capital chiapaneca este 2026 como parte de su gira “Daños Luz Tour”\, prometiendo una noche llena de nostalgia\, sintetizadores y los himnos que los han consolidado como una de las agrupaciones más elegantes de la escena nacional.
URL:https://alertachiapas.com/evento/el-rock-elegante-de-enjambre-aterrizara-en-tuxtla-gutierrez-con-su-danos-luz-tour/
LOCATION:Poliforum Chiapas\, Andrés Serra Rojas S/N\, El Retiro\, tuxtla gutiérrez\, Chiapas\, 29000\, Mexico
CATEGORIES:Concierto
ATTACH;FMTTYPE=image/jpeg:https://alertachiapas.com/wp-content/uploads/2026/03/e8686fa9-6662-47d7-9203-982a94dfc734.jpeg
END:VEVENT
END:VCALENDAR