BEGIN:VCALENDAR
VERSION:2.0
PRODID:-//Alerta Chiapas - ECPv6.15.20//NONSGML v1.0//EN
CALSCALE:GREGORIAN
METHOD:PUBLISH
X-WR-CALNAME:Alerta Chiapas
X-ORIGINAL-URL:https://alertachiapas.com
X-WR-CALDESC:Eventos para Alerta Chiapas
REFRESH-INTERVAL;VALUE=DURATION:PT1H
X-Robots-Tag:noindex
X-PUBLISHED-TTL:PT1H
BEGIN:VTIMEZONE
TZID:America/Mexico_City
BEGIN:STANDARD
TZOFFSETFROM:-0600
TZOFFSETTO:-0600
TZNAME:CST
DTSTART:20240101T000000
END:STANDARD
END:VTIMEZONE
BEGIN:VEVENT
DTSTART;TZID=America/Mexico_City:20250925T100000
DTEND;TZID=America/Mexico_City:20250926T130000
DTSTAMP:20260422T111927
CREATED:20250924T210612Z
LAST-MODIFIED:20250924T210612Z
UID:10000954-1758794400-1758891600@alertachiapas.com
SUMMARY:Taller de Herbolaria Zoque en Tuxtla: Conoce los secretos de las plantas medicinales
DESCRIPTION:¿Interesado en la sabiduría ancestral y la medicina natural? Te invitamos al Primer Módulo del Taller de Herbolaria Zoque\, una oportunidad única para aprender sobre los usos y propiedades de las plantas medicinales de la región. \nEl taller será impartido por el Biólogo Juan Manuel Jonapá\, un experto en la materia\, quien compartirá sus conocimientos sobre la herbolaria tradicional zoque. Esta es tu oportunidad para reconectar con la naturaleza y aprender a utilizar sus recursos de forma consciente. \nEl evento se llevará a cabo en la Casa de la Cultura Luis Alamimos Guerrero\, un espacio ideal para sumergirse en las tradiciones locales. No te pierdas esta valiosa experiencia\, organizada con la coordinación de Cultura Zoque\, Tradiciones\, Costumbres e Identidad Tuxtleca Intercultural. \nPara más información e inscripciones\, puedes llamar a los siguientes números: 961 116 66 78 y 961 593 12 47. \n\nConcentrado del evento: \n\nEvento: Primer Módulo del Taller de Herbolaria Zoque\nImparte: Biólogo Juan Manuel Jonapá\nFecha: 25 y 26 de septiembre\nHorario del taller: 10:00 a 13:00 horas\nLugar: Casa de la Cultura Luis Alamimos Guerrero\, 1a. Pte. Esquina 2a. Nte.\nHorario de atención: Lunes a viernes\, 9:00 a 15:00 horas\nInformación y registro: 961 116 66 78 y 961 593 12 47\nDetalles: Evento coordinado por Cultura Zoque\, Tradiciones\, Costumbres e Identidad Tuxtleca Intercultural.
URL:https://alertachiapas.com/evento/taller-de-herbolaria-zoque-en-tuxtla-conoce-los-secretos-de-las-plantas-medicinales/
LOCATION:Casa de la Cultura Luis Alaminos\, 1a poniente esquina con 2a norte\, Tuxtla Gutiérrez\, Chiapas\, 29000\, Mexico
CATEGORIES:taller
ATTACH;FMTTYPE=image/jpeg:https://alertachiapas.com/wp-content/uploads/2025/09/548848136_1189095069917046_7029430131169825742_n.jpg
END:VEVENT
BEGIN:VEVENT
DTSTART;TZID=America/Mexico_City:20250925T180000
DTEND;TZID=America/Mexico_City:20250925T200000
DTSTAMP:20260422T111927
CREATED:20250924T210341Z
LAST-MODIFIED:20250924T210341Z
UID:10000953-1758823200-1758830400@alertachiapas.com
SUMMARY:“Siete” llega al Teatro Francisco I. Madero
DESCRIPTION:La compañía La Nube Roja presentará en Tuxtla Gutiérrez la puesta en escena “Siete”\, una obra escrita por Saúl Enríquez y dirigida por Manuel Jiménez\, que promete cautivar al público con su propuesta teatral contemporánea. \nEl evento se llevará a cabo este miércoles 25 de septiembre a las 18:00 horas en el Teatro Francisco I. Madero\, como parte de las actividades culturales promovidas por el Consejo Estatal para las Culturas y las Artes de Chiapas (CONECULTA). \nLa obra invita a la reflexión a través de un montaje innovador que se suma a la cartelera artística del estado\, acercando al público chiapaneco a producciones de gran nivel. \n\n📌 Detalles del evento:\n\n\nEvento: Obra de teatro “Siete” \n\n\nCompañía: La Nube Roja \n\n\nAutor: Saúl Enríquez \n\n\nDirección: Manuel Jiménez \n\n\nFecha: 25 de septiembre \n\n\nHora: 18:00 horas \n\n\nLugar: Teatro Francisco I. Madero\, Tuxtla Gutiérrez \n\n\nOrganiza: Consejo Estatal para las Culturas y las Artes de Chiapas (CONECULTA)
URL:https://alertachiapas.com/evento/siete-llega-al-teatro-francisco-i-madero/
LOCATION:Teatro de la Ciudad Francisco I Madero\, Teatro Francisco I. Madero\, Av. 2a. Nte. Ote.\, San Marcos\, Tuxtla Gutierrez\, Chis.\, 29000\, Mexico
CATEGORIES:Teatro
ATTACH;FMTTYPE=image/jpeg:https://alertachiapas.com/wp-content/uploads/2025/09/3f6ee1c9-60ae-4af4-8825-3a3d9d1698d5.jpg
END:VEVENT
END:VCALENDAR