BEGIN:VCALENDAR
VERSION:2.0
PRODID:-//Alerta Chiapas - ECPv6.15.20//NONSGML v1.0//EN
CALSCALE:GREGORIAN
METHOD:PUBLISH
X-WR-CALNAME:Alerta Chiapas
X-ORIGINAL-URL:https://alertachiapas.com
X-WR-CALDESC:Eventos para Alerta Chiapas
REFRESH-INTERVAL;VALUE=DURATION:PT1H
X-Robots-Tag:noindex
X-PUBLISHED-TTL:PT1H
BEGIN:VTIMEZONE
TZID:America/Mexico_City
BEGIN:STANDARD
TZOFFSETFROM:-0600
TZOFFSETTO:-0600
TZNAME:CST
DTSTART:20240101T000000
END:STANDARD
END:VTIMEZONE
BEGIN:VEVENT
DTSTART;TZID=America/Mexico_City:20250520T170000
DTEND;TZID=America/Mexico_City:20250520T193000
DTSTAMP:20260420T043148
CREATED:20250519T232823Z
LAST-MODIFIED:20250519T232823Z
UID:10000589-1747760400-1747769400@alertachiapas.com
SUMMARY:¡Participa y hazte escuchar! Taller de Mecanismos de Participación Ciudadana en San Roque
DESCRIPTION:Vecinas y vecinos del barrio San Roque\, ¡su voz cuenta! 🧏‍♀️📢 Este martes 20 de mayo se llevará a cabo el Taller de Mecanismos de Participación Ciudadana\, una actividad impulsada por el Comité de Acción Ciudadana San Roque con el objetivo de fortalecer la participación social e impulsar proyectos comunitarios como la mejora del parque del barrio. 🌳👨‍👩‍👧‍👦 \nEl evento contará con la presencia especial del Instituto de Elecciones y Participación Ciudadana (IEPC)\, quienes compartirán herramientas clave para que como ciudadanía podamos organizarnos\, tomar decisiones colectivas y ejercer nuestros derechos de manera efectiva. 🗳️🧠 \nLa invitación es abierta a todas y todos los interesados en construir un mejor entorno a través de la acción comunitaria. ¡No faltes\, tu participación es fundamental! 🤝 \n📍 Lugar: Librería Proveedora Mcg📌 Dirección: 6ta Oriente Sur #451\, entre 3a y 4a Sur📅 Fecha: Martes 20 de mayo🕔 Hora: 5:00 p.m.👥 Invitados especiales: Instituto de Elecciones y Participación Ciudadana (IEPC)🎯 Objetivo: Fortalecer la participación ciudadana en proyectos comunitarios \n🪧 Frase clave: “¡Juntos\, construimos el parque que queremos!”
URL:https://alertachiapas.com/evento/participa-y-hazte-escuchar-taller-de-mecanismos-de-participacion-ciudadana-en-san-roque/
LOCATION:Librería Proveedora Mcg\, 6ta Oriente Sur #451\, entre 3a y 4a Sur\, Tuxtla Gutiérrez\, Chiapas\, Mexico
CATEGORIES:taller
ATTACH;FMTTYPE=image/jpeg:https://alertachiapas.com/wp-content/uploads/2025/05/70695605-8579-4311-8f3b-9ab27e0fc19f.jpg
END:VEVENT
BEGIN:VEVENT
DTSTART;TZID=America/Mexico_City:20250520T173000
DTEND;TZID=America/Mexico_City:20250520T193000
DTSTAMP:20260420T043148
CREATED:20250516T004425Z
LAST-MODIFIED:20250516T004425Z
UID:10000583-1747762200-1747769400@alertachiapas.com
SUMMARY:¡Explosión de Color Infantil en "Sinergia de Colores"!
DESCRIPTION:¡Atención a todos los amantes del arte y las familias de Tuxtla Gutiérrez! 📢 No se pueden perder la encantadora Exposición Pictórica Infantil “Sinergia de colores”. 🤩 Sumérjanse en un mundo de imaginación y creatividad a través de las obras de pequeños artistas llenos de talento. 👧👦✨ \nLa inauguración será el martes 20 de mayo a las 17:30 horas (5:30 PM) El evento se llevará a cabo en el emblemático Teatro Francisco I. Madero\, ubicado en 📍 2a Oriente y 2a Norte\, Tuxtla Gutiérrez\, Chiapas. ¡Un espacio cultural para celebrar el arte desde temprana edad! 🎭 \n¡La mejor parte es que la entrada es libre! 🥳 Así que no hay excusas para no disfrutar de esta maravillosa muestra de arte infantil. Además\, la exposición permanecerá abierta al público del 20 al 29 de mayo\, brindando varias oportunidades para visitarla. 🗓️ \nEste evento es organizado con el apoyo de diversas instituciones comprometidas con el arte y la cultura\, incluyendo el Consejo Estatal para las Culturas y las Artes de Chiapas\, Teatro\, el Ayuntamiento de Tuxtla Gutiérrez 2024-2027\, el ITAC (Instituto Tuxtleco de Arte y Cultura)\, Fabregas Arte Talleres\, y Arte Talleres. 🤝 ¡Una unión de esfuerzos para promover la expresión artística en los niños! \n¡Vengan a celebrar la creatividad y el talento de los más pequeños en “Sinergia de colores”! ¡Será una experiencia inspiradora para todas las edades! 🎉 \nConcentrado del Evento: \n\nEvento: Exposición Pictórica Infantil “Sinergia de colores” 🎨🌈\nLugar: 📍 Teatro Francisco I. Madero\, 2a Oriente y 2a Norte\, Tuxtla Gutiérrez\, Chiapas\nInauguración: 🗓️ Martes 20 de mayo\nHora: 🕔 17:30 horas (5:30 PM)\nPermanencia: Del 20 al 29 de mayo 🗓️\nDetalles: Entrada libre 🥳\nOrganizan: Consejo Estatal para las Culturas y las Artes de Chiapas\, Teatro\, Ayuntamiento de Tuxtla Gutiérrez 2024-2027\, ITAC\, Fabregas Arte Talleres\, Arte Talleres. 🤝
URL:https://alertachiapas.com/evento/explosion-de-color-infantil-en-sinergia-de-colores/
LOCATION:Teatro de la Ciudad Francisco I Madero\, Teatro Francisco I. Madero\, Av. 2a. Nte. Ote.\, San Marcos\, Tuxtla Gutierrez\, Chis.\, 29000\, Mexico
CATEGORIES:Arte
ATTACH;FMTTYPE=image/jpeg:https://alertachiapas.com/wp-content/uploads/2025/05/497562882_1088490613310826_4481415756244605153_n.jpg
END:VEVENT
END:VCALENDAR