BEGIN:VCALENDAR
VERSION:2.0
PRODID:-//Alerta Chiapas - ECPv6.15.20//NONSGML v1.0//EN
CALSCALE:GREGORIAN
METHOD:PUBLISH
X-WR-CALNAME:Alerta Chiapas
X-ORIGINAL-URL:https://alertachiapas.com
X-WR-CALDESC:Eventos para Alerta Chiapas
REFRESH-INTERVAL;VALUE=DURATION:PT1H
X-Robots-Tag:noindex
X-PUBLISHED-TTL:PT1H
BEGIN:VTIMEZONE
TZID:America/Mexico_City
BEGIN:STANDARD
TZOFFSETFROM:-0600
TZOFFSETTO:-0600
TZNAME:CST
DTSTART:20240101T000000
END:STANDARD
END:VTIMEZONE
BEGIN:VEVENT
DTSTART;TZID=America/Mexico_City:20250327T100000
DTEND;TZID=America/Mexico_City:20250327T140000
DTSTAMP:20260421T154301
CREATED:20250325T232611Z
LAST-MODIFIED:20250325T232611Z
UID:10000435-1743069600-1743084000@alertachiapas.com
SUMMARY:Primer Encuentro con Parteras de Pueblos Originarios 2025
DESCRIPTION:n el marco del Año de la Mujer Indígena\, Chiapas será sede del Primer Encuentro con Parteras de Pueblos Originarios\, un evento que reunirá a sabias y guardianas de la vida para compartir conocimientos y fortalecer su labor en la salud materna y comunitaria. \n🧑‍🍼 Objetivo: Este encuentro busca reconocer el papel fundamental de las parteras en las comunidades indígenas\, fomentar el intercambio de saberes ancestrales y generar estrategias para mejorar la atención materno-infantil en la región. \n📍 Lugar: La Albarrada\, San Cristóbal de las Casas\, Chiapas📆 Fecha: 25 de marzo de 2025⏰ Hora: 10:00 A.M. \n🎗 Organizan:🔹 Secretaría de la Mujer e Igualdad de Género🔹 Secretaría para el Desarrollo Sustentable de los Pueblos Indígenas🔹 Secretaría de Salud \n✨ ¡Una oportunidad única para honrar y aprender de las guardianas de la vida! ✨
URL:https://alertachiapas.com/evento/primer-encuentro-con-parteras-de-pueblos-originarios-2025/
LOCATION:La Albarrada\, María Auxiliadora\, San Cristóbal de Las Casas\, Chiapas\, 29290\, Mexico
CATEGORIES:Evento general
ATTACH;FMTTYPE=image/jpeg:https://alertachiapas.com/wp-content/uploads/2025/03/IMG_0216.jpg
END:VEVENT
BEGIN:VEVENT
DTSTART;TZID=America/Mexico_City:20250329T170000
DTEND;TZID=America/Mexico_City:20250329T190000
DTSTAMP:20260421T154301
CREATED:20250327T021256Z
LAST-MODIFIED:20250327T021256Z
UID:10000444-1743267600-1743274800@alertachiapas.com
SUMMARY:¡San Cristóbal celebra sus raíces! Conversatorio por los 497 años de fundación
DESCRIPTION:El Ayuntamiento Constitucional de San Cristóbal de Las Casas 2024-2027 y la Dirección de Chiapanecultura invitan a la ciudadanía al Conversatorio “Raíces y Alas”\, un espacio para reflexionar y compartir la historia\, identidad y legado de esta emblemática ciudad 🌄🏛️. \nEste conversatorio forma parte de las actividades conmemorativas por los 497 años de la fundación de San Cristóbal de Las Casas\, conocida como la Capital Cultural de Chiapas 🎶📜. Un evento abierto al público para valorar las raíces y el vuelo de una ciudad con historia\, cultura y tradición. \nLa cita es el próximo sábado 29 de marzo en el corazón de la ciudad\, el Kiosco del Parque de la Merced\, a partir de las 17:00 horas 🕔.¡Una oportunidad para escuchar\, aprender y sentir el orgullo de ser parte de esta gran historia! 🥰🌺 \n\n📍 Lugar: Kiosco\, Parque de la Merced\, San Cristóbal de Las Casas \n📅 Fecha: Sábado 29 de marzo \n⏰ Hora: 17:00 horas \n🎯 Detalles: Conversatorio “Raíces y Alas” en el marco de los 497 años de fundación de San Cristóbal de Las Casas. Evento gratuito y abierto al público.
URL:https://alertachiapas.com/evento/san-cristobal-celebra-sus-raices-conversatorio-por-los-497-anos-de-fundacion/
LOCATION:Parque de la Merced\, Calle Diego de Mazariegos s/n\, Barrio de la Merced\, tuxtla gutiérrez\, Chiapas\, Mexico
CATEGORIES:Evento general
ATTACH;FMTTYPE=image/jpeg:https://alertachiapas.com/wp-content/uploads/2025/03/486695875_122148800972547537_8188230609028713574_n.jpg
END:VEVENT
END:VCALENDAR