BEGIN:VCALENDAR
VERSION:2.0
PRODID:-//Alerta Chiapas - ECPv6.15.20//NONSGML v1.0//EN
CALSCALE:GREGORIAN
METHOD:PUBLISH
X-ORIGINAL-URL:https://alertachiapas.com
X-WR-CALDESC:Eventos para Alerta Chiapas
REFRESH-INTERVAL;VALUE=DURATION:PT1H
X-Robots-Tag:noindex
X-PUBLISHED-TTL:PT1H
BEGIN:VTIMEZONE
TZID:America/Mexico_City
BEGIN:STANDARD
TZOFFSETFROM:-0600
TZOFFSETTO:-0600
TZNAME:CST
DTSTART:20240101T000000
END:STANDARD
END:VTIMEZONE
BEGIN:VEVENT
DTSTART;TZID=America/Mexico_City:20250315T100000
DTEND;TZID=America/Mexico_City:20250315T220000
DTSTAMP:20260421T182946
CREATED:20250304T001059Z
LAST-MODIFIED:20250304T001223Z
UID:10000374-1742032800-1742076000@alertachiapas.com
SUMMARY:Jazz & Rhythms Festival 2025: Música y energía en San Cristóbal de Las Casas
DESCRIPTION:¡La espera ha terminado! El Jazz & Rhythms Festival celebra su 10° aniversario con un evento espectacular lleno de sonidos vibrantes y fusiones musicales que te harán bailar sin parar. En un entorno natural único\, disfruta de una jornada con increíbles artistas nacionales e internacionales. \n🎤 Lineup estelar:⭐ Chico Trujillo⭐ La Dame Blanche⭐ Pahua (DJ Set)⭐ A Love Electric⭐ 3 Mother Funkers⭐ Irena & DJ Karim⭐ Doctor Nativo⭐ Carn Crua⭐ Julio Flores⭐ Soy Otro Tú⭐ Ill Melómano \n🌍 Un evento 100% libre de plástico\, comprometido con el medio ambiente y la música consciente. \n📍 Lugar: Parque Natural Encuentro\, San Cristóbal de Las Casas\, Chiapas📅 Fecha: 15 de marzo de 2025⏰ Horario: 10:00 a 22:00 hrs🎟️ Boletos disponibles en: Passline \n💛 “Ritmos que nos unen” ¡No te lo pierdas! 🎶🔥
URL:https://alertachiapas.com/evento/jazz-rhythms-festival-2025-musica-y-energia-en-san-cristobal-de-las-casas/
LOCATION:Parque Natural Encuentro\, P9MV+8R\, Periférico Oriente Sur\, tuxtla gutiérrez\, Chiapas\, 29037\, Mexico
CATEGORIES:Evento general
ATTACH;FMTTYPE=image/jpeg:https://alertachiapas.com/wp-content/uploads/2025/03/IMG_9282.jpg
END:VEVENT
END:VCALENDAR