BEGIN:VCALENDAR
VERSION:2.0
PRODID:-//Alerta Chiapas - ECPv6.15.20//NONSGML v1.0//EN
CALSCALE:GREGORIAN
METHOD:PUBLISH
X-WR-CALNAME:Alerta Chiapas
X-ORIGINAL-URL:https://alertachiapas.com
X-WR-CALDESC:Eventos para Alerta Chiapas
REFRESH-INTERVAL;VALUE=DURATION:PT1H
X-Robots-Tag:noindex
X-PUBLISHED-TTL:PT1H
BEGIN:VTIMEZONE
TZID:America/Mexico_City
BEGIN:STANDARD
TZOFFSETFROM:-0600
TZOFFSETTO:-0600
TZNAME:CST
DTSTART:20240101T000000
END:STANDARD
END:VTIMEZONE
BEGIN:VEVENT
DTSTART;VALUE=DATE:20250420
DTEND;VALUE=DATE:20250428
DTSTAMP:20260421T154251
CREATED:20250319T003357Z
LAST-MODIFIED:20250319T003357Z
UID:10000421-1745107200-1745798399@alertachiapas.com
SUMMARY:Feria de la Primavera y de la Paz 2025 en San Cristóbal de las Casas
DESCRIPTION:Del 20 al 27 de abril de 2025\, San Cristóbal de las Casas\, la “Capital Cultural de Chiapas”\, celebrará una de sus festividades más emblemáticas: la Feria de la Primavera y de la Paz. Este evento\, que combina tradición\, música y cultura\, promete ofrecer una experiencia inolvidable tanto para locales como para visitantes. \nLa feria contará con un elenco espectacular que incluye a reconocidos artistas de distintos géneros: \n\nDomingo 20 de abril – Banda El Recodo\nLunes 21 de abril – Brincos Dieras (show cómico)\nMartes 22 de abril – Trono de México\nMartes 22 de abril – Cena Baile con Matute y la Sonora Santanera\nMiércoles 23 de abril – Beto KC – Destruktivo Tour 2024\nJueves 24 de abril – Miel San Marcos (Día Cristiano)\nViernes 25 de abril – Alex Lora y El Tri\nSábado 26 de abril – Yahir\nDomingo 27 de abril (Gran Cierre) – Óscar Maydon
URL:https://alertachiapas.com/evento/feria-de-la-primavera-y-de-la-paz-2025-en-san-cristobal-de-las-casas/
LOCATION:Parque de Feria\, Eloy Cavazos\, Deportivo San Cristobal\, San Cristóbal de Las Casas\, Chiapas\, 29288\, Mexico
CATEGORIES:Evento general
ATTACH;FMTTYPE=image/jpeg:https://alertachiapas.com/wp-content/uploads/2025/03/e3370097-2ab2-4c1d-963f-ed37f4bae00b.jpg
END:VEVENT
BEGIN:VEVENT
DTSTART;TZID=America/Mexico_City:20250421T090000
DTEND;TZID=America/Mexico_City:20250421T233000
DTSTAMP:20260421T154251
CREATED:20250416T232852Z
LAST-MODIFIED:20250416T232852Z
UID:10000497-1745226000-1745278200@alertachiapas.com
SUMMARY:¡Lunes de carcajadas\, trova y talento local en SanCris! Brincos Dieras llega con show estelar
DESCRIPTION:La Feria de la Primavera y de la Paz 2025 continúa con un lunes repleto de música\, cultura\, humor y emociones en San Cristóbal de Las Casas. Este 21 de abril prepárate para vivir una jornada inolvidable con actividades desde la mañana hasta la noche\, culminando con la esperadísima presentación del comediante Brincos Dieras 🤡✨ en el Teatro del Pueblo. \n🌞 La jornada arranca a las 09:00 a.m. con el 4º Torneo Estatal de Bochas Adaptado en el Campo No. 2 de los SEDEM\, una muestra de inclusión y espíritu deportivo. \n🎶 De las 10:00 a 14:00 horas\, disfruta en el parque central de la música tradicional con la Marimba Orquesta Municipal\, seguida a las 12:00 h por la emotiva Ceremonia de entrega de la Medalla al Mérito Sancristobalense “Dr. Manuel Velasco Suárez” en el Teatro Daniel Zebadúa 🏅. \n🎤 Por la tarde\, el talento vocal se hace presente con la Fase eliminatoria de aficionados al canto “Hugo Isaac Robles Guillén” (16:00 h)\, también en el parque central. \n🎵 El MUSAC se convierte en escenario musical con: \n\n\n17:00 h – Rayo del Monte (Trova) \n\n\n18:00 h – Fidel López (Trova y Canto de Autor) \n\n\n19:00 h – Rogelio Magaña (Multiinstrumentista) \n\n\n🎸 A la misma hora (19:00 h)\, el Teatro del Pueblo abre paso a grupos locales\, como antesala del gran cierre… \n🎉 ¡A las 22:00 horas llega el espectáculo irreverente de “Brincos Dieras”! Un show lleno de comedia\, ocurrencias y mucho humor que pondrá a reír a chicos y grandes por igual 😆🎤 \n\n\n📍 Lugar: San Cristóbal de Las Casas\, Chiapas \n\n\n📅 Fecha: Lunes 21 de abril de 2025 \n\n\n⏰ Horario: De 09:00 a 22:00 horas \n\n\n🎭 Actividades destacadas: Torneo de Bochas Adaptado\, concierto de marimba\, trova\, canto\, música instrumental\, ceremonia de premiación y show de Brincos Dieras \n\n\n🎤 Evento principal: Presentación estelar de Brincos Dieras – 22:00 h (Teatro del Pueblo) \n\n\n🎟️ Entrada libre (excepto donde se indique)
URL:https://alertachiapas.com/evento/lunes-de-carcajadas-trova-y-talento-local-en-sancris-brincos-dieras-llega-con-show-estelar/
LOCATION:Parque de Feria\, Eloy Cavazos\, Deportivo San Cristobal\, San Cristóbal de Las Casas\, Chiapas\, 29288\, Mexico
CATEGORIES:Evento general
ATTACH;FMTTYPE=image/png:https://alertachiapas.com/wp-content/uploads/2025/04/Captura-de-pantalla-2025-04-16-a-las-5.25.09 p.m.png
END:VEVENT
END:VCALENDAR