BEGIN:VCALENDAR
VERSION:2.0
PRODID:-//Alerta Chiapas - ECPv6.15.20//NONSGML v1.0//EN
CALSCALE:GREGORIAN
METHOD:PUBLISH
X-ORIGINAL-URL:https://alertachiapas.com
X-WR-CALDESC:Eventos para Alerta Chiapas
REFRESH-INTERVAL;VALUE=DURATION:PT1H
X-Robots-Tag:noindex
X-PUBLISHED-TTL:PT1H
BEGIN:VTIMEZONE
TZID:America/Mexico_City
BEGIN:STANDARD
TZOFFSETFROM:-0600
TZOFFSETTO:-0600
TZNAME:CST
DTSTART:20240101T000000
END:STANDARD
END:VTIMEZONE
BEGIN:VEVENT
DTSTART;TZID=America/Mexico_City:20250111T170000
DTEND;TZID=America/Mexico_City:20250111T190000
DTSTAMP:20260421T161554
CREATED:20250107T230748Z
LAST-MODIFIED:20250107T230748Z
UID:10000216-1736614800-1736622000@alertachiapas.com
SUMMARY:¡Un Rayo para la Imaginación! Club de Lectura: "La Conjura de los Necios"
DESCRIPTION:El Club de Lectura “Un Rayo para la Imaginación” invita a todos los apasionados de los libros a una sesión dedicada al análisis de la obra maestra “La Conjura de los Necios” del autor John Kennedy Toole. 🧐📖 \nÚnete a este espacio de reflexión\, aprendizaje y discusión sobre uno de los textos más icónicos de la literatura contemporánea. Explora las ideas\, personajes y el trasfondo de esta obra que ha cautivado a generaciones. ✨ \n📆 ¿Cuándo?\nSábado\, 11 de enero de 2025\, a las 5:00 p.m. \n📍 ¿Dónde?\nEn los Consultorios Médicos Comitán “COMECO”\, ubicados en Col. El Rosario\, Mz. 4 Lt. 8. \n🎯 ¿Por qué asistir?\nEste club es una oportunidad perfecta para ampliar tus horizontes\, compartir tus perspectivas con otros lectores y disfrutar de un ambiente enriquecedor. La lectura transforma\, y este es el espacio ideal para vivir esa experiencia. 🌟 \nConcentrado del evento: \n\nLugar: Consultorios Médicos Comitán “COMECO”\, Col. El Rosario\, Mz. 4 Lt. 8.\nFecha: Sábado\, 11 de enero de 2025.\nHora: 5:00 p.m.\nDetalles: Lectura y análisis del libro “La Conjura de los Necios” de John Kennedy Toole.\n\n¡No faltes! La literatura te espera para un viaje inolvidable. 🚀📚
URL:https://alertachiapas.com/evento/un-rayo-para-la-imaginacion-club-de-lectura-la-conjura-de-los-necios/
LOCATION:Consultorios Médicos Comitán\, Ceiba Manzana 4 L8\, Bosques de Comitán 3a Secc\, El Rosario\, Comitán de Domínguez\, Chiapas\, 30064\, Mexico
CATEGORIES:Evento general
ATTACH;FMTTYPE=image/jpeg:https://alertachiapas.com/wp-content/uploads/2025/01/471543331_1019321803567650_4110323064913161765_n.jpg
END:VEVENT
END:VCALENDAR