BEGIN:VCALENDAR
VERSION:2.0
PRODID:-//Alerta Chiapas - ECPv6.15.20//NONSGML v1.0//EN
CALSCALE:GREGORIAN
METHOD:PUBLISH
X-WR-CALNAME:Alerta Chiapas
X-ORIGINAL-URL:https://alertachiapas.com
X-WR-CALDESC:Eventos para Alerta Chiapas
REFRESH-INTERVAL;VALUE=DURATION:PT1H
X-Robots-Tag:noindex
X-PUBLISHED-TTL:PT1H
BEGIN:VTIMEZONE
TZID:America/Mexico_City
BEGIN:STANDARD
TZOFFSETFROM:-0600
TZOFFSETTO:-0600
TZNAME:CST
DTSTART:20240101T000000
END:STANDARD
END:VTIMEZONE
BEGIN:VEVENT
DTSTART;TZID=America/Mexico_City:20250523T100000
DTEND;TZID=America/Mexico_City:20250523T210000
DTSTAMP:20260423T133827
CREATED:20250523T000919Z
LAST-MODIFIED:20250523T000919Z
UID:10000604-1747994400-1748034000@alertachiapas.com
SUMMARY:Comitán celebra los 100 años de Rosario Castellanos
DESCRIPTION:Este viernes 23 de mayo de 2025\, el municipio de Comitán de Domínguez\, Chiapas\, se viste de gala para conmemorar el centenario del natalicio de la escritora chiapaneca Rosario Castellanos Figueroa\, una de las voces más influyentes de la literatura mexicana. Con un emotivo y nutrido programa cultural\, el evento reúne presentaciones literarias\, cine\, poesía\, música y muestras gastronómicas en distintos puntos emblemáticos de la ciudad. 🎭🎶🍲 \nLa programación es completamente gratuita y está dirigida a todo público. Organizado por el Consejo Estatal para las Culturas y las Artes de Chiapas en coordinación con instituciones educativas\, culturales y municipales\, este homenaje es un tributo a la vida y obra de quien fue una firme defensora de los derechos indígenas y las mujeres a través de su pluma. ✍️💜 \n\n📍 Ubicación: Comitán de Domínguez\, Chiapas📅 Fecha: Viernes 23 de mayo de 2025🕒 Horario: Desde las 10:00 a.m. hasta las 9:00 p.m.💵 Entrada: ¡Libre!🎯 Actividades: Cine\, poesía\, presentaciones literarias\, conciertos\, muestras gastronómicas y más.🙌 Organiza: Consejo Estatal para las Culturas y las Artes de Chiapas y aliados institucionales.
URL:https://alertachiapas.com/evento/comitan-celebra-los-100-anos-de-rosario-castellanos/
LOCATION:Teatro de la Ciudad Junchavín\, Comitán de Domínguez\, Comitán de Domínguez\, Chiapas
CATEGORIES:Evento general
ATTACH;FMTTYPE=image/jpeg:https://alertachiapas.com/wp-content/uploads/2025/05/499593989_1041478108169371_7983044756114886485_n.jpg
END:VEVENT
END:VCALENDAR