BEGIN:VCALENDAR
VERSION:2.0
PRODID:-//Alerta Chiapas - ECPv6.15.20//NONSGML v1.0//EN
CALSCALE:GREGORIAN
METHOD:PUBLISH
X-WR-CALNAME:Alerta Chiapas
X-ORIGINAL-URL:https://alertachiapas.com
X-WR-CALDESC:Eventos para Alerta Chiapas
REFRESH-INTERVAL;VALUE=DURATION:PT1H
X-Robots-Tag:noindex
X-PUBLISHED-TTL:PT1H
BEGIN:VTIMEZONE
TZID:America/Mexico_City
BEGIN:STANDARD
TZOFFSETFROM:-0600
TZOFFSETTO:-0600
TZNAME:CST
DTSTART:20240101T000000
END:STANDARD
END:VTIMEZONE
BEGIN:VEVENT
DTSTART;TZID=America/Mexico_City:20250411T080000
DTEND;TZID=America/Mexico_City:20250412T180000
DTSTAMP:20260423T094033
CREATED:20250405T000547Z
LAST-MODIFIED:20250405T000547Z
UID:10000466-1744358400-1744480800@alertachiapas.com
SUMMARY:Talento Chiapas: Visorías de Fútbol en Comitán
DESCRIPTION:📢 ¡Atención jóvenes futbolistas! Llega a Comitán de Domínguez una gran oportunidad para demostrar tu talento en el programa de visorías “Talento Chiapas”. Si sueñas con destacar en el fútbol profesional\, esta es tu chance de ser visto y seleccionado por expertos. \n🏟️ Sede: Unidad Deportiva Municipal de Comitán📅 Fechas: 11 y 12 de abril👕 Indispensable: Presentarse con playera blanca \n✅ Requisitos:📄 Copia del acta de nacimiento🆔 CURP🩺 Certificado médico actualizado \n📅 Horarios y categorías:🔹 Viernes 11 de abril – Varonil 🏃‍♂️🕓 4:00 – 6:00 PM👦 Categorías: 2012\, 2011\, 2010 \n🔹 Sábado 12 de abril – Femenil 🏃‍♀️🕗 8:00 – 10:00 AM👧 Categorías: 2012\, 2011\, 2010\, 2009\, 2008\, 2007 \n📞 Más información: 961 762 3745 (Horario de atención: Lunes a viernes de 9 AM a 5 PM) \n🌟 ¡No pierdas esta oportunidad de brillar en la cancha y llevar tu talento al siguiente nivel! 🌟
URL:https://alertachiapas.com/evento/talento-chiapas-visorias-de-futbol-en-comitan/
LOCATION:Unidad Deportiva Municipal de Comitán\, Cumpata\, 30090\, Comitán de Domínguez\, Chiapas\, Mexico
CATEGORIES:Deportes
ATTACH;FMTTYPE=image/jpeg:https://alertachiapas.com/wp-content/uploads/2025/04/487493284_1081989160632075_8955490814052399645_n.jpg
END:VEVENT
BEGIN:VEVENT
DTSTART;TZID=America/Mexico_City:20250430T180000
DTEND;TZID=America/Mexico_City:20250501T200000
DTSTAMP:20260423T094033
CREATED:20250430T002655Z
LAST-MODIFIED:20250430T002655Z
UID:10000529-1746036000-1746129600@alertachiapas.com
SUMMARY:¡A Bailar se Ha Dicho en Comitán por el Día Internacional de la Danza!
DESCRIPTION:¡Atención\, amantes de la danza y público en general de Comitán\, Chiapas! 📣 Prepárense para celebrar el Día Internacional de la Danza con una programación espectacular que reunirá a diversos grupos y estilos. 🤩 El evento se llevará a cabo en el Auditorio Roberto Cordero Citalán\, del Centro Cultural Rosario Castellanos\, en Comitán de Domínguez\, Chiapas. ¡Y lo mejor de todo es que la entrada es libre! 🥳 \nAquí les presentamos el emocionante programa que les espera: \n🗓️ 30 de abril | 18:00 h \n\nCompañía de Danza Folclórica Alebrije 🎭\nEscuela de Iniciación Artística Asociada al INBAL del Centro Cultural Rosario Castellanos 🌟\nGrupo de Danza Folclórica Paynal 🌸\nDanza Folclórica Ollin Chanum Balam ✨\n\n🗓️ 01 de mayo | 18:00 h \n\nGrupo de Danza Folclórica del Centro Cultural Rosario Castellanos 🏵️\nEscuela de Danza 🩰\nMultidisciplinaria Comitán 🌈\nGrupo de Danza Eclipse 🌙\n\n¡No se pierdan esta increíble oportunidad de disfrutar del talento local y celebrar la belleza y diversidad de la danza! 💃🕺 ¡Los esperamos! \nConcentrado del Evento: \n📍 Lugar: Auditorio Roberto Cordero Citalán\, del Centro Cultural Rosario Castellanos\, Comitán de Domínguez\, Chiapas. 🗓️ Fechas y Horarios: * 29 de abril: 18:00 h * 30 de abril: 18:00 h * 01 de mayo: 18:00 h 🎟️ Detalles: Entrada libre. ¡Disfruta de diversas presentaciones de danza folclórica y contemporánea!
URL:https://alertachiapas.com/evento/a-bailar-se-ha-dicho-en-comitan-por-el-dia-internacional-de-la-danza-5/
LOCATION:Auditorio Roberto Cordero Citalán\, Primera Avenida Ote. Sur 1\, Centro\, 30000\, Comitán de Domínguez\, Chiapas\, Mexico
CATEGORIES:Evento general
ATTACH;FMTTYPE=image/jpeg:https://alertachiapas.com/wp-content/uploads/2025/04/494275820_1083976060425373_1450701108663215429_n.jpg
END:VEVENT
END:VCALENDAR