BEGIN:VCALENDAR
VERSION:2.0
PRODID:-//Alerta Chiapas - ECPv6.15.20//NONSGML v1.0//EN
CALSCALE:GREGORIAN
METHOD:PUBLISH
X-WR-CALNAME:Alerta Chiapas
X-ORIGINAL-URL:https://alertachiapas.com
X-WR-CALDESC:Eventos para Alerta Chiapas
REFRESH-INTERVAL;VALUE=DURATION:PT1H
X-Robots-Tag:noindex
X-PUBLISHED-TTL:PT1H
BEGIN:VTIMEZONE
TZID:America/Mexico_City
BEGIN:STANDARD
TZOFFSETFROM:-0600
TZOFFSETTO:-0600
TZNAME:CST
DTSTART:20240101T000000
END:STANDARD
END:VTIMEZONE
BEGIN:VEVENT
DTSTART;TZID=America/Mexico_City:20250707T170000
DTEND;TZID=America/Mexico_City:20250707T190000
DTSTAMP:20260425T041659
CREATED:20250530T225933Z
LAST-MODIFIED:20250530T225933Z
UID:10000635-1751907600-1751914800@alertachiapas.com
SUMMARY:¡Aprende a Crear y Tocar tu Propio Tambor Tradicional!
DESCRIPTION:¡Atención\, amantes de la música y la tradición! 🎶 “Casa Galería de la Chuntá” y “Los Compadres Amigos del Jerry” te invitan a un taller único: ¡La Elaboración del Tambor Tradicional! \nEn este taller\, no solo aprenderás a construir tu propio tambor\, sino que también te enseñaremos a tocarlo y el carrizos. 🤩 Es una oportunidad fantástica para conectar con nuestras raíces y desarrollar nuevas habilidades musicales. ¡No te quedes fuera! \nEl costo del curso incluye todo el material y las herramientas necesarias para la elaboración de tu tambor. ¡Solo necesitas tus ganas de aprender! ✨ \nDetalles del evento: \n\nEvento: Taller de Elaboración del Tambor Tradicional 🔨\nInicio: Lunes 7 de Julio 🗓️\nHorario: Lunes a Viernes – 5:00 PM ⏰\nLugar: Av. Capitán Vicente López #281\, Galería Casa de La Chuntá 📍\nDetalles del evento: Aprenderás a elaborar tu propio tambor tradicional y a tocarlo\, además de aprender a tocar el carrizo. El costo del curso incluye materiales y herramientas.\n\nPara contacto\, información e inscripciones: \n\n📞 961 438 1375\n\n¡Te esperamos para crear música y tradición juntos! 🎉
URL:https://alertachiapas.com/evento/aprende-a-crear-y-tocar-tu-propio-tambor-tradicional/
LOCATION:Casa Galeria de la Chuntá\, Av. Capitán Vicente López #281\, Barrio de San Jacinto\, Chiapa de Corzo\, chiapas\, 29000\, Mexico
CATEGORIES:taller
ATTACH;FMTTYPE=image/jpeg:https://alertachiapas.com/wp-content/uploads/2025/05/2aa9d843-0fe6-46f8-a53f-49280dfc2476.jpg
END:VEVENT
END:VCALENDAR