BEGIN:VCALENDAR
VERSION:2.0
PRODID:-//Alerta Chiapas - ECPv6.15.20//NONSGML v1.0//EN
CALSCALE:GREGORIAN
METHOD:PUBLISH
X-WR-CALNAME:Alerta Chiapas
X-ORIGINAL-URL:https://alertachiapas.com
X-WR-CALDESC:Eventos para Alerta Chiapas
REFRESH-INTERVAL;VALUE=DURATION:PT1H
X-Robots-Tag:noindex
X-PUBLISHED-TTL:PT1H
BEGIN:VTIMEZONE
TZID:America/Mexico_City
BEGIN:STANDARD
TZOFFSETFROM:-0600
TZOFFSETTO:-0600
TZNAME:CST
DTSTART:20240101T000000
END:STANDARD
END:VTIMEZONE
BEGIN:VEVENT
DTSTART;TZID=America/Mexico_City:20250315T110000
DTEND;TZID=America/Mexico_City:20250315T130000
DTSTAMP:20260425T222622
CREATED:20250312T004502Z
LAST-MODIFIED:20250312T004502Z
UID:10000404-1742036400-1742043600@alertachiapas.com
SUMMARY:Taller de Técnicas Fotográficas para Principiantes en Chiapa de Corzo
DESCRIPTION:El Laboratorio de Arte Filosofía Sanitaria invita a todos los amantes de la fotografía a participar en el Taller de Técnicas Fotográficas para Principiantes\, impartido por Renata Nuricumbo. \nEste taller está diseñado para personas de 10 años en adelante que deseen aprender las bases de la fotografía\, mejorar sus habilidades creativas y experimentar con nuevas técnicas. Será una experiencia presencial llena de aprendizaje y exploración visual. \n💰 Costo: $200.00 por sesión📞 Inscripción e informes: 9617725957 \n📍 LUGAR: Francisco I. Madero #453\, Barrio San Jacinto\, Chiapa de Corzo📅 FECHA: Sábado 15 de marzo de 2025⏰ HORA: 11:00 – 13:00 horas🎭 DETALLES: Taller presencial para mayores de 10 años\, cupo limitado. \n¡No pierdas la oportunidad de desarrollar tu creatividad y capturar momentos únicos! 🌟📷
URL:https://alertachiapas.com/evento/taller-de-tecnicas-fotograficas-para-principiantes-en-chiapa-de-corzo/
LOCATION:Laboratorio de Arte Filosofía Sanitaria\, Francisco I. Madero 453\, Barrio San Jacinto\, Chiapa de Corzo\, Chiapas\, Mexico
CATEGORIES:taller
ATTACH;FMTTYPE=image/jpeg:https://alertachiapas.com/wp-content/uploads/2025/03/IMG_9918.jpg
END:VEVENT
END:VCALENDAR