BEGIN:VCALENDAR
VERSION:2.0
PRODID:-//Alerta Chiapas - ECPv6.15.20//NONSGML v1.0//EN
CALSCALE:GREGORIAN
METHOD:PUBLISH
X-ORIGINAL-URL:https://alertachiapas.com
X-WR-CALDESC:Eventos para Alerta Chiapas
REFRESH-INTERVAL;VALUE=DURATION:PT1H
X-Robots-Tag:noindex
X-PUBLISHED-TTL:PT1H
BEGIN:VTIMEZONE
TZID:America/Mexico_City
BEGIN:STANDARD
TZOFFSETFROM:-0600
TZOFFSETTO:-0600
TZNAME:CST
DTSTART:20240101T000000
END:STANDARD
END:VTIMEZONE
BEGIN:VEVENT
DTSTART;TZID=America/Mexico_City:20250908T100000
DTEND;TZID=America/Mexico_City:20250908T130000
DTSTAMP:20260421T041113
CREATED:20250904T014829Z
LAST-MODIFIED:20250904T014829Z
UID:10000896-1757325600-1757336400@alertachiapas.com
SUMMARY:¡Descubre el mundo del café con todos tus sentidos!
DESCRIPTION:El Museo del Café de Chiapas te invita a una experiencia sensorial inigualable: el evento “Aromas y Sabores”. Una oportunidad para adentrarte en la fascinante cultura del café y aprender a apreciar cada una de sus notas y matices. \nEn este taller\, que se llevará a cabo el próximo 8 de septiembre\, los participantes serán guiados a través de una exploración completa de los sentidos\, centrada en el café. Aprenderás a: \n\nDistinguir aromas y sabores: Descubre cómo tu olfato y gusto trabajan en conjunto para identificar los diferentes perfiles del café.\nReconocer sabores básicos: Aprende a diferenciar la dulzura\, acidez\, amargura y el cuerpo de una buena taza de café.\nUtilizar la rueda de aromas y sabores: Con esta herramienta especializada\, podrás identificar y nombrar los complejos y variados perfiles de sabor que hacen único a cada grano.\n\nEl evento es una excelente oportunidad para los amantes del café\, baristas en formación o simplemente curiosos que deseen ampliar su conocimiento sobre esta bebida tan emblemática de Chiapas. El cupo es limitado\, así que te recomendamos asegurar tu lugar a tiempo. \n\n  \nDetalles del evento\n  \n\nTítulo del evento: Aromas y Sabores\nFecha: 8 de septiembre\nHora: 10:00 a 13:00 h\nLugar: 2a Oriente Norte 236\, Colonia Centro\nDetalles adicionales: Cupo limitado. Para más información\, puedes comunicarte a los teléfonos 961 611 14 78 y 961 204 06 74.
URL:https://alertachiapas.com/evento/descubre-el-mundo-del-cafe-con-todos-tus-sentidos/
LOCATION:Museo del Cafe de Chiapas\, Calle 2a. Ote. Nte. 236\, tuxtla gutiérrez\, Chiapas\, 29000\, Mexico
CATEGORIES:Evento general,taller
ATTACH;FMTTYPE=image/jpeg:https://alertachiapas.com/wp-content/uploads/2025/09/b0a7be43-3cfe-46f0-ae55-2a973563336e.jpg
END:VEVENT
BEGIN:VEVENT
DTSTART;TZID=America/Mexico_City:20250909T100000
DTEND;TZID=America/Mexico_City:20250909T130000
DTSTAMP:20260421T041113
CREATED:20250908T225154Z
LAST-MODIFIED:20250908T225154Z
UID:10000913-1757412000-1757422800@alertachiapas.com
SUMMARY:Sumérgete en el mundo de la cata de café con el Museo del Café de Chiapas
DESCRIPTION:El Museo del Café de Chiapas te invita a un taller de “Catación”\, una experiencia inmersiva para los amantes del café que desean aprender a evaluar y apreciar la calidad de esta bebida como un verdadero experto. Este evento es una excelente oportunidad para comprender los procesos que hacen único a cada grano. \nDurante la sesión\, los participantes aprenderán: \n\nQué es la catación: Descubre la importancia de la cata en la industria del café.\nProtocolo de cata: Aprende las técnicas y pasos profesionales para evaluar una muestra de café\, desde la fragancia y el aroma hasta el sabor\, la acidez y el cuerpo.\nPráctica: Participa en una sesión guiada para aplicar lo aprendido y afinar tus sentidos.\n\nEl evento es ideal tanto para aficionados como para profesionales que buscan profundizar sus conocimientos en la cultura del café. El cupo es limitado\, así que te recomendamos asegurar tu lugar a tiempo. \n\n  \nDetalles del evento\n  \n\nTítulo del evento: Taller de Catación de Café\nFecha: 9 de septiembre\nHora: 10:00 a 13:00 h\nLugar: 2a Oriente Norte 236\, Colonia Centro\nDetalles adicionales: Cupo limitado. Para más información\, puedes comunicarte a los teléfonos 961 611 14 78 y 961 204 06 74.
URL:https://alertachiapas.com/evento/sumergete-en-el-mundo-de-la-cata-de-cafe-con-el-museo-del-cafe-de-chiapas/
LOCATION:Museo del Cafe de Chiapas\, Calle 2a. Ote. Nte. 236\, tuxtla gutiérrez\, Chiapas\, 29000\, Mexico
CATEGORIES:taller
ATTACH;FMTTYPE=image/jpeg:https://alertachiapas.com/wp-content/uploads/2025/09/2d0b6201-270b-44df-bb05-b5a0e7bf1b80.jpg
END:VEVENT
BEGIN:VEVENT
DTSTART;TZID=America/Mexico_City:20250909T150000
DTEND;TZID=America/Mexico_City:20250909T170000
DTSTAMP:20260421T041114
CREATED:20250908T225355Z
LAST-MODIFIED:20250908T225355Z
UID:10000914-1757430000-1757437200@alertachiapas.com
SUMMARY:Aprende la técnica del Bordado Zoque en el taller de Gonzalo Gurría Pérez
DESCRIPTION:El Ayuntamiento de Tuxtla Gutiérrez y el Instituto Tuxtleco de Arte y Cultura (ITAC) te invitan a participar en el Taller de Bordado Zoque\, una oportunidad para sumergirte en las tradiciones artesanales de la región. El taller se enfocará en la técnica del Punto de lomillo\, un bordado que forma parte fundamental de la identidad zoque. \nEl taller será impartido por el maestro Gonzalo Gurría Pérez\, experto en el tema\, quien compartirá su conocimiento y experiencia para que los participantes puedan crear sus propias piezas únicas. Es una excelente oportunidad para aprender\, valorar y preservar una de las técnicas artesanales más importantes de Chiapas. \n\n  \nDetalles del taller\n  \n\nTítulo del evento: Taller de Bordado Zoque (Técnica: Punto de lomillo)\nImparte: Gonzalo Gurría Pérez\nFechas: 9\, 11\, 18\, 23\, 25 y 30 de septiembre; 7 y 9 de octubre\nHora: 15:00 a 17:00 h\nLugar: Casa de la Cultura Luis Alaminos Guerrero\, 1a. Poniente esquina 2a. Norte.\nInformación y registro: 961 274 5209
URL:https://alertachiapas.com/evento/aprende-la-tecnica-del-bordado-zoque-en-el-taller-de-gonzalo-gurria-perez/
LOCATION:Casa de la Cultura Luis Alaminos\, 1a poniente esquina con 2a norte\, Tuxtla Gutiérrez\, Chiapas\, 29000\, Mexico
CATEGORIES:taller
ATTACH;FMTTYPE=image/jpeg:https://alertachiapas.com/wp-content/uploads/2025/09/542044292_1176657124494174_8953336862038379792_n.jpg
END:VEVENT
BEGIN:VEVENT
DTSTART;TZID=America/Mexico_City:20250910T100000
DTEND;TZID=America/Mexico_City:20250910T133000
DTSTAMP:20260421T041114
CREATED:20250908T224822Z
LAST-MODIFIED:20250908T224934Z
UID:10000912-1757498400-1757511000@alertachiapas.com
SUMMARY:Domina el arte del Espresso en el Museo del Café de Chiapas
DESCRIPTION:El Museo del Café de Chiapas te invita a un taller especializado para dominar la preparación de una de las bebidas más icónicas: el espresso. Este taller es ideal para baristas\, amantes del café y cualquier persona que quiera llevar sus habilidades al siguiente nivel. \nDurante la sesión\, los participantes aprenderán los conceptos clave para crear un espresso perfecto. El programa incluye: \n\nFundamentos del espresso: Conoce los principios teóricos y la ciencia detrás de la extracción perfecta.\nCalibración del espresso: Aprende a ajustar los parámetros de tu máquina para lograr el equilibrio ideal en cada taza.\n\nCon la guía de expertos\, este taller es una oportunidad única para mejorar tus conocimientos y técnicas en un ambiente profesional. El cupo es limitado\, así que asegura tu lugar. \n\n  \nDetalles del evento\n  \n\nTítulo del evento: Taller de Espresso\nFecha: 10 de septiembre\nHora: 10:00 a 13:00 h\nLugar: 2a Oriente Norte 236\, Colonia Centro\, Tuxtla Gutiérrez\nDetalles adicionales: Taller sobre fundamentos y calibración de espresso. Para más información\, puedes comunicarte a los teléfonos 961 611 14 78 y 961 204 06 74.
URL:https://alertachiapas.com/evento/domina-el-arte-del-espresso-en-el-museo-del-cafe-de-chiapas/
LOCATION:Museo del Cafe de Chiapas\, Calle 2a. Ote. Nte. 236\, tuxtla gutiérrez\, Chiapas\, 29000\, Mexico
CATEGORIES:Evento general,taller
ATTACH;FMTTYPE=image/jpeg:https://alertachiapas.com/wp-content/uploads/2025/09/3189a57c-f1a0-4579-a864-7824e04ac076.jpg
END:VEVENT
BEGIN:VEVENT
DTSTART;VALUE=DATE:20250911
DTEND;VALUE=DATE:20250915
DTSTAMP:20260421T041114
CREATED:20250910T005510Z
LAST-MODIFIED:20250910T005510Z
UID:10000919-1757548800-1757894399@alertachiapas.com
SUMMARY:¡3er Moni Fest en Tuxtla! Un festival para conocer y degustar los hongos de la región
DESCRIPTION:Del 11 al 14 de septiembre se llevará a cabo la tercera edición del “Moni Fest” en Tuxtla Gutiérrez\, un festival dedicado a los hongos de la región. El evento contará con una exposición y degustación para que los asistentes puedan conocer más sobre el hongo “Moni”\, también conocido como “Nangaño”. \nEl festival tendrá diferentes actividades: \n\nHongos frescos: Conoce los hongos del Nangaño de la región.\nDiorama: Una ventana visual a los Nangañales.\nFotografía: Imágenes que capturan la funga del Nangaño.\nGastronomía: Prueba platillos preparados con moni y coloradito.\n\nLa exhibición se llevará a cabo en diferentes lugares y horarios: \n\n11 de septiembre\n\nLugar: Parque de la Marimba\nHorario: 16:00 a 20:00 h\n\n\n12 de septiembre\n\nLugar: Museo del Café de Chiapas\nHorario: 14:00 a 19:00 h\n\n\n13 de septiembre\n\nLugar: Museo del Café de Chiapas\nHorario: 13:00 a 18:00 h\n\n\n14 de septiembre\n\nLugar: Parque Joyyo Mayu\nHorario: 10:00 a 17:00 h\n\n\n\n\n  \nConcentrado del evento:\n  \n\nEvento: 3er Moni Fest\nFechas: 11 al 14 de septiembre de 2025\nLugar: Diferentes sedes en Tuxtla Gutiérrez (Museo del Café\, Parque de la Marimba y Parque Joyyo Mayu)\nDetalles: Exposición y degustación de hongos de la región. Para más información\, llama al 967-299-0001.
URL:https://alertachiapas.com/evento/3er-moni-fest-en-tuxtla-un-festival-para-conocer-y-degustar-los-hongos-de-la-region/
LOCATION:Centro Histórico de Tuxtla Gutiérrez\, Av. Central y Calle Central SN\, Tuxtla Gutiérrez\, Chiapas\, 29000\, Mexico
CATEGORIES:Ecología,Evento general,taller
ATTACH;FMTTYPE=image/jpeg:https://alertachiapas.com/wp-content/uploads/2025/09/540554463_18059693126593187_154759350875163394_n.jpg
END:VEVENT
BEGIN:VEVENT
DTSTART;TZID=America/Mexico_City:20250911T080000
DTEND;TZID=America/Mexico_City:20250911T170000
DTSTAMP:20260421T041114
CREATED:20250910T004947Z
LAST-MODIFIED:20250910T005210Z
UID:10000917-1757577600-1757610000@alertachiapas.com
SUMMARY:¡Crea tu propia corona de flores! Taller de Coronas Florales en Tuxtla Gutiérrez
DESCRIPTION:El Instituto Casa de las Artesanías de Chiapas invita al taller de Coronas Florales\, donde podrás aprender a elaborar hermosos tocados con flores naturales. El taller es impartido por Erick Chandomi\, de El Jardín\, Floristería Regional. \n¡Anímate a participar! El taller tiene cupo limitado. \n\n  \nConcentrado del evento:\n  \n\nEvento: Taller de Coronas Florales\nLugar: Instalaciones del Instituto Casa de las Artesanías de Chiapas\nFecha: 11 de septiembre de 2025\nHorario: 10:00 a 12:00 horas\nCuota: $300 (incluye material)\nInformes e inscripciones: 961 174 4977
URL:https://alertachiapas.com/evento/crea-tu-propia-corona-de-flores-taller-de-coronas-florales-en-tuxtla-gutierrez/2025-09-11/
LOCATION:Instituto Casa de las artesanias\, Blvd. Belisario Domínguez 2035\, Xamaipak\, Tuxtla Gutiérrez\, Chiapas\, Mexico
CATEGORIES:taller
ATTACH;FMTTYPE=image/jpeg:https://alertachiapas.com/wp-content/uploads/2025/09/e901d5e7-077f-46a5-a4c4-ec97f416591a.jpg
END:VEVENT
BEGIN:VEVENT
DTSTART;TZID=America/Mexico_City:20250911T100000
DTEND;TZID=America/Mexico_City:20250911T130000
DTSTAMP:20260421T041114
CREATED:20250910T004437Z
LAST-MODIFIED:20250910T004437Z
UID:10000915-1757584800-1757595600@alertachiapas.com
SUMMARY:Museo del Café de Chiapas invita a taller de #ArteLatte
DESCRIPTION:¡Aprende a crear figuras en tus bebidas! El Museo del Café de Chiapas\, en colaboración con el Consejo Estatal para las Culturas y las Artes de Chiapas\, invita a su taller de arte latte. \nDurante el taller “ArteLatte” se abordarán temas como: \n\nLa leche como ingrediente.\nBebidas con leche.\nTécnicas y figuras de arte latte.\n\nEl cupo es limitado\, reserva tu lugar con anticipación. \nConcentrado del evento: \n\nEvento: Taller “ArteLatte”\nLugar: 2a Oriente Norte 236\, Colonia Centro.\nFecha: 11 de septiembre de 2025\nHorario: 10:00 a 13:00 h\nDetalles: Cupo limitado. Para más información o para reservar tu lugar\, puedes comunicarte a los números: 961 611 14 78 y 961 204 06 74.
URL:https://alertachiapas.com/evento/museo-del-cafe-de-chiapas-invita-a-taller-de-artelatte/
LOCATION:Museo del Cafe de Chiapas\, Calle 2a. Ote. Nte. 236\, tuxtla gutiérrez\, Chiapas\, 29000\, Mexico
CATEGORIES:taller
ATTACH;FMTTYPE=image/jpeg:https://alertachiapas.com/wp-content/uploads/2025/09/183db87e-37b4-409c-9716-8637d6bb11ae.jpg
END:VEVENT
BEGIN:VEVENT
DTSTART;TZID=America/Mexico_City:20250912T140000
DTEND;TZID=America/Mexico_City:20250912T190000
DTSTAMP:20260421T041114
CREATED:20250911T021239Z
LAST-MODIFIED:20250911T021239Z
UID:10000924-1757685600-1757703600@alertachiapas.com
SUMMARY:Degustación de Moní y Coloradito: una experiencia gastronómica en el Museo del Café
DESCRIPTION:¡Si eres amante de la gastronomía tradicional chiapaneca\, tienes una cita imperdible! El Museo del Café te invita a la “Degustación de Moní y Coloradito: Cochito Horneado”\, un evento que te permitirá saborear dos de los platillos más emblemáticos de nuestra cocina local. \nLa degustación estará a cargo de María del Rosario Hernández Sánchez\, una experta cocinera tradicional que compartirá los secretos de estas delicias. Es una excelente oportunidad para disfrutar de los sabores auténticos y conocer más sobre la riqueza culinaria de la región. \nEl evento se realiza en el marco del 3er Moní Fest. Para más información\, puedes comunicarte al número 967-299-0001. \n\nConcentrado del evento: \n\nEvento: Degustación de Maní y Coloradito: Cochito Horneado\nLugar: Museo del Café\nFecha: 12 de septiembre\nHora: 14:00 a 19:00 horas\nDetalles: Degustación a cargo de María del Rosario Hernández Sánchez\, en el marco del 3er Moní Fest.
URL:https://alertachiapas.com/evento/degustacion-de-moni-y-coloradito-una-experiencia-gastronomica-en-el-museo-del-cafe/
LOCATION:Museo del Cafe de Chiapas\, Calle 2a. Ote. Nte. 236\, tuxtla gutiérrez\, Chiapas\, 29000\, Mexico
CATEGORIES:taller
ATTACH;FMTTYPE=image/jpeg:https://alertachiapas.com/wp-content/uploads/2025/09/541536293_18059693150593187_6147497104170628735_n.jpg
END:VEVENT
BEGIN:VEVENT
DTSTART;TZID=America/Mexico_City:20250913T100000
DTEND;TZID=America/Mexico_City:20250913T140000
DTSTAMP:20260421T041114
CREATED:20250911T020448Z
LAST-MODIFIED:20250911T020448Z
UID:10000923-1757757600-1757772000@alertachiapas.com
SUMMARY:Aprende a preparar Butifarra en el Taller del Colectivo Omba Kutkuy
DESCRIPTION:¡El colectivo Omba Kutkuy te invita a su Taller de Elaboración de Butifarra! Si eres amante de la gastronomía tradicional\, no puedes perderte esta oportunidad de aprender a preparar este delicioso embutido artesanal. El taller será impartido por el Mtro. Francisco Ruiz\, un experto en el tema\, quien compartirá sus conocimientos y técnicas para que puedas crear tu propia butifarra desde cero. \nEl taller tiene una cuota de recuperación y los cupos son limitados\, así que no esperes más para asegurar tu lugar. Para más información e inscripciones\, puedes contactar al número 961-174-4977. \n\nConcentrado del evento: \n\nEvento: Taller de Elaboración de Butifarra\nLugar: 5a. Sur entre 7a. Y 8a. Oriente número 898\, barrio San Roque.\nFecha: 13 de septiembre\nHora: 10:00 AM a 2:00 PM\nDetalles: Impartido por el Mtro. Francisco Ruiz. Cuota de recuperación y cupo limitado.
URL:https://alertachiapas.com/evento/aprende-a-preparar-butifarra-en-el-taller-del-colectivo-omba-kutkuy/
LOCATION:Colectivo Omba Kutkuy\, 5a. Sur entre 7a. y 8a. Oriente\, número 898\, barrio San Roque\, Tuxtla Gutiérrez\, Chiapas\, 29000\, Mexico
CATEGORIES:taller
ATTACH;FMTTYPE=image/jpeg:https://alertachiapas.com/wp-content/uploads/2025/09/544841960_122116528976976263_1337525855709300094_n.jpg
END:VEVENT
END:VCALENDAR