BEGIN:VCALENDAR
VERSION:2.0
PRODID:-//Alerta Chiapas - ECPv6.15.20//NONSGML v1.0//EN
CALSCALE:GREGORIAN
METHOD:PUBLISH
X-WR-CALNAME:Alerta Chiapas
X-ORIGINAL-URL:https://alertachiapas.com
X-WR-CALDESC:Eventos para Alerta Chiapas
REFRESH-INTERVAL;VALUE=DURATION:PT1H
X-Robots-Tag:noindex
X-PUBLISHED-TTL:PT1H
BEGIN:VTIMEZONE
TZID:America/Mexico_City
BEGIN:STANDARD
TZOFFSETFROM:-0600
TZOFFSETTO:-0600
TZNAME:CST
DTSTART:20240101T000000
END:STANDARD
END:VTIMEZONE
BEGIN:VEVENT
DTSTART;TZID=America/Mexico_City:20250513T100000
DTEND;TZID=America/Mexico_City:20250513T123000
DTSTAMP:20260420T133818
CREATED:20250508T031306Z
LAST-MODIFIED:20250508T031306Z
UID:10000555-1747130400-1747139400@alertachiapas.com
SUMMARY:¡Aprende el arte del bordado chiapaneco en Tuxtla!
DESCRIPTION:El Ayuntamiento de Tuxtla Gutiérrez 2024–2027\, a través del Instituto Tuxtleco de Arte y Cultura (ITAC)\, invita a toda la ciudadanía a participar en el Taller de Bordado Chiapaneca\, una experiencia cultural que celebra la riqueza textil y artística de nuestro estado 🪡🧶. \nEste taller será impartido por la talentosa Alondra Esther Contreras\, quien guiará a los asistentes en el aprendizaje de las técnicas tradicionales del bordado chiapaneco\, conocido por su colorido\, simbolismo y belleza. Un espacio ideal para reconectar con nuestras raíces y fomentar la creatividad 🎨🌿. \n📅 Las sesiones se realizarán los lunes de mayo\, en un horario matutino de 10:00 a 12:30 horas\, en un ambiente accesible y abierto a todas las edades. \n📞 ¡Inscripciones abiertas! No te quedes fuera de esta oportunidad única para aprender\, crear y preservar una de las tradiciones más bellas de Chiapas. \n📍 Coordinado por la Dirección de Cultura Zoque\, Tradiciones\, Costumbres e Identidad Tuxtleca Intercultural. \n\n\n\n\n📌 Lugar: Casa de la Cultura “Luis Alaminos Guerrero”1a. Poniente esquina 2a. Norte\, Tuxtla Gutiérrez\, Chiapas \n\n\n📅 Fechas: Lunes 13\, 20 y 27 de mayo \n\n\n🕘 Horario: De 10:00 a 12:30 horas \n\n\n👩‍🏫 Imparte: Alondra Esther Contreras \n\n\n📞 Inscripciones: 961 171 8571 \n\n\n🕒 Atención: Lunes a viernes de 9:00 a 16:00 horas \n\n\n🧵 Tema: Taller de bordado tradicional chiapaneco
URL:https://alertachiapas.com/evento/aprende-el-arte-del-bordado-chiapaneco-en-tuxtla/
LOCATION:Casa de la Cultura Luis Alaminos\, 1a poniente esquina con 2a norte\, Tuxtla Gutiérrez\, Chiapas\, 29000\, Mexico
CATEGORIES:taller
ATTACH;FMTTYPE=image/jpeg:https://alertachiapas.com/wp-content/uploads/2025/05/495027593_1081567890669765_8852045329250608440_n.jpg
END:VEVENT
BEGIN:VEVENT
DTSTART;TZID=America/Mexico_City:20250514T090000
DTEND;TZID=America/Mexico_City:20250514T130000
DTSTAMP:20260420T133818
CREATED:20250513T041933Z
LAST-MODIFIED:20250513T041933Z
UID:10000566-1747213200-1747227600@alertachiapas.com
SUMMARY:Taller de Cocina Tradicional con el Chef Omar Velázquez
DESCRIPTION:¡Atención amantes de la gastronomía chiapaneca! 📢 No se pierdan la oportunidad de sumergirse en los secretos de la cocina tradicional con el reconocido Chef Omar Velázquez. Aprenderán a preparar la deliciosa Carraca de puerco 🐷\, un platillo emblemático de nuestra región. Este taller práctico se llevará a cabo el miércoles 14 de mayo 🗓️ en un horario de 9:00 a 13:00 horas ⏰. ¡Prepárense para deleitar sus sentidos con aromas y sabores auténticos! \nEl evento se realizará en la Casa de la Cultura Luis Alaminos Guerrero 🏛️\, ubicada en 1a. Pte. Esquina 2a. Nte. en Tuxtla Gutiérrez. Para más información o para registrarse\, pueden comunicarse a los teléfonos 961 171 85 71 o 961 593 1247 📞. El horario de atención para inscripciones es de lunes a viernes de 9:00 a 15:00 horas. \nEste evento es coordinado por Cultura Zoque\, Tradiciones\, Costumbres e Identidad Tuxtleca Intercultural\, ¡garantizando una experiencia enriquecedora y llena de tradición! 🎉 \nConcentrado del Evento: \n\nEvento: Taller de Cocina Tradicional: Carraca de puerco\nChef: Omar Velázquez\nFecha: Miércoles 14 de mayo\nHora: 9:00 a 13:00 horas\nLugar: Casa de la Cultura Luis Alaminos Guerrero (1a. Pte. Esquina 2a. Nte.\, Tuxtla Gutiérrez)\nRegistro e Información: 961 171 85 71 / 961 593 1247\nHorario de Atención: Lunes a viernes\, 9:00 – 15:00 horas\nOrganiza: Cultura Zoque\, Tradiciones\, Costumbres e Identidad Tuxtleca Intercultural
URL:https://alertachiapas.com/evento/taller-de-cocina-tradicional-con-el-chef-omar-velazquez/
LOCATION:Casa de la Cultura Luis Alaminos\, 1a poniente esquina con 2a norte\, Tuxtla Gutiérrez\, Chiapas\, 29000\, Mexico
CATEGORIES:taller
ATTACH;FMTTYPE=image/jpeg:https://alertachiapas.com/wp-content/uploads/2025/05/495966285_1086480056845215_457440178187032874_n.jpg
END:VEVENT
BEGIN:VEVENT
DTSTART;TZID=America/Mexico_City:20250515T100000
DTEND;TZID=America/Mexico_City:20250516T130000
DTSTAMP:20260420T133818
CREATED:20250513T042349Z
LAST-MODIFIED:20250513T042349Z
UID:10000567-1747303200-1747400400@alertachiapas.com
SUMMARY:¡Descubre el Poder de las Plantas! Taller de Herbolaria Zoque con el Biol. Juan Manuel Jonapá
DESCRIPTION:¡Absolutamente! Aquí tienes un título atractivo y un cuerpo de texto informativo sobre el evento\, completo con emojis y un resumen final: \n🌿 ¡Descubre el Poder de las Plantas! Taller de Herbolaria Zoque con el Biol. Juan Manuel Jonapá 🌿 \n¡Atención a todos los interesados en la medicina tradicional y el conocimiento ancestral! 📣 No se pierdan este fascinante Taller de Herbolaria Zoque (Nivel Inicial) impartido por el reconocido Biol. Juan Manuel Jonapá. Aprenderán sobre las propiedades curativas de las plantas utilizadas en la rica tradición zoque de nuestra región. 🍃 \nEste taller se llevará a cabo los días 15 y 16 de mayo 🗓️ en un horario de 10:00 a 13:00 horas ⏰. ¡Una oportunidad única para conectar con la sabiduría de la naturaleza y sus beneficios para la salud! 🌱 \nEl evento tendrá lugar en la Casa de la Cultura Luis Alaminos Guerrero 🏛️\, ubicada en 1a. Pte. Esquina 2a. Nte. en Tuxtla Gutiérrez. Para inscribirse u obtener más detalles\, pueden comunicarse a los teléfonos 961 171 85 71 o 961 593 1247 📞. El horario de atención para inscripciones es de lunes a viernes de 9:00 a 15:00 horas. \nEste valioso evento es coordinado por Cultura Zoque\, Tradiciones\, Costumbres e Identidad Tuxtleca Intercultural\, ¡asegurando una experiencia auténtica y enriquecedora! ✨ \nConcentrado del Evento: \n\nEvento: Taller de Herbolaria Zoque (Inicial)\nInstructor: Biol. Juan Manuel Jonapá\nFechas: 15 y 16 de mayo\nHora: 10:00 a 13:00 horas\nLugar: Casa de la Cultura Luis Alaminos Guerrero (1a. Pte. Esquina 2a. Nte.\, Tuxtla Gutiérrez)\nRegistro e Información: 961 171 85 71 / 961 593 1247\nHorario de Atención: Lunes a viernes\, 9:00 – 15:00 horas\nOrganiza: Cultura Zoque\, Tradiciones\, Costumbres e Identidad Tuxtleca Intercultural
URL:https://alertachiapas.com/evento/descubre-el-poder-de-las-plantas-taller-de-herbolaria-zoque-con-el-biol-juan-manuel-jonapa/
LOCATION:Casa de la Cultura Luis Alaminos\, 1a poniente esquina con 2a norte\, Tuxtla Gutiérrez\, Chiapas\, 29000\, Mexico
CATEGORIES:taller
ATTACH;FMTTYPE=image/jpeg:https://alertachiapas.com/wp-content/uploads/2025/05/495541060_1083747343785153_43483393941467171_n.jpg
END:VEVENT
BEGIN:VEVENT
DTSTART;TZID=America/Mexico_City:20250515T120000
DTEND;TZID=America/Mexico_City:20250515T140000
DTSTAMP:20260420T133818
CREATED:20250513T235007Z
LAST-MODIFIED:20250513T235007Z
UID:10000570-1747310400-1747317600@alertachiapas.com
SUMMARY:¡Aprende el arte del deshilado en Tuxtla!
DESCRIPTION:¿Te gustaría crear tapetes y caminos de mesa únicos con tus propias manos? 🙌 No te pierdas el Taller de Deshilado que organiza el Instituto Tuxtleco de Arte y Cultura (ITAC) y la Dirección de Bibliotecas y Desarrollo Cultural del Ayuntamiento de Tuxtla Gutiérrez. 🏛️ \nEste taller está dirigido a todas las personas interesadas en aprender la técnica tradicional de deshilado con yute\, una práctica artesanal que fortalece nuestras raíces culturales y creatividad. 🌿🧶 \n📚 El evento se llevará a cabo en la Biblioteca Pública Municipal Poeta Jaime Sabines\, donde recibirás orientación para crear tapetes individuales y caminos de mesa. Una experiencia artística\, relajante y llena de tradición. 🎨 \n📞 Para más información puedes comunicarte a los números:📲 961 19 04 472📲 961 30 449 86 \n\n📍 Lugar: Biblioteca Pública Municipal Poeta Jaime Sabines\, Casa de la Cultura Luis Alaminos Guerrero\, 1a. Poniente esquina 2a. Norte\, Tuxtla Gutiérrez\, Chiapas📅 Fecha: Jueves 15 de mayo⏰ Horario: 12:00 p.m. a 2:00 p.m.🎨 Actividad: Taller de deshilado con yute: tapetes y caminos de mesa📞 Informes: 961 19 04 472 / 961 30 449 86 \n¡Ven\, aprende y conserva nuestras tradiciones! 🧵✨
URL:https://alertachiapas.com/evento/aprende-el-arte-del-deshilado-en-tuxtla/
LOCATION:Casa de la Cultura Luis Alaminos\, 1a poniente esquina con 2a norte\, Tuxtla Gutiérrez\, Chiapas\, 29000\, Mexico
CATEGORIES:taller
ATTACH;FMTTYPE=image/jpeg:https://alertachiapas.com/wp-content/uploads/2025/05/495218301_1081694257323795_7559436168352776402_n.jpg
END:VEVENT
BEGIN:VEVENT
DTSTART;TZID=America/Mexico_City:20250516T103000
DTEND;TZID=America/Mexico_City:20250516T170000
DTSTAMP:20260420T133818
CREATED:20250514T000745Z
LAST-MODIFIED:20250514T000745Z
UID:10000572-1747391400-1747414800@alertachiapas.com
SUMMARY:Taller de Velas Artesanales en Tuxtla
DESCRIPTION:Elaboración de velas de masaje\, velas decorativas mini bouquet\, velas tipo cupcakes y ambientadores.\n\n\n– Fecha: viernes 16 de mayo\n\n– Horario: De 10:30 a.m. a 4:00-5:00 p.m.\n\n-Lugar:#BioAleiChiapas\, 3 Sur Pte #451\, Centro\, Tuxtla Gutiérrez\n– Costo:$975.00\n\nActividades:\n\n Incluye insumos y materiales necesarios para el taller.\n ¡Cupo limitado\, inscríbete ya!\n\n¡Listo para iluminar con este taller!
URL:https://alertachiapas.com/evento/taller-de-velas-artesanales-en-tuxtla/
LOCATION:Bio Alei Chiapas\, 3 Sur Pte #451\, Centro\, Tuxtla Gutiérrez\, Chiapas\, Mexico
CATEGORIES:taller
ATTACH;FMTTYPE=image/jpeg:https://alertachiapas.com/wp-content/uploads/2025/05/497501933_1313025224156377_2504737828964688285_n.jpg
END:VEVENT
BEGIN:VEVENT
DTSTART;TZID=America/Mexico_City:20250517T100000
DTEND;TZID=America/Mexico_City:20250517T133000
DTSTAMP:20260420T133818
CREATED:20250513T235418Z
LAST-MODIFIED:20250513T235418Z
UID:10000571-1747476000-1747488600@alertachiapas.com
SUMMARY:Sendero de la Memoria: redescubre Tuxtla paso a paso
DESCRIPTION:¿Sabías que las calles del Centro Histórico de Tuxtla Gutiérrez guardan secretos y relatos fascinantes? Este 17 de mayo\, no te pierdas el recorrido cultural Sendero de la Memoria\, un viaje a través del tiempo guiado por el historiador Roberto Ramos Maza. 🕰️📚 \nDurante este paseo\, conocerás rincones emblemáticos\, personajes olvidados y hechos históricos que dieron forma a la ciudad capital. Una experiencia enriquecedora y diferente para los amantes de la historia\, el arte y la identidad chiapaneca. 🌆💬 \nEl recorrido tiene una duración aproximada de 3 horas y media y está diseñado para grupos reducidos\, con un mínimo de 4 y un máximo de 12 personas\, garantizando una experiencia cercana y personalizada. ✅ \n📌 Importante: Hay una cuota de recuperación de $200 por persona.📲 Para informes e inscripciones puedes contactar directamente al guía: \nRoberto Ramos Maza📞 Celular: 961 215 2104🔗 Facebook: Roberto Ramos Maza \n\n📍 Lugar: Centro Histórico de Tuxtla Gutiérrez📅 Fecha: Sábado 17 de mayo de 2025⏰ Hora: 10:00 a.m.🕒 Duración: Aprox. 3 horas y media👥 Cupo mínimo: 4 personas👥 Cupo máximo: 12 personas💰 Cuota de recuperación: $200.00 MXN por persona📞 Informes y registro: 961 215 2104 (Roberto Ramos Maza) \n¡Caminemos juntos por el pasado para entender el presente! 🗺️✨
URL:https://alertachiapas.com/evento/sendero-de-la-memoria-redescubre-tuxtla-paso-a-paso/
LOCATION:Centro Histórico de Tuxtla Gutiérrez\, Av. Central y Calle Central SN\, Tuxtla Gutiérrez\, Chiapas\, 29000\, Mexico
CATEGORIES:taller
ATTACH;FMTTYPE=image/jpeg:https://alertachiapas.com/wp-content/uploads/2025/05/5a6d0f6d-75d5-4ca2-af1d-570826d7d497.jpg
END:VEVENT
BEGIN:VEVENT
DTSTART;TZID=America/Mexico_City:20250517T100000
DTEND;TZID=America/Mexico_City:20250517T140000
DTSTAMP:20260420T133818
CREATED:20250514T002827Z
LAST-MODIFIED:20250514T002827Z
UID:10000573-1747476000-1747490400@alertachiapas.com
SUMMARY:Taller de Bordado Botánico en San Cristóbal
DESCRIPTION:¿Quieres conectar con la naturaleza y a la vez fomentar tu bienestar emocional?Participa de un espacio dedicado a la creatividad\, la relajación y el autocuidado\, donde aprenderás el arte del bordado de plantas.\nEn este taller\, cada puntada será una forma de cultivar calma\, de explorar el mundo vegetal y de fomentar la paz interior. Bordar nos permite ser plenamente conscientes del momento presente\, reduciendo el estrés y ofreciendo una oportunidad única para desconectar y cuidar de ti\n\nLo que encontrarás en el taller:– información de plantas medicinales\, propiedades el uso diario como parte del autocuidado\n* Técnicas básicas de bordado aplicadas a los diseños de plantas.* Un espacio de relajación y conexión contigo* Una introducción a la conexión emocional con las plantas y cómo este arte puede fomentar el bienestar.\n\n¡Ven a bordar tu jardín interior mientras aprendes nuevas habilidades y cultivas tu bienestar! Te esperamos con hilo\, aguja y mucho amor.\nPara inscripciones te dejamos detalles:*Costo del total del taller $350 sin materialy $400 con materialespregunta por la promoción si vienes con un amig@\n*Pago de un 50% para reservar tu lugarconfirmación por whatsapp 5535599145\n¡Reserva tu cupo!
URL:https://alertachiapas.com/evento/taller-de-bordado-botanico-en-san-cristobal/
LOCATION:Jama\, Calzada Colombia 3\, San Cristóbal de Las Casas\, Chiapas\, Mexico
CATEGORIES:taller
ATTACH;FMTTYPE=image/jpeg:https://alertachiapas.com/wp-content/uploads/2025/05/495084052_1121495506658551_2703570568913118893_n.jpg
END:VEVENT
END:VCALENDAR