BEGIN:VCALENDAR
VERSION:2.0
PRODID:-//Alerta Chiapas - ECPv6.15.20//NONSGML v1.0//EN
CALSCALE:GREGORIAN
METHOD:PUBLISH
X-WR-CALNAME:Alerta Chiapas
X-ORIGINAL-URL:https://alertachiapas.com
X-WR-CALDESC:Eventos para Alerta Chiapas
REFRESH-INTERVAL;VALUE=DURATION:PT1H
X-Robots-Tag:noindex
X-PUBLISHED-TTL:PT1H
BEGIN:VTIMEZONE
TZID:America/Mexico_City
BEGIN:STANDARD
TZOFFSETFROM:-0600
TZOFFSETTO:-0600
TZNAME:CST
DTSTART:20240101T000000
END:STANDARD
END:VTIMEZONE
BEGIN:VEVENT
DTSTART;TZID=America/Mexico_City:20250923T090000
DTEND;TZID=America/Mexico_City:20250924T130000
DTSTAMP:20260421T112341
CREATED:20250923T013413Z
LAST-MODIFIED:20250923T013413Z
UID:10000946-1758618000-1758718800@alertachiapas.com
SUMMARY:¡Aprende los secretos de la cocina tradicional! Taller de Cocina en Tuxtla
DESCRIPTION:Aprende a preparar una exquisita Naranja cristalizada rellena de coco en un curso intensivo de dos días. Este evento\, organizado por el Ayuntamiento 2024-2027 y el ITAC (Instituto Tuxtleco de Arte y Cultura)\, promete ser una experiencia culinaria inolvidable. \nEl taller se llevará a cabo en la Casa de la Cultura Luis Alamimos Guerrero. No pierdas la oportunidad de sumergirte en las tradiciones gastronómicas locales y perfeccionar tus habilidades culinarias. \nPara más información e inscripciones\, puedes comunicarte a los siguientes números de teléfono: 961 593 1247 y 961 263 9555. \n¡Te esperamos para vivir esta experiencia llena de sabor y tradición! \nConcentrado del evento: \n\nEvento: Taller de Cocina Tradicional\nImparte: Chef Omar Velázquez\nPlatillo: Naranja cristalizada rellena de coco\nLugar: Casa de la Cultura Luis Alamimos Guerrero\, 1a. Pte. Esquina 2a. Nte.\nFecha: 23 y 24 de septiembre\nHorario del taller: 9:00 a 13:00 horas\nHorario de atención: Lunes a viernes\, 9:00 a 15:00 horas\nTeléfonos: 961 593 1247 y 961 263 9555\nDetalles: Evento coordinado por Cultura Zoque\, Tradiciones\, Costumbres e Identidad Tuxtleca Intercultural.
URL:https://alertachiapas.com/evento/aprende-los-secretos-de-la-cocina-tradicional-taller-de-cocina-en-tuxtla/
LOCATION:Casa de la Cultura Luis Alaminos\, 1a poniente esquina con 2a norte\, Tuxtla Gutiérrez\, Chiapas\, 29000\, Mexico
CATEGORIES:taller
ATTACH;FMTTYPE=image/jpeg:https://alertachiapas.com/wp-content/uploads/2025/09/552305680_1192001159626437_2041189301439780316_n.jpg
END:VEVENT
BEGIN:VEVENT
DTSTART;TZID=America/Mexico_City:20250924T150000
DTEND;TZID=America/Mexico_City:20250924T170000
DTSTAMP:20260421T112342
CREATED:20250923T015434Z
LAST-MODIFIED:20250923T015434Z
UID:10000949-1758726000-1758733200@alertachiapas.com
SUMMARY:¡Aprende a hacer piñatas! Taller de Piñatas Tradicionales "Tuxtlequita" en Tuxtla
DESCRIPTION:Si eres un amante de las manualidades y las tradiciones\, esta es tu oportunidad. El talentoso artesano Agustín Eduardo Monjarás Reyes\, con el apoyo del Ayuntamiento 2024-2027 y el ITAC (Instituto Tuxtleco de Arte y Cultura)\, impartirá este taller donde podrás aprender a crear tu propia “Tuxtlequita”\, una piñata con el tradicional traje de la región. \nEl taller se llevará a cabo en la Casa de la Cultura Luis Alamimos Guerrero. ¡No pierdas la oportunidad de sumergirte en este proceso creativo y llevar a casa una pieza única hecha por ti mismo! \nPara más información y registro\, puedes comunicarte a los siguientes números de teléfono: 961 593 1247 y 961 116 6678. \n\nConcentrado del evento: \n\nEvento: Taller de elaboración de Piñatas Tradicionales “Tuxtlequita”\nImparte: Agustín Eduardo Monjarás Reyes\nFechas del taller: 24 de septiembre\nHorario del 24 de septiembre: 15:00 a 17:00 horas\nLugar: Casa de la Cultura Luis Alamimos Guerrero\, 1a. Pte. Esquina 2a. Nte.\nInformación y registro: 961 593 1247 y 961 116 6678
URL:https://alertachiapas.com/evento/aprende-a-hacer-pinatas-taller-de-pinatas-tradicionales-tuxtlequita-en-tuxtla/
LOCATION:Casa de la Cultura Luis Alaminos\, 1a poniente esquina con 2a norte\, Tuxtla Gutiérrez\, Chiapas\, 29000\, Mexico
CATEGORIES:taller
ATTACH;FMTTYPE=image/jpeg:https://alertachiapas.com/wp-content/uploads/2025/09/550259444_1189951306498089_460045447360995036_n.jpg
END:VEVENT
END:VCALENDAR