BEGIN:VCALENDAR
VERSION:2.0
PRODID:-//Alerta Chiapas - ECPv6.15.20//NONSGML v1.0//EN
CALSCALE:GREGORIAN
METHOD:PUBLISH
X-WR-CALNAME:Alerta Chiapas
X-ORIGINAL-URL:https://alertachiapas.com
X-WR-CALDESC:Eventos para Alerta Chiapas
REFRESH-INTERVAL;VALUE=DURATION:PT1H
X-Robots-Tag:noindex
X-PUBLISHED-TTL:PT1H
BEGIN:VTIMEZONE
TZID:America/Mexico_City
BEGIN:STANDARD
TZOFFSETFROM:-0600
TZOFFSETTO:-0600
TZNAME:CST
DTSTART:20240101T000000
END:STANDARD
END:VTIMEZONE
BEGIN:VEVENT
DTSTART;TZID=America/Mexico_City:20250906T100000
DTEND;TZID=America/Mexico_City:20250906T123000
DTSTAMP:20260421T045726
CREATED:20250906T010917Z
LAST-MODIFIED:20250906T011044Z
UID:10000905-1757152800-1757161800@alertachiapas.com
SUMMARY:Taller de "Elaboración de Moni con puerco"
DESCRIPTION:El colectivo Omba Kutkuy te invita a un taller gastronómico para aprender a elaborar el tradicional platillo “Moni con puerco”. Esta es una oportunidad única para sumergirte en la cocina tradicional de Chiapas y dominar los secretos de una receta emblemática. \nEl taller será impartido por la Maestra María Elena Jiménez Tevera\, una experta en la cocina regional que compartirá sus conocimientos y técnicas para que puedas recrear este delicioso platillo en casa. Además de la preparación del “Moni”\, el taller es una forma de preservar y transmitir la herencia culinaria de la comunidad. \nEs un evento con cupo limitado y se pide una cuota de recuperación\, la cual contribuye a cubrir los costos de los materiales e insumos. \n\n  \nDetalles del evento\n  \n\nTítulo del evento: Taller de “Elaboración de Moni con puerco”\nFecha: 6 de septiembre\nHora: 10:00 AM\nLugar: 5a. Sur entre 7a. y 8a. Oriente\, número 898\, barrio San Roque\nImparte: Mtra. María Elena Jiménez Tevera\nCosto: Cuota de recuperación\nInformes e inscripciones: 961-174-4977
URL:https://alertachiapas.com/evento/taller-de-elaboracion-de-moni-con-puerco/
LOCATION:Colectivo Omba Kutkuy\, 5a. Sur entre 7a. y 8a. Oriente\, número 898\, barrio San Roque\, Tuxtla Gutiérrez\, Chiapas\, 29000\, Mexico
CATEGORIES:taller
ATTACH;FMTTYPE=image/jpeg:https://alertachiapas.com/wp-content/uploads/2025/09/540580910_122112706130976263_5563544587152050258_n.jpg
END:VEVENT
END:VCALENDAR