BEGIN:VCALENDAR
VERSION:2.0
PRODID:-//Alerta Chiapas - ECPv6.15.20//NONSGML v1.0//EN
CALSCALE:GREGORIAN
METHOD:PUBLISH
X-WR-CALNAME:Alerta Chiapas
X-ORIGINAL-URL:https://alertachiapas.com
X-WR-CALDESC:Eventos para Alerta Chiapas
REFRESH-INTERVAL;VALUE=DURATION:PT1H
X-Robots-Tag:noindex
X-PUBLISHED-TTL:PT1H
BEGIN:VTIMEZONE
TZID:America/Mexico_City
BEGIN:STANDARD
TZOFFSETFROM:-0600
TZOFFSETTO:-0600
TZNAME:CST
DTSTART:20240101T000000
END:STANDARD
END:VTIMEZONE
BEGIN:VEVENT
DTSTART;TZID=America/Mexico_City:20250821T100000
DTEND;TZID=America/Mexico_City:20250822T130000
DTSTAMP:20260420T175944
CREATED:20250820T033340Z
LAST-MODIFIED:20250820T033340Z
UID:10000858-1755770400-1755867600@alertachiapas.com
SUMMARY:¡Aprende las propiedades de las plantas! Anuncian el Taller de Herbolaria Zoque
DESCRIPTION:El Ayuntamiento de Tuxtla Gutiérrez\, a través del Instituto Tuxtleco de Arte y Cultura (ITAC)\, invita a la comunidad a participar en el primer módulo del “Taller de Herbolaria Zoque”. Este evento\, diseñado para preservar y difundir el conocimiento ancestral\, será impartido por el biólogo Juan Manuel Jonapá. \nEl taller se llevará a cabo durante dos días\, en donde los participantes podrán adentrarse en las propiedades de las plantas y su uso tradicional en la cultura zoque. Es una excelente oportunidad para aprender sobre la riqueza natural y cultural de la región. \nLas sesiones se realizarán el 21 y 22 de agosto\, con una duración de tres horas cada día. El cupo es limitado\, por lo que se recomienda a los interesados inscribirse con anticipación. \nPara obtener más información y registrarse\, se pueden comunicar a los teléfonos 961 171 85 71 y 961 593 12 47. El horario de atención para informes es de lunes a viernes\, de 9:00 a 15:00 horas. \nDetalles del evento: \n\nEvento: Primer módulo del Taller de Herbolaria Zoque.\nImparte: Biólogo Juan Manuel Jonapá.\nLugar: Casa de la Cultura “Luis Alaminos Guerrero”\, 1a. Pte. esquina 2a. Nte.\nFecha: 21 y 22 de agosto.\nHora: 10:00 a 13:00 horas.\nInformes y registro: 961 171 85 71 y 961 593 12 47 (horario de atención de lunes a viernes\, 9:00 a 15:00 horas).\nOrganizador: Coordinación de Cultura Zoque\, Tradiciones\, Costumbre e Identidad Tuxtleca Intercultural.\nCosto: Información no proporcionada\, se sugiere preguntar al número de contacto.
URL:https://alertachiapas.com/evento/aprende-las-propiedades-de-las-plantas-anuncian-el-taller-de-herbolaria-zoque/
LOCATION:Casa de la Cultura Luis Alaminos\, 1a poniente esquina con 2a norte\, Tuxtla Gutiérrez\, Chiapas\, 29000\, Mexico
CATEGORIES:taller
ATTACH;FMTTYPE=image/jpeg:https://alertachiapas.com/wp-content/uploads/2025/08/535252659_1161968252629728_300630242837395127_n.jpg
END:VEVENT
BEGIN:VEVENT
DTSTART;TZID=America/Mexico_City:20250822T170000
DTEND;TZID=America/Mexico_City:20250822T190000
DTSTAMP:20260420T175944
CREATED:20250820T031729Z
LAST-MODIFIED:20250820T031729Z
UID:10000854-1755882000-1755889200@alertachiapas.com
SUMMARY:Grupo Terapéutico Permanente "Salud Mental para Adolescentes"
DESCRIPTION:El Ayuntamiento de Tuxtla Gutiérrez\, a través del Instituto Tuxtleco de Arte y Cultura (ITAC) y la Casa de la Cultura “Luis Alaminos Guerrero”\, anuncia la apertura de un Grupo Terapéutico Permanente de Salud Mental para Adolescentes. \nEste espacio está diseñado para brindar apoyo y atención profesional a jóvenes\, con el objetivo de fomentar su bienestar emocional y desarrollo personal. Los participantes tendrán acceso a: \n\nPsicoeducación y bienestar emocional.\nEspacios de diálogo y aprendizaje.\nDesarrollo de habilidades sociales.\nAutoconocimiento.\n\nEl grupo terapéutico iniciará el 22 de agosto. Las sesiones se llevarán a cabo todos los viernes\, de 17:00 a 19:00 horas\, en las instalaciones de la Casa de la Cultura. \nPara más información e inscripciones\, los interesados pueden comunicarse al número de teléfono 961 254 6047. \nDetalles del evento: \n\nNombre del grupo: Grupo Terapéutico Permanente Salud Mental para Adolescentes.\nDirigido a: Adolescentes.\nLugar: Casa de la Cultura “Luis Alaminos Guerrero”
URL:https://alertachiapas.com/evento/grupo-terapeutico-permanente-salud-mental-para-adolescentes/
LOCATION:Casa de la Cultura Luis Alaminos\, 1a poniente esquina con 2a norte\, Tuxtla Gutiérrez\, Chiapas\, 29000\, Mexico
CATEGORIES:taller
ATTACH;FMTTYPE=image/jpeg:https://alertachiapas.com/wp-content/uploads/2025/08/532137167_18413094463110703_7062977045573297808_n.jpg
END:VEVENT
END:VCALENDAR