BEGIN:VCALENDAR
VERSION:2.0
PRODID:-//Alerta Chiapas - ECPv6.15.20//NONSGML v1.0//EN
CALSCALE:GREGORIAN
METHOD:PUBLISH
X-ORIGINAL-URL:https://alertachiapas.com
X-WR-CALDESC:Eventos para Alerta Chiapas
REFRESH-INTERVAL;VALUE=DURATION:PT1H
X-Robots-Tag:noindex
X-PUBLISHED-TTL:PT1H
BEGIN:VTIMEZONE
TZID:America/Mexico_City
BEGIN:STANDARD
TZOFFSETFROM:-0600
TZOFFSETTO:-0600
TZNAME:CST
DTSTART:20240101T000000
END:STANDARD
END:VTIMEZONE
BEGIN:VEVENT
DTSTART;TZID=America/Mexico_City:20250815T100000
DTEND;TZID=America/Mexico_City:20250815T140000
DTSTAMP:20260422T115445
CREATED:20250815T011057Z
LAST-MODIFIED:20250815T011057Z
UID:10000847-1755252000-1755266400@alertachiapas.com
SUMMARY:Aprende a bordar petatillo: Taller de Bordado Chiapaneca en Tuxtla
DESCRIPTION:El H. Ayuntamiento de Tuxtla Gutiérrez 2024-2027 y el Instituto Tuxtleco de Arte y Cultura (ITAC) anuncian el inicio del Taller de Bordado Chiapaneca\, una excelente oportunidad para aprender la tradicional técnica de petatillo. El taller será impartido por la talentosa Alondra Esther Contreras y forma parte de las actividades de la Coordinación de Cultura Zoque\, Tradiciones\, Costumbres e Identidad Tuxtleca Intercultural. Es una invitación abierta a la comunidad para preservar y promover el arte textil de la región. Para más información e inscripciones\, pueden comunicarse a los números de teléfono proporcionados. \nConcentrado del evento: \n\nNombre del evento: Taller de Bordado Chiapaneca (Técnica de petatillo)\nImparte: Alondra Esther Contreras\nFechas: 15\, 19\, 22 y 26 de agosto\nHorario: 10:00 a 12:30 horas\nLugar: Casa de la Cultura Luis Alaminos Guerrero\, 1a. Pte. Esquina 2a. Nte.\nInformes e inscripciones: 961 242 9211\, 961 171 8571\, 961 116 6678
URL:https://alertachiapas.com/evento/aprende-a-bordar-petatillo-taller-de-bordado-chiapaneca-en-tuxtla/
LOCATION:Casa de la Cultura Luis Alaminos\, 1a poniente esquina con 2a norte\, Tuxtla Gutiérrez\, Chiapas\, 29000\, Mexico
CATEGORIES:taller
ATTACH;FMTTYPE=image/jpeg:https://alertachiapas.com/wp-content/uploads/2025/08/531321873_1156583029834917_5391472363836129336_n.jpg
END:VEVENT
END:VCALENDAR