BEGIN:VCALENDAR
VERSION:2.0
PRODID:-//Alerta Chiapas - ECPv6.15.20//NONSGML v1.0//EN
CALSCALE:GREGORIAN
METHOD:PUBLISH
X-WR-CALNAME:Alerta Chiapas
X-ORIGINAL-URL:https://alertachiapas.com
X-WR-CALDESC:Eventos para Alerta Chiapas
REFRESH-INTERVAL;VALUE=DURATION:PT1H
X-Robots-Tag:noindex
X-PUBLISHED-TTL:PT1H
BEGIN:VTIMEZONE
TZID:America/Mexico_City
BEGIN:STANDARD
TZOFFSETFROM:-0600
TZOFFSETTO:-0600
TZNAME:CST
DTSTART:20240101T000000
END:STANDARD
END:VTIMEZONE
BEGIN:VEVENT
DTSTART;TZID=America/Mexico_City:20250718T160000
DTEND;TZID=America/Mexico_City:20250718T200000
DTSTAMP:20260422T202131
CREATED:20250715T022157Z
LAST-MODIFIED:20250715T022157Z
UID:10000766-1752854400-1752868800@alertachiapas.com
SUMMARY:¡Brinda con Estilo! Curso Corto de Coctelería con el Chef Héctor Barragán en Tuxtla Gutiérrez
DESCRIPTION:El Centro de Especialidades en Artes Culinarias te invita a elevar tus habilidades en mixología con un Curso Corto de Coctelería intensivo. Si eres un entusiasta de los buenos tragos o simplemente quieres impresionar en tu próxima reunión\, esta es la oportunidad perfecta para aprender de un experto. \nEl curso será impartido por el reconocido Chef Héctor Barragán\, quien compartirá técnicas y secretos para crear deliciosos y sofisticados cocteles. Los participantes aprenderán los fundamentos de la coctelería\, desde la elección de ingredientes hasta la preparación y presentación de diversas bebidas. \nEs una excelente opción para pasar una tarde productiva\, adquirir nuevas habilidades y sumergirse en el fascinante mundo de las bebidas. ¡No pierdas esta oportunidad de convertirte en el alma de la fiesta! \n\nConcentrado del evento: \n\nNombre del Evento: Curso Corto de Coctelería\nImparte: Chef Héctor Barragán\nOrganiza/Lugar: Centro de Especialidades en Artes Culinarias\, 12 Poniente Sur 348\, Col. La Lomita\, Tuxtla Gutiérrez\, Chiapas.\nFecha: Viernes\, 18 de julio (2025).\nHorario: De 4:00 PM a 8:00 PM.\nInformes: 9612186356
URL:https://alertachiapas.com/evento/brinda-con-estilo-curso-corto-de-cocteleria-con-el-chef-hector-barragan-en-tuxtla-gutierrez/
LOCATION:Centro de Especialidades en Artes Culinarias\, 12 Poniente Sur 348\, Col. La Lomita\, Tuxtla Gutiérrez\, Chiapas\, 29000\, Mexico
CATEGORIES:taller
ATTACH;FMTTYPE=image/jpeg:https://alertachiapas.com/wp-content/uploads/2025/07/513706141_1155923793217096_8214622083977045544_n.jpg
END:VEVENT
END:VCALENDAR