BEGIN:VCALENDAR
VERSION:2.0
PRODID:-//Alerta Chiapas - ECPv6.15.20//NONSGML v1.0//EN
CALSCALE:GREGORIAN
METHOD:PUBLISH
X-ORIGINAL-URL:https://alertachiapas.com
X-WR-CALDESC:Eventos para Alerta Chiapas
REFRESH-INTERVAL;VALUE=DURATION:PT1H
X-Robots-Tag:noindex
X-PUBLISHED-TTL:PT1H
BEGIN:VTIMEZONE
TZID:America/Mexico_City
BEGIN:STANDARD
TZOFFSETFROM:-0600
TZOFFSETTO:-0600
TZNAME:CST
DTSTART:20240101T000000
END:STANDARD
END:VTIMEZONE
BEGIN:VEVENT
DTSTART;TZID=America/Mexico_City:20250614T100000
DTEND;TZID=America/Mexico_City:20250614T120000
DTSTAMP:20260422T200147
CREATED:20250614T003849Z
LAST-MODIFIED:20250614T003849Z
UID:10000679-1749895200-1749902400@alertachiapas.com
SUMMARY:¡Aprende el arte de los Amigurumis este sábado!
DESCRIPTION:¡Atención\, creativos y amantes de las manualidades en Chiapas! ✨ Prepárense para un taller lleno de hilo y magia: el Taller de Amigurumis. 💖 \nSi siempre has querido aprender a tejer esos adorables muñequitos de ganchillo\, ¡esta es tu oportunidad! La Maestra Karla Nathaly Mosqueda será la encargada de guiarte en este fascinante proceso\, compartiendo sus conocimientos y trucos para crear tus propias figuras. 🤩 \n¡Es el plan perfecto para pasar un sábado diferente\, desestresarte y desarrollar una nueva habilidad! No pierdas la oportunidad de unirte a esta comunidad creativa y llevarte a casa tus propias creaciones. 🧵 \nPara más información\, puedes contactar a la Mtra. Karla Nathaly Mosqueda al 📞 961 139 47 30. \n\nConcentrado del Evento: \n\nNombre del evento: Taller de Amigurumis. 🧶\nImparte: Mtra. Karla Nathaly Mosqueda.\nContacto: 961 139 47 30.\nLugar: Casa de la Cultura Gral. Manuel de Mier y Terán. 📍\n\nDirección: 2a. Nte. Esquina 2a. Ote.\n\n\nFecha: Sábado 14 de junio de 2025. 🗓️\nHora: 10:00 a 12:00 hrs. ⏰\nDetalles del evento: Taller práctico para aprender a tejer amigurumis (muñecos de ganchillo). 🧸
URL:https://alertachiapas.com/evento/aprende-el-arte-de-los-amigurumis-este-sabado/
LOCATION:Casa de la Cultura Gral. Manuel de Mier y Terán\, 2a. Nte. Ote. 214\, Terán\, tuxtla gutiérrez\, Chiapas\, 29000\, Mexico
CATEGORIES:taller
ATTACH;FMTTYPE=image/png:https://alertachiapas.com/wp-content/uploads/2025/06/Captura-de-pantalla-2025-06-13-a-las-6.36.28 p.m.png
END:VEVENT
END:VCALENDAR