BEGIN:VCALENDAR
VERSION:2.0
PRODID:-//Alerta Chiapas - ECPv6.15.20//NONSGML v1.0//EN
CALSCALE:GREGORIAN
METHOD:PUBLISH
X-ORIGINAL-URL:https://alertachiapas.com
X-WR-CALDESC:Eventos para Alerta Chiapas
REFRESH-INTERVAL;VALUE=DURATION:PT1H
X-Robots-Tag:noindex
X-PUBLISHED-TTL:PT1H
BEGIN:VTIMEZONE
TZID:America/Mexico_City
BEGIN:STANDARD
TZOFFSETFROM:-0600
TZOFFSETTO:-0600
TZNAME:CST
DTSTART:20240101T000000
END:STANDARD
END:VTIMEZONE
BEGIN:VEVENT
DTSTART;TZID=America/Mexico_City:20250603T120000
DTEND;TZID=America/Mexico_City:20250603T140000
DTSTAMP:20260422T213234
CREATED:20250602T235245Z
LAST-MODIFIED:20250602T235245Z
UID:10000640-1748952000-1748959200@alertachiapas.com
SUMMARY:Aprende a realizar coronas de flores naturales para los cumpleaños
DESCRIPTION:¿Se acerca tu cumpleaños o el de alguien especial? 🥳 ¡Entonces este taller es para ti! Te invitamos a participar en el Taller de Elaboración de Coronas de Flores Naturales para Cumpleaños. 💐 \nAprende a crear hermosas coronas con flores frescas y dale un toque único y natural a tus celebraciones. Es una actividad divertida y creativa para todas las edades\, donde podrás dejar volar tu imaginación y diseñar una corona que refleje tu estilo. ✨ \n¡No te pierdas esta oportunidad de aprender un nuevo arte y llevar la belleza de la naturaleza a tus festejos! 🌿🌼 \n\nConcentrado del evento: \n\nEvento: Taller de Elaboración de Coronas de Flores Naturales para Cumpleaños 👑\nFecha: 3 de junio (¡Mañana!) 🗓️\nHora: De 12:00 a 14:00 horas ⏰\nLugar: Patio de la Casa de la Cultura Luis Alaminos Guerrero (Tuxtla Gutiérrez\, Chiapas) 📍\nRegistro (números): 961 171 8571 y 961 593 1247 📞\nDetalles: Aprende a crear tu propia corona de flores naturales. 🎉
URL:https://alertachiapas.com/evento/aprende-a-realizar-coronas-de-flores-naturales-para-los-cumpleanos/
LOCATION:Casa de la Cultura Luis Alaminos\, 1a poniente esquina con 2a norte\, Tuxtla Gutiérrez\, Chiapas\, 29000\, Mexico
CATEGORIES:taller
ATTACH;FMTTYPE=image/png:https://alertachiapas.com/wp-content/uploads/2025/06/Captura-de-pantalla-2025-06-02-a-las-5.47.50 p.m.png
END:VEVENT
BEGIN:VEVENT
DTSTART;TZID=America/Mexico_City:20250603T170000
DTEND;TZID=America/Mexico_City:20250603T200000
DTSTAMP:20260422T213234
CREATED:20250519T234343Z
LAST-MODIFIED:20250519T234343Z
UID:10000591-1748970000-1748980800@alertachiapas.com
SUMMARY:¡Pinta sin límites! Llega el workshop “Crea sin expectativas” en Tuxtla
DESCRIPTION:¿Te gusta el arte\, la creatividad y lo hecho a mano? 🧵🖌️ Entonces no puedes perderte el taller “Crea sin expectativas”\, un workshop de pintura acrílica donde podrás personalizar tu propia tote bag y dejar fluir tu imaginación sin reglas. 👜✨ \nLa cita es el próximo martes 3 de junio a las 5:00 p.m. en Caleidoscopio Galería Taller\, un espacio artístico ubicado en el corazón de Tuxtla Gutiérrez. Este evento creativo\, impulsado por Maja Art Studio\, está diseñado para reconectar contigo a través del arte\, crear sin presión y disfrutar del momento. 💜🎨 \nDurante 3 horas vivirás una experiencia única con acompañamiento artístico y todos los materiales incluidos. ¡No necesitas experiencia previa! Solo ganas de experimentar\, crear y pasarla bien. 🙌 \n\n\n📍 Lugar: Caleidoscopio Galería Taller📌 Dirección: 2a Oriente Norte #447\, Colonia Centro\, Tuxtla Gutiérrez\, Chiapas📅 Fecha: Martes 3 de junio🕔 Hora: 5:00 p.m.⏳ Duración: 3 horas🎨 Actividad: Workshop de pintura acrílica sobre tote bag🖌️ Organiza: Maja Art Studio\, en colaboración con Caleidoscopio\, Café Urbano\, El Jardín y MÁS
URL:https://alertachiapas.com/evento/pinta-sin-limites-llega-el-workshop-crea-sin-expectativas-en-tuxtla/
LOCATION:Caleidoscopio Galeria Taller\, 2a oriente norte 443 A
CATEGORIES:taller
ATTACH;FMTTYPE=image/jpeg:https://alertachiapas.com/wp-content/uploads/2025/05/IMG_1549.jpg
END:VEVENT
END:VCALENDAR