BEGIN:VCALENDAR
VERSION:2.0
PRODID:-//Alerta Chiapas - ECPv6.15.20//NONSGML v1.0//EN
CALSCALE:GREGORIAN
METHOD:PUBLISH
X-ORIGINAL-URL:https://alertachiapas.com
X-WR-CALDESC:Eventos para Alerta Chiapas
REFRESH-INTERVAL;VALUE=DURATION:PT1H
X-Robots-Tag:noindex
X-PUBLISHED-TTL:PT1H
BEGIN:VTIMEZONE
TZID:America/Mexico_City
BEGIN:STANDARD
TZOFFSETFROM:-0600
TZOFFSETTO:-0600
TZNAME:CST
DTSTART:20240101T000000
END:STANDARD
END:VTIMEZONE
BEGIN:VEVENT
DTSTART;TZID=America/Mexico_City:20251031T190000
DTEND;TZID=America/Mexico_City:20251031T200000
DTSTAMP:20260421T184845
CREATED:20251031T233821Z
LAST-MODIFIED:20251031T233821Z
UID:10001061-1761937200-1761940800@alertachiapas.com
SUMMARY:Misa de Todos los Santos en la Capilla San José Obrero.
DESCRIPTION:Santos \nLa Capilla San José Obrero y su Junta de Coordinadores de la Colonia Colonial invitan a la comunidad a participar en la celebración de la Solemnidad de Todos los Santos\, una fecha de gran importancia dentro del calendario litúrgico católico. \nEl acto central será una Misa que se llevará a cabo el Sábado 01 de Noviembre a las 7:00 de la noche (19:00 horas). \nSe extiende una invitación especial a los asistentes a participar activamente en la creación del altar que se realizará en la capilla. Los fieles pueden traer fotografías de sus seres queridos (fieles difuntos) junto con flores\, ofrendas y veladoras para colocarlas en el altar. \nLa Capilla ha establecido un costo de intención de $20.00 pesos por difunto únicamente para ese día\, buscando cubrir los gastos operativos de la celebración. \n\n  \nConcentrado de Información del Evento:\n  \n\n\n\nCategoría\nDetalle\n\n\n\n\nEvento\nLa Solemnidad de Todos los Santos (Misa)\n\n\nOrganiza\nCapilla San José Obrero y Junta de Coordinadores\n\n\nFecha\nSábado 01 de Noviembre\n\n\nHora\n19:00 Horas (7:00 PM)\n\n\nLugar\nCapilla San José Obrero\, Colonia Colonial\n\n\nDetalles\nSe puede traer fotografía\, flores\, ofrendas y veladoras.\n\n\nCosto\n$20.00 por difunto (Costo de la intención)
URL:https://alertachiapas.com/evento/misa-de-todos-los-santos-en-la-capilla-san-jose-obrero/
LOCATION:Capilla San José Obrero\, Los Arcos\, Colonial\, 29098 Tuxtla Gutiérrez\, Chis.\, Tuxtla Gutiérrez\, Chiapas\, 29000\, Mexico
CATEGORIES:Religión
ATTACH;FMTTYPE=image/jpeg:https://alertachiapas.com/wp-content/uploads/2025/10/574292743_1126543962898794_6784237508341671467_n.jpg
END:VEVENT
END:VCALENDAR