BEGIN:VCALENDAR
VERSION:2.0
PRODID:-//Alerta Chiapas - ECPv6.15.20//NONSGML v1.0//EN
CALSCALE:GREGORIAN
METHOD:PUBLISH
X-ORIGINAL-URL:https://alertachiapas.com
X-WR-CALDESC:Eventos para Alerta Chiapas
REFRESH-INTERVAL;VALUE=DURATION:PT1H
X-Robots-Tag:noindex
X-PUBLISHED-TTL:PT1H
BEGIN:VTIMEZONE
TZID:America/Mexico_City
BEGIN:STANDARD
TZOFFSETFROM:-0600
TZOFFSETTO:-0600
TZNAME:CST
DTSTART:20240101T000000
END:STANDARD
END:VTIMEZONE
BEGIN:VEVENT
DTSTART;TZID=America/Mexico_City:20250117T180000
DTEND;TZID=America/Mexico_City:20250117T200000
DTSTAMP:20260424T090125
CREATED:20250109T225835Z
LAST-MODIFIED:20250109T225946Z
UID:10000218-1737136800-1737144000@alertachiapas.com
SUMMARY:Voces y Sonidos de Chiapas: Recital de Música de Cámara
DESCRIPTION:El próximo 17 de enero de 2025\, la Casa de la Cultura Luis Alaminos Guerrero será el escenario del recital de música de cámara “Voces y Sonidos de Chiapas”\, un evento que promete deleitar a los amantes de la música clásica y tradicional. \nCon la participación especial de destacados artistas:\n🎼 Georgina Malla en la flauta\n🎻 Ilsse Joana en el violín\n🎹 Douglas Bringas en el piano \nEste recital es una iniciativa del Instituto Tuxtleco de Arte y Cultura (ITAC)\, en colaboración con la Facultad de Música de la UNICACH\, que busca enaltecer las raíces culturales de Chiapas a través de la música. \nEl evento es abierto al público y se llevará a cabo a las 18:00 horas en la Casa de la Cultura\, ubicada en 1a. Poniente esquina con 2a. Norte. \n¡No te pierdas esta experiencia única de sonidos y emociones! 🎵 \n\nFecha: 17 de enero de 2025\nHora: 18:00 horas\nLugar: Casa de la Cultura Luis Alaminos Guerrero (1a. Poniente esquina 2a. Norte)\nParticipantes:\n\nGeorgina Malla (flauta)\nIlsse Joana (violín)\nDouglas Bringas (piano)\n\n\nOrganiza: ITAC y Facultad de Música UNICACH
URL:https://alertachiapas.com/evento/voces-y-sonidos-de-chiapas-recital-de-musica-de-camara/
LOCATION:Casa de la Cultura Luis Alaminos\, 1a poniente esquina con 2a norte\, Tuxtla Gutiérrez\, Chiapas\, 29000\, Mexico
CATEGORIES:Música
ATTACH;FMTTYPE=image/jpeg:https://alertachiapas.com/wp-content/uploads/2025/01/471492782_984823403677548_5610088205223302296_n.jpg
END:VEVENT
BEGIN:VEVENT
DTSTART;TZID=America/Mexico_City:20250117T200000
DTEND;TZID=America/Mexico_City:20250127T230000
DTSTAMP:20260424T090125
CREATED:20250116T234534Z
LAST-MODIFIED:20250116T235458Z
UID:10000236-1737144000-1738018800@alertachiapas.com
SUMMARY:¡Feria Tradicional de San Sebastián en Berriozábal!
DESCRIPTION:La Feria Tradicional en honor a San Sebastián Mártir llega con todo su esplendor a Berriozábal\, Chiapas\, del 17 al 22 de enero de 2025. Este evento será una gran celebración llena de música\, cultura y diversión para toda la familia. 🌟✨ \nLa cartelera musical incluye artistas de gran renombre\, preparados para encender el escenario y hacerte vivir noches inolvidables: \n\nInspector el viernes 17 con su inigualable ska. 🎤🔥\nRaúl Hernández y Raúl Hernández Jr. el sábado 18\, llevando el sabor del regional mexicano. 🎶\nAlfredo “El Pulpo” el domingo 19\, con su estilo único para disfrutar al máximo. 🥳\nJulio Preciado\, “La leyenda de la banda”\, cerrará con broche de oro el lunes 20. 🎺✨\n\nAdemás de la música\, la feria contará con juegos mecánicos\, antojitos mexicanos y actividades culturales para todas las edades. ¡No te pierdas esta gran fiesta que enorgullece a Berriozábal! 🎡🍴 \n\n📍 Lugar: Berriozábal\, Chiapas.\n📅 Fechas: Del 16 al 22 de enero de 2025.\n🎶 Artistas destacados:\n\nInspector: Viernes 17.\nRaúl Hernández y Raúl Hernández Jr.: Sábado 18.\nAlfredo “El Pulpo”: Domingo 19.\nJulio Preciado: Lunes 20.\n\n\n🌟 Actividades: Juegos mecánicos\, antojitos mexicanos\, actividades culturales.\n\n👉 ¡Vive la magia de la Feria de San Sebastián! 🎉
URL:https://alertachiapas.com/evento/feria-tradicional-de-san-sebastian-en-berriozabal/
LOCATION:Parque Central de Berriozabal\, v. Primera Nte. Pte. s/n\, Centro\, Berriozábal
CATEGORIES:Música
ATTACH;FMTTYPE=image/jpeg:https://alertachiapas.com/wp-content/uploads/2025/01/473621008_1159613582838191_7544813350599236920_n.jpg
END:VEVENT
BEGIN:VEVENT
DTSTART;TZID=America/Mexico_City:20250118T163000
DTEND;TZID=America/Mexico_City:20250118T200000
DTSTAMP:20260424T090125
CREATED:20250116T234942Z
LAST-MODIFIED:20250116T234942Z
UID:10000237-1737217800-1737230400@alertachiapas.com
SUMMARY:¡Qué Viva el Mariachi en Tuxtla!
DESCRIPTION:La magia de la música mexicana llega a Tuxtla Gutiérrez con el espectacular Festival de Música Mexicana: ¡Qué Viva el Mariachi!. Este evento se llevará a cabo el próximo 18 de enero\, de 4:30 PM a 8:00 PM\, en el Parque Niño de Atocha. 🎉✨ \nVen y disfruta de una tarde llena de tradición con la mejor música de mariachi\, cantantes invitados y un ambiente festivo ideal para toda la familia. Además\, podrás deleitarte con deliciosos antojitos típicos que darán un sabor especial a esta celebración. 🌮🎶 \nOrganizado por el Instituto Tuxtleco de Arte y Cultura (ITAC) y el Ayuntamiento de Tuxtla Gutiérrez\, este evento forma parte del programa Circuito de Parques\, promoviendo la cultura y el entretenimiento en la ciudad. ¡No te lo pierdas! 🙌🌟 \n\n📍 Lugar: Parque Niño de Atocha\, Tuxtla Gutiérrez.\n📅 Fecha: 18 de enero de 2025.\n⏰ Hora: 4:30 PM a 8:00 PM.\n🎶 Actividades: Música de mariachi\, cantantes en vivo\, antojitos mexicanos.\nOrganiza: Instituto Tuxtleco de Arte y Cultura (ITAC) y Ayuntamiento de Tuxtla Gutiérrez.\n\n👉 ¡Celebra nuestras tradiciones con música y sabor! 🌟🎺
URL:https://alertachiapas.com/evento/que-viva-el-mariachi-en-tuxtla/
LOCATION:Parque Niño de Atocha\, Av. Novena Norte Poniente s/n\, Niño de Atocha\, tuxtla gutiérrez\, Chiapas\, 29000\, Mexico
CATEGORIES:Música
ATTACH;FMTTYPE=image/jpeg:https://alertachiapas.com/wp-content/uploads/2025/01/474071820_1081277093681538_8690510850156796887_n.jpg
END:VEVENT
END:VCALENDAR