BEGIN:VCALENDAR
VERSION:2.0
PRODID:-//Alerta Chiapas - ECPv6.15.20//NONSGML v1.0//EN
CALSCALE:GREGORIAN
METHOD:PUBLISH
X-ORIGINAL-URL:https://alertachiapas.com
X-WR-CALDESC:Eventos para Alerta Chiapas
REFRESH-INTERVAL;VALUE=DURATION:PT1H
X-Robots-Tag:noindex
X-PUBLISHED-TTL:PT1H
BEGIN:VTIMEZONE
TZID:America/Mexico_City
BEGIN:STANDARD
TZOFFSETFROM:-0600
TZOFFSETTO:-0600
TZNAME:CST
DTSTART:20240101T000000
END:STANDARD
END:VTIMEZONE
BEGIN:VEVENT
DTSTART;TZID=America/Mexico_City:20250110T180000
DTEND;TZID=America/Mexico_City:20250110T200000
DTSTAMP:20260422T060450
CREATED:20250109T230500Z
LAST-MODIFIED:20250109T230529Z
UID:10000219-1736532000-1736539200@alertachiapas.com
SUMMARY:Presentación de Cañón del Sonidero con la banda "Murila Arrechura"
DESCRIPTION:La tradición y la alegría se desbordan en “La Pandilla de la Tía They”\, un evento lleno de color\, música y cultura que celebra las costumbres de Chiapa de Corzo. Bajo el lema “Poseídas Buscadoras de la Arrechura”\, esta fiesta promete ser una experiencia inolvidable. \n\n🎶 10 de enero – 6:00 PM: Presentación de Cañón del Sonidero con la banda “Murila Arrechura”.\n\nEl evento tendrá como punto de reunión la Casa Tía They\, ubicada en la Av. Coronel Salvador Urbina #49\, entre las calles Santos Degollado e Iturbide\, en Chiapa de Corzo. \nEsta es tu oportunidad de vivir una de las tradiciones más emblemáticas del estado\, llena de música\, danza y cultura popular. ¡No faltes! 🎉
URL:https://alertachiapas.com/evento/presentacion-de-canon-del-sonidero-con-la-banda-murila-arrechura/
LOCATION:Casa de la Tía They\, Av. Coronel Salvador Urbina #49 entre las calles Santos Degollado e Iturbide\, tuxtla gutiérrez\, Chiapas\, Mexico
CATEGORIES:Música
ATTACH;FMTTYPE=image/png:https://alertachiapas.com/wp-content/uploads/2025/01/Captura-de-pantalla-2025-01-09-a-las-5.01.42 p.m.png
END:VEVENT
END:VCALENDAR