BEGIN:VCALENDAR
VERSION:2.0
PRODID:-//Alerta Chiapas - ECPv6.15.20//NONSGML v1.0//EN
CALSCALE:GREGORIAN
METHOD:PUBLISH
X-ORIGINAL-URL:https://alertachiapas.com
X-WR-CALDESC:Eventos para Alerta Chiapas
REFRESH-INTERVAL;VALUE=DURATION:PT1H
X-Robots-Tag:noindex
X-PUBLISHED-TTL:PT1H
BEGIN:VTIMEZONE
TZID:America/Mexico_City
BEGIN:STANDARD
TZOFFSETFROM:-0600
TZOFFSETTO:-0600
TZNAME:CST
DTSTART:20250101T000000
END:STANDARD
END:VTIMEZONE
BEGIN:VEVENT
DTSTART;VALUE=DATE:20260228
DTEND;VALUE=DATE:20260307
DTSTAMP:20260422T115243
CREATED:20260129T025006Z
LAST-MODIFIED:20260129T025006Z
UID:10001164-1772236800-1772841599@alertachiapas.com
SUMMARY:¡Cartelera de Lujo! Presentan la Expo Feria Acapetahua 2026
DESCRIPTION:El municipio de Acapetahua se viste de gala para celebrar su tradicional Expo Feria Agropecuaria y Comercial 2026. Del 28 de febrero al 6 de marzo\, locales y visitantes podrán disfrutar de una semana llena de música\, cultura y actividades tradicionales en un ambiente 100% familiar.
URL:https://alertachiapas.com/evento/cartelera-de-lujo-presentan-la-expo-feria-acapetahua-2026/
LOCATION:Acapetahua\, Parque central\, Nuevo Milenio\, Acapetahua\, Chis.\, 30590\, Mexico
CATEGORIES:Expo venta,Exposición
ATTACH;FMTTYPE=image/jpeg:https://alertachiapas.com/wp-content/uploads/2026/01/623248722_122277488870223095_2815832714583143668_n-1.jpg
END:VEVENT
BEGIN:VEVENT
DTSTART;TZID=America/Mexico_City:20260306T180000
DTEND;TZID=America/Mexico_City:20260306T200000
DTSTAMP:20260422T115243
CREATED:20260303T205818Z
LAST-MODIFIED:20260303T205818Z
UID:10001237-1772820000-1772827200@alertachiapas.com
SUMMARY:Invitan a la exposición fotográfica "Chiapas y su Biodiversidad" en Comitán
DESCRIPTION:  \nEl Consejo Estatal para las Culturas y las Artes de Chiapas (CONECULTA)\, a través de la Casa Museo Dr. Belisario Domínguez\, invita al público en general a la inauguración de la exposición fotográfica “Chiapas y su Biodiversidad: Conocer para Conservar”. \nEsta muestra visual\, presentada por el fotógrafo Raúl Trujillo\, ofrece una mirada profunda a la riqueza natural del estado\, resaltando la importancia de la preservación ambiental a través del arte de la lente. La exposición busca sensibilizar a los asistentes sobre la fauna y flora chiapaneca en un entorno histórico y cultural. \nLa cita es en los corredores de la emblemática Casa Museo Dr. Belisario Domínguez en el municipio de Comitán. Cabe destacar que el acceso al evento es totalmente gratuito\, fomentando así el acercamiento de la sociedad chiapaneca a las expresiones artísticas y al conocimiento de su entorno natural. \n\nConcentrado del Evento\n\n\nEvento: Exposición Fotográfica “Chiapas y su Biodiversidad”. \n\n\nLema: Conocer para conservar. \n\n\nPresenta: Raúl Trujillo. \n\n\nFecha: Viernes 6 de marzo de 2026. \n\n\nHora: 18:00 h. \n\n\nLugar: Corredores de la Casa Museo Dr. Belisario Domínguez. \n\n\nUbicación: Comitán de Domínguez\, Chiapas. \n\n\nCosto: Entrada libre. \n\n\nOrganiza: Consejo Estatal para las Culturas y las Artes de Chiapas.
URL:https://alertachiapas.com/evento/invitan-a-la-exposicion-fotografica-chiapas-y-su-biodiversidad-en-comitan/
LOCATION:Casa Museo Dr. Belisario Domínguez\, Comitán de Domínguez
CATEGORIES:Exposición
ATTACH;FMTTYPE=image/jpeg:https://alertachiapas.com/wp-content/uploads/2026/03/Unknown-5.jpeg
END:VEVENT
BEGIN:VEVENT
DTSTART;TZID=America/Mexico_City:20260307T180000
DTEND;TZID=America/Mexico_City:20260307T200000
DTSTAMP:20260422T115243
CREATED:20260307T005217Z
LAST-MODIFIED:20260307T005217Z
UID:10001245-1772906400-1772913600@alertachiapas.com
SUMMARY:Michelle Merchant presenta "XV": Una esperada exposición individual en Tuxtla Gutiérrez
DESCRIPTION:La escena artística de la capital chiapaneca se viste de gala con la inauguración de “XV”\, la más reciente exposición individual de la artista Michelle Merchant. Este evento representa una oportunidad única para conocer de cerca el lenguaje visual y la propuesta creativa de Merchant\, quien se ha destacado por un estilo distintivo que ahora toma el protagonismo en un espacio dedicado al arte y la cultura. \nLa cita tendrá lugar en las instalaciones de Caleidoscopio Galería Taller\, un recinto que continúa impulsando el talento local y ofreciendo experiencias inmersivas a la comunidad. Se invita al público general a asistir y ser parte de esta celebración artística que promete enriquecer la oferta cultural de este fin de semana en el corazón de la ciudad. \n\nDetalles del Evento\n\n\nEvento: Exposición individual “XV” de Michelle Merchant. \n\n\n📍 Lugar: Caleidoscopio Galería Taller\, ubicada en Calle Segunda Oriente #447\, entre 3.ª y 4.ª Norte\, Colonia Centro\, Tuxtla Gutiérrez\, Chiapas. \n\n\n📅 Fecha: Sábado 7 de marzo. \n\n\n🕕 Hora: 6:00 P.M.
URL:https://alertachiapas.com/evento/michelle-merchant-presenta-xv-una-esperada-exposicion-individual-en-tuxtla-gutierrez/
LOCATION:Caleidoscopio Galeria Taller\, 2a oriente norte 443 A
CATEGORIES:Exposición
ATTACH;FMTTYPE=image/jpeg:https://alertachiapas.com/wp-content/uploads/2026/03/18a11985-0a6c-4696-9c3d-7169d46cc47b.jpg
END:VEVENT
END:VCALENDAR