BEGIN:VCALENDAR
VERSION:2.0
PRODID:-//Alerta Chiapas - ECPv6.15.20//NONSGML v1.0//EN
CALSCALE:GREGORIAN
METHOD:PUBLISH
X-ORIGINAL-URL:https://alertachiapas.com
X-WR-CALDESC:Eventos para Alerta Chiapas
REFRESH-INTERVAL;VALUE=DURATION:PT1H
X-Robots-Tag:noindex
X-PUBLISHED-TTL:PT1H
BEGIN:VTIMEZONE
TZID:America/Mexico_City
BEGIN:STANDARD
TZOFFSETFROM:-0600
TZOFFSETTO:-0600
TZNAME:CST
DTSTART:20240101T000000
END:STANDARD
END:VTIMEZONE
BEGIN:VEVENT
DTSTART;TZID=America/Mexico_City:20250906T180000
DTEND;TZID=America/Mexico_City:20250906T200000
DTSTAMP:20260421T015055
CREATED:20250905T011617Z
LAST-MODIFIED:20250905T011617Z
UID:10000904-1757181600-1757188800@alertachiapas.com
SUMMARY:“Deus: La Forma Habitada” llega a Tuxtla con la obra de Deidy Vicente
DESCRIPTION:La artista Deidy Vicente presentará su exposición gráfica-pictórica titulada “Deus: La Forma Habitada”\, una propuesta que explora el cuerpo y la espiritualidad desde un lenguaje visual íntimo y contemporáneo. \nLa inauguración se llevará a cabo este sábado 6 de septiembre a las 6:00 pm en Caleidoscopio Galería Taller\, ubicada en 2a Oriente Norte #447\, Colonia Centro\, Tuxtla Gutiérrez\, Chiapas. \nEl evento promete ser un espacio de encuentro con el arte emergente chiapaneco\, en donde el público podrá apreciar la fuerza expresiva de la obra de Vicente\, quien combina técnicas gráficas y pictóricas para dar vida a composiciones cargadas de simbolismo. \nLa exposición es organizada en colaboración con El Jardín Floristería Regional y Café Urbano\, quienes suman esfuerzos para fortalecer el circuito cultural en la capital chiapaneca. \n\n📍 Concentrado del evento\n\n\nEvento: Exposición gráfica-pictórica “Deus: La Forma Habitada” \n\n\nArtista: Deidy Vicente \n\n\nLugar: Caleidoscopio Galería Taller\, 2a Oriente Norte #447\, Col. Centro\, Tuxtla Gutiérrez\, Chiapas \n\n\nFecha: Sábado 6 de septiembre \n\n\nHora: 6:00 pm \n\n\nOrganizan: El Jardín Floristería Regional\, Café Urbano y Caleidoscopio Galería Taller
URL:https://alertachiapas.com/evento/deus-la-forma-habitada-llega-a-tuxtla-con-la-obra-de-deidy-vicente/
LOCATION:Caleidoscopio Galeria Taller\, 2a oriente norte 443 A
CATEGORIES:Arte,Exposición
ATTACH;FMTTYPE=image/jpeg:https://alertachiapas.com/wp-content/uploads/2025/09/7e93fe75-7621-48d3-8ac4-e343a13adfb3.jpg
END:VEVENT
END:VCALENDAR