BEGIN:VCALENDAR
VERSION:2.0
PRODID:-//Alerta Chiapas - ECPv6.15.20//NONSGML v1.0//EN
CALSCALE:GREGORIAN
METHOD:PUBLISH
X-ORIGINAL-URL:https://alertachiapas.com
X-WR-CALDESC:Eventos para Alerta Chiapas
REFRESH-INTERVAL;VALUE=DURATION:PT1H
X-Robots-Tag:noindex
X-PUBLISHED-TTL:PT1H
BEGIN:VTIMEZONE
TZID:America/Mexico_City
BEGIN:STANDARD
TZOFFSETFROM:-0600
TZOFFSETTO:-0600
TZNAME:CST
DTSTART:20240101T000000
END:STANDARD
END:VTIMEZONE
BEGIN:VEVENT
DTSTART;TZID=America/Mexico_City:20250920T110000
DTEND;TZID=America/Mexico_City:20250920T190000
DTSTAMP:20260421T195836
CREATED:20250919T023907Z
LAST-MODIFIED:20250919T023907Z
UID:10000940-1758366000-1758394800@alertachiapas.com
SUMMARY:¡El tianguis regresa al Salón Ágora!
DESCRIPTION:¡Prepárate para una tarde de compras\, arte y buena vibra! El tianguis regresa al Salón Ágora para una nueva edición donde podrás disfrutar de una gran variedad de productos y servicios. El evento es la oportunidad perfecta para apoyar el talento local y encontrar piezas únicas. \nEn el tianguis habrá: \n\nProductos de segunda mano: Para aquellos que buscan tesoros únicos con historia.\nEmprendimientos: Apoya a los pequeños negocios locales.\nArte local: Descubre el talento de artistas de la región.\nAlimentos y bebidas: Para que te hidrates y recargues energías mientras disfrutas del evento.\nTatuajes y perforaciones: Si buscas una nueva pieza\, ¡este es el lugar!\n\nLo mejor de todo\, el tianguis es pet friendly y la entrada es libre\, por lo que puedes llevar a tu mascota. ¡No te lo pierdas! \n\nConcentrado del evento: \n\nEvento: El tianguis\nLugar: Salón Ágora\nFecha: Sábado\, 20 de septiembre\nHora: 11:00 AM a 7:00 PM\nDetalles: Venta de segunda mano\, emprendimientos\, arte local\, alimentos\, bebidas\, tatuajes y perforaciones. Entrada libre. Pet friendly.
URL:https://alertachiapas.com/evento/el-tianguis-regresa-al-salon-agora/
LOCATION:Salón Ágora\, San Isidro Buena Vista S/N\, detrás de la Prepa 2\, tuxtla gutiérrez\, Chiapas\, 29000\, Mexico
CATEGORIES:Expo venta
ATTACH;FMTTYPE=image/jpeg:https://alertachiapas.com/wp-content/uploads/2025/09/IMG_5070.jpg
END:VEVENT
BEGIN:VEVENT
DTSTART;TZID=America/Mexico_City:20250921T100000
DTEND;TZID=America/Mexico_City:20250921T200000
DTSTAMP:20260421T195836
CREATED:20250920T022714Z
LAST-MODIFIED:20250920T022714Z
UID:10000941-1758448800-1758484800@alertachiapas.com
SUMMARY:Conejas Boo-zar: diversión espeluznante en Tuxtla
DESCRIPTION:Este domingo 21 de septiembre\, la Calzada de los Ilustres\, a un costado del Jardín Botánico\, se transformará en un espacio de diversión para toda la familia con el evento “Conejas Boo-zar”. \nUn encuentro que mezcla el espíritu emprendedor con el ambiente festivo de temporada. Los asistentes podrán disfrutar de:✨ Emprendimientos locales con productos creativos.✨ Pasarela de disfraces para mostrar tu look más aterrador o tierno.✨ Proyecciones de cine para todas las edades.✨ Talleres interactivos para aprender y divertirse.✨ Botargas que darán vida al ambiente.✨ Registro civil temático\, ideal para fotos inolvidables.✨ Rifas con premios sorpresa. \nLa entrada es totalmente libre\, por lo que es la oportunidad perfecta para apoyar a emprendedores\, convivir en familia y vivir una experiencia llena de magia y sustos divertidos. 🕸️💜 \n\n📍 Lugar: Calzada de los Ilustres (junto al Jardín Botánico)📅 Fecha: Domingo 21 de septiembre⏰ Horario: 10:00 AM – 8:00 PM🎟️ Entrada: Libre📲 Info para emprendedores: 961 850 0071
URL:https://alertachiapas.com/evento/conejas-boo-zar-diversion-espeluznante-en-tuxtla/
LOCATION:Calzada de las Personas Ilustres\, Calzada de las Personas Ilustres\, tuxtla gutiérrez\, Chiapas\, 29000\, Mexico
CATEGORIES:Expo venta
ATTACH;FMTTYPE=image/jpeg:https://alertachiapas.com/wp-content/uploads/2025/09/549182432_766245936294932_1399017679663240235_n.jpg
GEO:16°45'32.0"N;93°06'30.5"W
X-APPLE-STRUCTURED-LOCATION;VALUE=URI;X-ADDRESS=Calzada de las Personas Ilustres Calzada de las Personas Ilustres tuxtla gutiérrez Chiapas 29000 Mexico;X-APPLE-RADIUS=500;X-TITLE=Calzada de las Personas Ilustres:geo:93°06'30.5"W,16°45'32.0"N
END:VEVENT
END:VCALENDAR