BEGIN:VCALENDAR
VERSION:2.0
PRODID:-//Alerta Chiapas - ECPv6.15.20//NONSGML v1.0//EN
CALSCALE:GREGORIAN
METHOD:PUBLISH
X-ORIGINAL-URL:https://alertachiapas.com
X-WR-CALDESC:Eventos para Alerta Chiapas
REFRESH-INTERVAL;VALUE=DURATION:PT1H
X-Robots-Tag:noindex
X-PUBLISHED-TTL:PT1H
BEGIN:VTIMEZONE
TZID:America/Mexico_City
BEGIN:STANDARD
TZOFFSETFROM:-0600
TZOFFSETTO:-0600
TZNAME:CST
DTSTART:20240101T000000
END:STANDARD
END:VTIMEZONE
BEGIN:VEVENT
DTSTART;TZID=America/Mexico_City:20250923T180000
DTEND;TZID=America/Mexico_City:20250923T190000
DTSTAMP:20260424T161407
CREATED:20250923T014342Z
LAST-MODIFIED:20250923T014342Z
UID:10000947-1758650400-1758654000@alertachiapas.com
SUMMARY:Homenaje a la Cultura Zoque: "Put' Kú" reconocerá a guardianes de las tradiciones en Tuxtla
DESCRIPTION:El Ayuntamiento de Tuxtla Gutiérrez\, en conjunto con el ITAC (Instituto Tuxtleco de Arte y Cultura)\, te invita a la ceremonia de “Put’ Kú”\, que significa “Gente Fuerte” en lengua zoque. Este evento especial es una entrega de reconocimientos a las personas que\, con su esfuerzo y dedicación\, custodian y promueven las ricas tradiciones y costumbres zoques de la región. \nVen y sé parte de este emotivo homenaje a los guardianes de nuestra identidad cultural\, donde se destacará el legado de aquellos que mantienen viva la herencia de nuestros ancestros. La ceremonia se llevará a cabo en el corazón de la ciudad\, un espacio significativo para la comunidad. \n\nConcentrado del evento: \n\nEvento: “Put’ Kú” (Gente Fuerte) – Entrega de Reconocimientos a personas de la Costumbre Zoque de Tuxtla\nFecha: 23 de septiembre\nHora: 18:00 horas\nLugar: Patio Cívico de la Presidencia Municipal\nOrganiza: Ayuntamiento de Tuxtla Gutiérrez 2024-2027 e ITAC\nDetalles: Homenaje a quienes custodian y promueven las tradiciones zoques.
URL:https://alertachiapas.com/evento/homenaje-a-la-cultura-zoque-put-ku-reconocera-a-guardianes-de-las-tradiciones-en-tuxtla/
LOCATION:Palacio Municipal de Tuxtla Gutierrez\, Tuxtla Gutiérrez\, Chiapas\, 29000\, Mexico
CATEGORIES:Evento general
ATTACH;FMTTYPE=image/jpeg:https://alertachiapas.com/wp-content/uploads/2025/09/548498805_1189197839906769_1627723552991859787_n.jpg
END:VEVENT
BEGIN:VEVENT
DTSTART;TZID=America/Mexico_City:20250924T130000
DTEND;TZID=America/Mexico_City:20250924T150000
DTSTAMP:20260424T161407
CREATED:20250923T020850Z
LAST-MODIFIED:20250923T020850Z
UID:10000950-1758718800-1758726000@alertachiapas.com
SUMMARY:"La Vía del Lector" en Chiapas: Fomento a la lectura con Roberto Ramos Maza y micrófono abierto.
DESCRIPTION:¡No te pierdas “La Vía del Lector”\, un evento dedicado al fomento y promoción de la lectura en Chiapas! \nEste miércoles 24 de septiembre\, a partir de la 1 de la tarde\, el Corredor de Arte Tarumba del Centro Cultural de Chiapas Jaime Sabines será el punto de encuentro para amantes de los libros y la literatura. \nEl evento contará con un invitado especial: el reconocido escritor Roberto Ramos Maza\, quien compartirá su pasión por las letras. Además\, habrá venta e intercambio de libros\, brindando una excelente oportunidad para enriquecer tu biblioteca o descubrir nuevas historias. \nPara aquellos que deseen compartir sus propios escritos\, poemas o simplemente leer un fragmento favorito\, “La Vía del Lector” ofrecerá un espacio de micrófono abierto. ¡Anímate a participar y sumarte a esta celebración de la palabra! \nEste evento es una iniciativa del Consejo Estatal para las Culturas y las Artes de Chiapas (CONECULTA)\, el Centro Cultural de Chiapas Jaime Sabines\, la Red Estatal de Bibliotecas Públicas de Chiapas\, la Dirección de Publicaciones\, Biomaya y EDUCAL\, en colaboración con el Archivo General del Estado. \n\nConcentrado del evento: \n\nEvento: “La Vía del Lector”\nEnfoque: Fomento y promoción de la lectura\nActividades: Venta e intercambio de libros\, micrófono abierto\nInvitado especial: Roberto Ramos Maza\nFecha: Miércoles 24 de septiembre\nHora: A partir de la 1:00 p.m.\nLugar: Corredor de Arte Tarumba del Centro Cultural de Chiapas Jaime Sabines\nOrganizan: CONECULTA Chiapas\, Centro Cultural de Chiapas Jaime Sabines\, Red Estatal de Bibliotecas Públicas de Chiapas\, Dirección de Publicaciones\, Biomaya\, EDUCAL y Archivo General del Estado.
URL:https://alertachiapas.com/evento/la-via-del-lector-en-chiapas-fomento-a-la-lectura-con-roberto-ramos-maza-y-microfono-abierto/
LOCATION:Centro Cultural de Chiapas Jaime Sabines\, Av. Central Ote. s/n\, Centro\, tuxtla gutiérrez\, Chiapas\, 29000\, Mexico
CATEGORIES:Evento general
ATTACH;FMTTYPE=image/jpeg:https://alertachiapas.com/wp-content/uploads/2025/09/7b424155-15be-490f-bd96-bde515552e13.jpg
END:VEVENT
BEGIN:VEVENT
DTSTART;TZID=America/Mexico_City:20250924T183000
DTEND;TZID=America/Mexico_City:20250924T203000
DTSTAMP:20260424T161407
CREATED:20250924T205121Z
LAST-MODIFIED:20250924T205121Z
UID:10000952-1758738600-1758745800@alertachiapas.com
SUMMARY:Noche de Folclor en Tuxtla: "Danzas de Mi Tierra" presenta su repertorio en el Teatro Francisco I. Madero.
DESCRIPTION:¡Tuxtla Gutiérrez se viste de gala para celebrar las tradiciones dancísticas! “Danzas de Mi Tierra” presenta un impresionante Repertorio Folclórico Mexicano en una velada llena de ritmo\, color y tradición. \nDisfruta de la participación de tres destacadas agrupaciones: Tonguy-Etzé\, Yomo-Etzé y Zoque Copoya. Juntos\, nos llevarán en un viaje por los bailes más representativos de México\, mostrando la riqueza cultural de nuestra tierra. \nLa cita es este miércoles 24 de septiembre en el emblemático Teatro Francisco I. Madero. Un evento perfecto para toda la familia y una oportunidad única para apreciar el arte y la pasión del folclor mexicano. La entrada es libre y se realiza con el apoyo del Consejo Estatal para las Culturas y las Artes de Chiapas (CONECULTA). ¡No te lo pierdas! \n\nConcentrado del evento: \n\nEvento: “Danzas de Mi Tierra” presenta Repertorio Folclórico Mexicano\nParticipan: Tonguy-Etzé\, Yomo-Etzé y Zoque Copoya\nFecha: Miércoles 24 de septiembre\nHora: 18:00 horas\nLugar: Teatro Francisco I. Madero\, 2a Oriente y 2a Norte\, Tuxtla Gutiérrez\, Chiapas\nCosto: Entrada libre\nDetalles: Programación sujeta a cambios. Evento organizado por el Consejo Estatal para las Culturas y las Artes de Chiapas (CONECULTA).
URL:https://alertachiapas.com/evento/noche-de-folclor-en-tuxtla-danzas-de-mi-tierra-presenta-su-repertorio-en-el-teatro-francisco-i-madero/
LOCATION:Teatro de la Ciudad Francisco I Madero\, Teatro Francisco I. Madero\, Av. 2a. Nte. Ote.\, San Marcos\, Tuxtla Gutierrez\, Chis.\, 29000\, Mexico
CATEGORIES:Danza y Baile,Evento general,Teatro
ATTACH;FMTTYPE=image/jpeg:https://alertachiapas.com/wp-content/uploads/2025/09/136aa25e-c2f9-46e7-8163-918e58d6763b.jpg
END:VEVENT
BEGIN:VEVENT
DTSTART;TZID=America/Mexico_City:20250925T080000
DTEND;TZID=America/Mexico_City:20250925T170000
DTSTAMP:20260424T161407
CREATED:20250926T014219Z
LAST-MODIFIED:20250926T014219Z
UID:10000957-1758787200-1758819600@alertachiapas.com
SUMMARY:¡La Catrina Café-Cultubar celebra sus 18 años!
DESCRIPTION:¡Ven a celebrar el 18 aniversario de La Catrina Café-Cultubar en San Cristóbal de las Casas! La fiesta se extiende por tres días con la presentación en vivo de grandes bandas y artistas locales. No te pierdas esta celebración llena de música y cultura. \nJUEVES 25: \n\nMashband\n\nVIERNES 26: \n\nStereocosmos\nLomaltok\n\nSÁBADO 27: \n\nBeto Berzerk\nPaco Castro & Julio Láudano\n\n¡La entrada es libre! Te esperamos para vivir una noche inolvidable en un ambiente único. \nConcentrado del evento: \n\nLugar: La Catrina Café-Cultubar\, Francisco I. Madero 35\, San Cristóbal de las Casas\, Chiapas\, México.\nFecha: Jueves 25\, Viernes 26 y Sábado 27 de septiembre.\nHorario: 9:00 PM.\nDetalles: Celebración de 18 años con música en vivo de Mashband\, Stereocosmos\, Lomaltok\, Beto Berzerk\, Paco Castro & Julio Láudano. Entrada libre.
URL:https://alertachiapas.com/evento/la-catrina-cafe-cultubar-celebra-sus-18-anos/2025-09-25/1/
LOCATION:La Catrina Café-Cultubar\, Francisco I. Madero 35\, San Cristóbal de las Casas\, Chiapas\, México\, San Cristóbal de Las Casas\, Chiapas\, Mexico
CATEGORIES:Evento general
ATTACH;FMTTYPE=image/jpeg:https://alertachiapas.com/wp-content/uploads/2025/09/b7ca2e35-6071-4508-bb7f-a1656416331a.jpg
END:VEVENT
BEGIN:VEVENT
DTSTART;TZID=America/Mexico_City:20250925T210000
DTEND;TZID=America/Mexico_City:20250927T233000
DTSTAMP:20260424T161407
CREATED:20250926T014219Z
LAST-MODIFIED:20250926T014219Z
UID:10000958-1758834000-1759015800@alertachiapas.com
SUMMARY:¡La Catrina Café-Cultubar celebra sus 18 años!
DESCRIPTION:¡Ven a celebrar el 18 aniversario de La Catrina Café-Cultubar en San Cristóbal de las Casas! La fiesta se extiende por tres días con la presentación en vivo de grandes bandas y artistas locales. No te pierdas esta celebración llena de música y cultura. \nJUEVES 25: \n\nMashband\n\nVIERNES 26: \n\nStereocosmos\nLomaltok\n\nSÁBADO 27: \n\nBeto Berzerk\nPaco Castro & Julio Láudano\n\n¡La entrada es libre! Te esperamos para vivir una noche inolvidable en un ambiente único. \nConcentrado del evento: \n\nLugar: La Catrina Café-Cultubar\, Francisco I. Madero 35\, San Cristóbal de las Casas\, Chiapas\, México.\nFecha: Jueves 25\, Viernes 26 y Sábado 27 de septiembre.\nHorario: 9:00 PM.\nDetalles: Celebración de 18 años con música en vivo de Mashband\, Stereocosmos\, Lomaltok\, Beto Berzerk\, Paco Castro & Julio Láudano. Entrada libre.
URL:https://alertachiapas.com/evento/la-catrina-cafe-cultubar-celebra-sus-18-anos/2025-09-25/2/
LOCATION:La Catrina Café-Cultubar\, Francisco I. Madero 35\, San Cristóbal de las Casas\, Chiapas\, México\, San Cristóbal de Las Casas\, Chiapas\, Mexico
CATEGORIES:Evento general
ATTACH;FMTTYPE=image/jpeg:https://alertachiapas.com/wp-content/uploads/2025/09/b7ca2e35-6071-4508-bb7f-a1656416331a.jpg
END:VEVENT
BEGIN:VEVENT
DTSTART;TZID=America/Mexico_City:20250926T170000
DTEND;TZID=America/Mexico_City:20250926T190000
DTSTAMP:20260424T161407
CREATED:20250926T021034Z
LAST-MODIFIED:20250926T021034Z
UID:10000960-1758906000-1758913200@alertachiapas.com
SUMMARY:¡Llegan las Noches de Totico a Tuxtla Gutiérrez!
DESCRIPTION:Prepárate para una noche llena de música y buen ambiente en Café Totico. Este viernes\, disfruta de las Noches de Totico\, un evento que reúne a grandes talentos locales para que inicies el fin de semana de la mejor manera. \nContaremos con la presencia de OG Coutiño\, Soft Bitches y Bunny Cake\, quienes pondrán el ritmo en vivo. Además\, la noche continuará con un DJ set de Da-beat para que no dejes de bailar. \nLa cita es en Café Totico\, y por un cover de solo $50\, podrás ser parte de esta experiencia musical imperdible. \n¡No te lo pierdas! \n\nConcentrado del evento: \n\nEvento: Noches de Totico\nLugar: Café Totico\, Blvd. Belisario Domínguez 2035\, Xamaipak\, Tuxtla Gutiérrez.\nFecha: Viernes\, 26 de septiembre\nHorario: 5:00 PM\nDetalles: Presentaciones en vivo de OG Coutiño\, Soft Bitches y Bunny Cake. DJ set por Da-beat. Cover de $50.
URL:https://alertachiapas.com/evento/llegan-las-noches-de-totico-a-tuxtla-gutierrez/
LOCATION:Café Totico\, Blvd. Belisario Domínguez 2035\, Xamaipak\, Tuxtla Gutiérrez\, Chiapas\, 29035\, Mexico
CATEGORIES:Evento general
ATTACH;FMTTYPE=image/jpeg:https://alertachiapas.com/wp-content/uploads/2025/09/5134c679-fa80-4656-b4ca-c513230bae7e.jpg
END:VEVENT
BEGIN:VEVENT
DTSTART;TZID=America/Mexico_City:20250926T170000
DTEND;TZID=America/Mexico_City:20250926T200000
DTSTAMP:20260424T161407
CREATED:20250926T021440Z
LAST-MODIFIED:20250926T021440Z
UID:10000961-1758906000-1758916800@alertachiapas.com
SUMMARY:Inicia la Fiesta Patronal de la Parroquia San Francisco de Asís
DESCRIPTION:La Parroquia San Francisco de Asís de Tuxtla Gutiérrez invita a la comunidad a participar en el Recorrido de Apertura de su Fiesta Patronal 2025. Este evento marca el inicio de las festividades en honor a su Santo Patrono y se realizará con una procesión solemne seguida de una celebración eucarística. \nEl recorrido dará inicio a las 5:00 PM desde el punto de reunión ubicado en la 18 Sur y 4 Oriente. La ruta se extenderá por la 2a Oriente hasta la 12 Sur y Calle Central\, continuará por la 10 Sur hasta la 1a Poniente\, para finalizar en la parroquia. Previamente\, la preparación para la procesión comenzará a las 4:30 PM. \nPara concluir esta jornada de fe\, se llevará a cabo una celebración eucarística a las 7:00 PM en la Parroquia San Francisco de Asís. \n\nConcentrado del evento: \n\nEvento: Fiesta Patronal 2025 – Recorrido de Apertura\nLugar: Inicia en 18 Sur y 4 Oriente\, finaliza en la Parroquia San Francisco de Asís.\nFecha: La imagen no especifica la fecha\, pero el evento es parte de la Fiesta Patronal 2025.\nHorario:\n\nPreparación para la procesión: 4:30 PM\nInicio de la procesión: 5:00 PM\nCelebración eucarística: 7:00 PM\n\n\nDetalles: Procesión por las calles de Tuxtla Gutiérrez y posterior misa de celebración.
URL:https://alertachiapas.com/evento/inicia-la-fiesta-patronal-de-la-parroquia-san-francisco-de-asis/
LOCATION:Parroquia de San Francisco\, Calle Primera Pte. Sur\, San Francisco\, Tuxtla Gutiérrez\, Chiapas\, 29000\, Mexico
CATEGORIES:Evento general
ATTACH;FMTTYPE=image/png:https://alertachiapas.com/wp-content/uploads/2025/09/Captura-de-pantalla-2025-09-25-a-las-8.08.54-p.m.png
END:VEVENT
BEGIN:VEVENT
DTSTART;TZID=America/Mexico_City:20250926T180000
DTEND;TZID=America/Mexico_City:20250926T193000
DTSTAMP:20260424T161407
CREATED:20250926T014754Z
LAST-MODIFIED:20250926T014754Z
UID:10000959-1758909600-1758915000@alertachiapas.com
SUMMARY:Presentación del libro "Noches de Insomnio"
DESCRIPTION:El Museo de la Marimba Zeferino Nandayapa Ralda te invita a la presentación del libro “Noches de Insomnio”\, del autor Damián García. \nLa obra\, que promete ser un viaje a través de las reflexiones nocturnas del autor\, será presentada por Josué Nandayapa\, quien compartirá con el público su perspectiva sobre el contenido de este trabajo literario. \nNo pierdas la oportunidad de conocer al autor y adentrarte en las páginas de esta nueva publicación. El evento es parte de las actividades culturales en colaboración con el Ayuntamiento de Tuxtla Gutiérrez y el ITAC. \nConcentrado del evento: \n\nLibro: “Noches de Insomnio”\nAutor: Damián García\nPresentador: Josué Nandayapa\nLugar: Museo de la Marimba Zeferino Nandayapa Ralda\, Av. Central y 9na. Poniente\nFecha: 26 de septiembre\nHorario: 18:00 h.
URL:https://alertachiapas.com/evento/presentacion-del-libro-noches-de-insomnio/
LOCATION:Museo de la Marimba\, Av. Central y 9a. Poniente\, tuxtla gutiérrez\, Chiapas\, 29000\, Mexico
CATEGORIES:Evento general,Presentación de libro
ATTACH;FMTTYPE=image/jpeg:https://alertachiapas.com/wp-content/uploads/2025/09/547314614_1266967028563247_3323307413584946129_n.jpg
END:VEVENT
BEGIN:VEVENT
DTSTART;TZID=America/Mexico_City:20250927T110000
DTEND;TZID=America/Mexico_City:20250928T200000
DTSTAMP:20260424T161407
CREATED:20250926T013717Z
LAST-MODIFIED:20250926T013717Z
UID:10000956-1758970800-1759089600@alertachiapas.com
SUMMARY:¡Vive la emoción de manejar tu próximo BYD!
DESCRIPTION:BYD\, la marca líder en tecnología\, diseño e innovación\, te invita a vivir la experiencia de conducción de sus vehículos en el Test Drive Center de Chiapas. Podrás probar los modelos más recientes y conocer de cerca todas las innovaciones que BYD tiene para ti. \nEste evento contará con la presencia de pilotos profesionales\, quienes te guiarán y te brindarán la mejor experiencia al volante\, resolviendo todas tus dudas y mostrándote el rendimiento y seguridad de nuestros vehículos. \nAdemás\, podrás disfrutar de beneficios exclusivos y promociones especiales durante el evento. \n¡Te esperamos! \nConcentrado del evento: \n\nLugar: Plaza Crystal\nFecha: 27 y 28 de septiembre\nHorario: 11:00 a 20:00 hrs.\nDetalles: Test Drive con pilotos profesionales y beneficios exclusivos.
URL:https://alertachiapas.com/evento/vive-la-emocion-de-manejar-tu-proximo-byd/
LOCATION:Plaza Crystal\, Blvd. Belisario Domínguez\, Sin Nombre\, Flamboyán\, Tuxtla Gutiérrez\, Chiapas\, 29059\, Mexico
CATEGORIES:Evento general,Expo venta
ATTACH;FMTTYPE=image/jpeg:https://alertachiapas.com/wp-content/uploads/2025/09/19f3fcc0-4c61-4233-b88e-4a812d8889d8.jpg
END:VEVENT
BEGIN:VEVENT
DTSTART;TZID=America/Mexico_City:20250927T180000
DTEND;TZID=America/Mexico_City:20250927T220000
DTSTAMP:20260424T161407
CREATED:20250926T225817Z
LAST-MODIFIED:20250926T225817Z
UID:10000962-1758996000-1759010400@alertachiapas.com
SUMMARY:Discos Rufianes y Casa Palmas presentan: ¡Noche de Rock y Ska en Tuxtla Gutiérrez!
DESCRIPTION:Este próximo Sábado 27 de septiembre\, prepárate para una noche llena de energía y buena música en Casa Palmas. Discos Rufianes y Casa Palmas se unen para traer un cartel de lujo con algunas de las mejores bandas de la escena local y de los alrededores. \nEl evento contará con la participación en vivo de Zoque Canibal (Ska Core Chiapas)\, Hasta el FinalX (HC Punk de Ecatepec celebrando su 8º aniversario)\, Chiflido (Música Chiflada)\, Los No Muertos (Punk Rock)\, The Mamuska (Ska)\, y Los Furbies (Punk). \nVen a celebrar la música y el talento de estas grandes bandas en un ambiente único y creativo. ¡No te lo pierdas! La cooperación es de solo $60. \n\nDetalles del evento: \n\nTítulo del evento: Discos Rufianes & Casa Palmas presentan: ¡Noche de Rock y Ska!\nLugar: Casa Palmas – Palma China #598\, Las Palmas\, Tuxtla Gutiérrez\, Chiapas.\nFecha: Sábado\, 27 de septiembre.\nHora: 6:00 PM.\nBandas: Zoque Canibal\, Hasta el FinalX\, Chiflido\, Los No Muertos\, The Mamuska y Los Furbies.\nCosto: $60.
URL:https://alertachiapas.com/evento/discos-rufianes-y-casa-palmas-presentan-noche-de-rock-y-ska-en-tuxtla-gutierrez/
LOCATION:Casa Palmas\, Palma China #598\, Las Palmas\, Tuxtla Gutiérrez\, Chiapas\, 29000\, Mexico
CATEGORIES:Evento general,Música
ATTACH;FMTTYPE=image/jpeg:https://alertachiapas.com/wp-content/uploads/2025/09/9ee50e1e-4718-47c4-8990-ac1f3b7ff454.jpg
END:VEVENT
END:VCALENDAR