BEGIN:VCALENDAR
VERSION:2.0
PRODID:-//Alerta Chiapas - ECPv6.15.20//NONSGML v1.0//EN
CALSCALE:GREGORIAN
METHOD:PUBLISH
X-WR-CALNAME:Alerta Chiapas
X-ORIGINAL-URL:https://alertachiapas.com
X-WR-CALDESC:Eventos para Alerta Chiapas
REFRESH-INTERVAL;VALUE=DURATION:PT1H
X-Robots-Tag:noindex
X-PUBLISHED-TTL:PT1H
BEGIN:VTIMEZONE
TZID:America/Mexico_City
BEGIN:STANDARD
TZOFFSETFROM:-0600
TZOFFSETTO:-0600
TZNAME:CST
DTSTART:20240101T000000
END:STANDARD
END:VTIMEZONE
BEGIN:VEVENT
DTSTART;TZID=America/Mexico_City:20250812T170000
DTEND;TZID=America/Mexico_City:20250812T190000
DTSTAMP:20260425T114121
CREATED:20250811T235648Z
LAST-MODIFIED:20250811T235648Z
UID:10000832-1755018000-1755025200@alertachiapas.com
SUMMARY:"Esta no es mi piel": Premiere de cortometraje en el Centro Cultural de Chiapas
DESCRIPTION:El Consejo Estatal para las Culturas y las Artes de Chiapas (CONECULTA)\, a través del Centro Cultural de Chiapas Jaime Sabines\, invita a la premiere del cortometraje “Esta no es mi piel”. La película\, dirigida por Juan Pablo Ruiz del Castillo y producida por Samuel C. Montes de Oca León\, es un evento imperdible para los amantes del cine chiapaneco. \nEsta producción cinematográfica cuenta con la colaboración de la Secretaría de la Mujer e Igualdad de Género y el Instituto de la Juventud del Estado de Chiapas. La presentación de esta obra es parte del esfuerzo por impulsar el talento local y ofrecer al público propuestas artísticas de calidad. \nConcentrado del evento: \n\nTítulo del cortometraje: “Esta no es mi piel”\nDirector: Juan Pablo Ruiz del Castillo\nProductor: Samuel C. Montes de Oca León\nOrganizan: Consejo Estatal para las Culturas y las Artes de Chiapas\, Centro Cultural de Chiapas Jaime Sabines\, Secretaría de la Mujer e Igualdad de Género\, Instituto de la Juventud del Estado de Chiapas.\nLugar: Centro Cultural de Chiapas Jaime Sabines\nFecha: Martes\, 12 de agosto de 2025\nHora: 17:00 h\nDetalles: Premiere de cortometraje.
URL:https://alertachiapas.com/evento/esta-no-es-mi-piel-premiere-de-cortometraje-en-el-centro-cultural-de-chiapas/
LOCATION:Centro Cultural de Chiapas Jaime Sabines\, Av. Central Ote. s/n\, Centro\, tuxtla gutiérrez\, Chiapas\, 29000\, Mexico
CATEGORIES:Arte,Evento general
ATTACH;FMTTYPE=image/jpeg:https://alertachiapas.com/wp-content/uploads/2025/08/c913363f-c033-479a-932e-ab1b489160bd.jpg
END:VEVENT
BEGIN:VEVENT
DTSTART;TZID=America/Mexico_City:20250812T180000
DTEND;TZID=America/Mexico_City:20250812T200000
DTSTAMP:20260425T114121
CREATED:20250811T233216Z
LAST-MODIFIED:20250811T233216Z
UID:10000829-1755021600-1755028800@alertachiapas.com
SUMMARY:Presentación del libro: "El Nuevo Amanecer de los Mayas" de Natalio Hernández
DESCRIPTION:Este 12 de agosto de 2025\, se llevará a cabo la presentación del libro “El Nuevo Amanecer de los Mayas” del autor Natalio Hernández. \nEste evento cultural contará con los comentarios de Verónica Bautista Hernández\, Fabiola Gómez Torres y Jesús Morales Bermúdez. La moderación estará a cargo de Roberto Santis Káal\, mientras que el autor\, Natalio Hernández\, también estará presente para conversar sobre su obra. \nLa presentación es una oportunidad para conocer y reflexionar sobre la cultura maya a través de la perspectiva de uno de sus más destacados escritores. El libro\, publicado bajo el sello editorial Trajín\, promete ser una obra relevante para el estudio y la difusión de la cultura e historia de esta civilización. \nEl evento es organizado por el H. Ayuntamiento de San Cristóbal de Las Casas\, el Consejo Estatal para las Culturas y las Artes de Chiapas\, y cuenta con el apoyo de Na Bolom y La Enseñanza\, Casa de la Ciudad. \nConcentrado del evento: \n\nTítulo del libro: “El Nuevo Amanecer de los Mayas”\nAutor: Natalio Hernández\nComentaristas: Verónica Bautista Hernández\, Fabiola Gómez Torres y Jesús Morales Bermúdez\nModerador: Roberto Santis Káal\nLugar: La Enseñanza\, Casa de la Ciudad. Belisario Domínguez 13\, Zona Centro\, San Cristóbal de Las Casas\, Chiapas\nFecha: Martes\, 12 de agosto de 2025\nHora: 18:00 h\nDetalles: Presentación de libro con comentarios y la participación del autor.
URL:https://alertachiapas.com/evento/presentacion-del-libro-el-nuevo-amanecer-de-los-mayas-de-natalio-hernandez/
LOCATION:La Enseñanza\, Casa de la Ciudad\, Belisario Domínguez 13\, Zona Centro\, San Cristóbal de Las Casas\, Chiapas\, 29200\, Mexico
CATEGORIES:Arte,Evento general
ATTACH;FMTTYPE=image/jpeg:https://alertachiapas.com/wp-content/uploads/2025/08/5527c41b-ceaf-484f-ac60-07e144c66c4d.jpg
END:VEVENT
BEGIN:VEVENT
DTSTART;TZID=America/Mexico_City:20250813T150000
DTEND;TZID=America/Mexico_City:20250813T180000
DTSTAMP:20260425T114121
CREATED:20250813T004447Z
LAST-MODIFIED:20250813T004447Z
UID:10000834-1755097200-1755108000@alertachiapas.com
SUMMARY:Tarde con "Tierra y Mujeres": Un espacio para celebrar las tradiciones ganaderas
DESCRIPTION:En el marco del XXVIII Concurso Estatal de la Vaca Lechera y la XLV Exposición Ganadera 2025\, se llevará a cabo el evento “Tarde con Tierra y Mujeres – TIMU”\, bajo el lema “Herederas de Tradiciones”. Este evento busca destacar el papel fundamental de las mujeres en el sector ganadero y la preservación de las tradiciones. \nLa “Tarde con Tierra y Mujeres – TIMU” es un espacio para celebrar la labor y el legado de las mujeres que forman parte de esta importante industria. La programación del evento\, además de ser una plataforma para el reconocimiento\, promoverá la participación y el empoderamiento femenino en un ámbito tradicionalmente dominado por los hombres. \nConcentrado del evento: \n\nTítulo del evento: Tarde con “Tierra y Mujeres – TIMU”\nLugar: Absalón Castellanos Domínguez\, dentro del recinto de la XLV Exposición Ganadera 2025.\nFecha: Miércoles\, 13 de agosto de 2025\nHora: 3:00 pm – 6:00 pm\nDetalles: Evento enmarcado en el XXVIII Concurso Estatal de la Vaca Lechera y la XLV Exposición Ganadera 2025.
URL:https://alertachiapas.com/evento/tarde-con-tierra-y-mujeres-un-espacio-para-celebrar-las-tradiciones-ganaderas/
LOCATION:Absalón Castellanos Domínguez\, ecinto de la XLV Exposición Ganadera 2025\, Ocozocoautla de Espinosa\, Chiapas\, Mexico
CATEGORIES:Evento general
ATTACH;FMTTYPE=image/jpeg:https://alertachiapas.com/wp-content/uploads/2025/08/525392515_122178983864336206_1958642363166851911_n.jpg
END:VEVENT
BEGIN:VEVENT
DTSTART;TZID=America/Mexico_City:20250814T160000
DTEND;TZID=America/Mexico_City:20250814T170000
DTSTAMP:20260425T114121
CREATED:20250813T230346Z
LAST-MODIFIED:20250813T230346Z
UID:10000844-1755187200-1755190800@alertachiapas.com
SUMMARY:Bendición de mascotas en la Parroquia San Roque y San Bartolomé
DESCRIPTION:La Parroquia de San Roque y San Bartolomé\, en la Arquidiócesis de Tuxtla Gutiérrez\, invita a todos los feligreses y amantes de los animales a la “Bendición de Mascotas”. Este evento especial es una oportunidad para que las personas lleven a sus compañeros peludos\, emplumados o de cualquier tipo para recibir una bendición. \nLa bendición de mascotas es una tradición en la Iglesia\, que reconoce el valor y la compañía que los animales brindan a las personas. Es un acto de fe para pedir por su bienestar y agradecer por su presencia en los hogares. Se recomienda llevar a las mascotas con correa o en transportadoras para garantizar la seguridad de todos los asistentes. \nDetalles del Evento \n\nEvento: Bendición de Mascotas\nLugar: Atrio de la Parroquia de San Roque y San Bartolomé\nFecha: Jueves 14 de agosto\nHora: 4:00 de la tarde
URL:https://alertachiapas.com/evento/bendicion-de-mascotas-en-la-parroquia-san-roque-y-san-bartolome/
LOCATION:Parque de San Roque\, 4a oriente y 3 sur\, Tuxtla Gutiérrez\, Chiapas\, 29000\, Mexico
CATEGORIES:Evento general,Tradiciones
ATTACH;FMTTYPE=image/jpeg:https://alertachiapas.com/wp-content/uploads/2025/08/63782809-60dd-4aa8-b21a-a4489d24b101.jpg
END:VEVENT
BEGIN:VEVENT
DTSTART;TZID=America/Mexico_City:20250814T180000
DTEND;TZID=America/Mexico_City:20250814T200000
DTSTAMP:20260425T114121
CREATED:20250813T010004Z
LAST-MODIFIED:20250813T010004Z
UID:10000838-1755194400-1755201600@alertachiapas.com
SUMMARY:"Tuxtla 90 Tour" con Daniel Falconi: Presentación en la Librería del Fondo de Cultura Económica
DESCRIPTION:Se presenta el “Tuxtla 90 Tour” con Daniel Falconi. El evento es parte de una iniciativa de la Secretaría para la Inclusión Social que busca promover la cultura y la educación. \nEl proyecto “Tuxtla 90 Tour” contará con la participación de Daniel Falconi\, un talentoso artista que presentará su obra\, acompañado de los comentarios de Maricarmen de la Encarnación Pereyra Vázquez y María José García Cruz. La presentación promete ser una velada interesante y enriquecedora\, ideal para los amantes de la literatura y las artes. \nConcentrado del evento: \n\nTítulo del evento: Tuxtla 90 Tour\nPresentan: Daniel Falconi\, Maricarmen de la Encarnación Pereyra Vázquez y María José García Cruz\nOrganizan: UNACH\, FCE y SISDIC\nLugar: Librería del Fondo de Cultura Económica “José Emilio Pacheco”\nFecha: Jueves\, 14 de agosto de 2025\nHora: 18:00 a 20:00 horas\nDetalles: Presentación de obra con comentarios.
URL:https://alertachiapas.com/evento/tuxtla-90-tour-con-daniel-falconi-presentacion-en-la-libreria-del-fondo-de-cultura-economica/
LOCATION:Fondo de Cultura Económica “José Emilio Pacheco”\, Blvd. Belisario Domínguez kilómetro 1081
CATEGORIES:Evento general
ATTACH;FMTTYPE=image/jpeg:https://alertachiapas.com/wp-content/uploads/2025/08/IMG_4163.jpg
END:VEVENT
BEGIN:VEVENT
DTSTART;TZID=America/Mexico_City:20250815T110000
DTEND;TZID=America/Mexico_City:20250815T123000
DTSTAMP:20260425T114121
CREATED:20250815T011320Z
LAST-MODIFIED:20250815T011320Z
UID:10000848-1755255600-1755261000@alertachiapas.com
SUMMARY:Presentación del libro "Briscar de la Serpiente" de Ulberto Santos en Tuxtla
DESCRIPTION:El Museo del Café Chiapas les invita cordialmente a la presentación del libro “Briscar de la Serpiente” del autor Ulberto Santos. Este evento cultural\, con entrada libre\, contará con la participación de la moderadora Elena Meza Carrión. La presentación será un espacio enriquecedor donde se contará con los comentarios de Gala Santiago\, Toshiro Culebro\, José Natarén\, Juan Carlos Cal y el propio autor. \nConcentrado del evento: \n\nEvento: Presentación del libro “Briscar de la Serpiente”\nAutor: Ulberto Santos\nFecha: Viernes 15 de agosto\nHora: 11:00 horas\nLugar: 2a. Oriente Norte No. 236\, Tuxtla Gutiérrez\, México\, 29000 (Museo del Café Chiapas)\nEntrada: Libre\nModeradora: Elena Meza Carrión\nPresentan: Gala Santiago\, Toshiro Culebro\, José Natarén\, Juan Carlos Cal y el autor.
URL:https://alertachiapas.com/evento/presentacion-del-libro-briscar-de-la-serpiente-de-ulberto-santos-en-tuxtla/
LOCATION:Museo del Cafe de Chiapas\, Calle 2a. Ote. Nte. 236\, tuxtla gutiérrez\, Chiapas\, 29000\, Mexico
CATEGORIES:Evento general
ATTACH;FMTTYPE=image/jpeg:https://alertachiapas.com/wp-content/uploads/2025/08/4e9c563c-c875-4107-9dd6-f1508c0c6f99.jpg
END:VEVENT
BEGIN:VEVENT
DTSTART;TZID=America/Mexico_City:20250815T170000
DTEND;TZID=America/Mexico_City:20250815T190000
DTSTAMP:20260425T114121
CREATED:20250813T225040Z
LAST-MODIFIED:20250813T225040Z
UID:10000840-1755277200-1755284400@alertachiapas.com
SUMMARY:Chef Edna Alanís en Tuxtla Gutiérrez: Conferencia sobre el Impacto de las Redes Sociales en la Gastronomía
DESCRIPTION:Cocina+Arte Universidad invita al público en general a una conferencia magistral con la reconocida Chef Edna Alanís. El evento\, de carácter gratuito\, se centrará en el análisis del “El Impacto de las Redes Sociales en la Gastronomía”. \nLa conferencia es una oportunidad para conocer la perspectiva de una experta en la materia sobre cómo las plataformas digitales han transformado el mundo culinario\, desde la promoción de platillos hasta la construcción de una marca personal en el ámbito gastronómico. Además de la conferencia\, los asistentes tendrán la oportunidad de participar en un “Meet & Greet” con la chef. \nPara asistir\, es necesario registrarse previamente a través de WhatsApp. \nDetalles del Evento \n\nEvento: Conferencia “El Impacto de las Redes Sociales en la Gastronomía”\nConferencista: Chef Edna Alanís\nLugar: Jardín Cocina+Arte Universidad\, ubicado en Azucenas 103\, Fracc. Los Laureles\nFecha: Viernes 15 de agosto\nHorarios:\n\nConferencia: 5:00 PM\nMeet & Greet: 6:00 PM\n\n\nRegistro: Vía WhatsApp al 961660-0717\nCosto: Evento gratuito
URL:https://alertachiapas.com/evento/chef-edna-alanis-en-tuxtla-gutierrez-conferencia-sobre-el-impacto-de-las-redes-sociales-en-la-gastronomia/
LOCATION:Cocina+Arte Universidad\, zucenas 103\, Fracc. Los Laureles\, Tuxtla Gutiérrez\, Chiapas\, 29000\, Mexico
CATEGORIES:Evento general
ATTACH;FMTTYPE=image/jpeg:https://alertachiapas.com/wp-content/uploads/2025/08/IMG_4161.jpg
END:VEVENT
BEGIN:VEVENT
DTSTART;TZID=America/Mexico_City:20250815T173000
DTEND;TZID=America/Mexico_City:20250815T190000
DTSTAMP:20260425T114121
CREATED:20250806T232414Z
LAST-MODIFIED:20250806T232414Z
UID:10000816-1755279000-1755284400@alertachiapas.com
SUMMARY:Tuxtla Rinde Homenaje a la Partera Tradicional Edina Santos Gómez en 'Legado Andante'
DESCRIPTION:“Homenaje Legado Andante”\, una iniciativa que busca reconocer las prácticas culturales ancestrales de la región. En esta ocasión\, el tributo está dedicado a la partera tradicional y capacitada\, Edina Santos Gómez. Durante el evento\, se impartirá la ponencia titulada “La Partería en Tuxtla Gutiérrez: legado vivo en la actualidad”\, ofreciendo una mirada profunda a esta importante labor que ha sido transmitida de generación en generación. No pierdas la oportunidad de ser parte de este reconocimiento a una tradición viva de nuestra capital. \n\nConcentrado del evento \n\nLugar: Patio Cívico de la Presidencia Municipal de Tuxtla Gutiérrez\nFecha: 15 de agosto\nHora: 17:30 horas\nDetalles del evento: Homenaje “Legado Andante” a la partera tradicional Edina Santos Gómez. Se presentará la ponencia sobre la partería como legado vivo en la actualidad. Entrada libre.
URL:https://alertachiapas.com/evento/tuxtla-rinde-homenaje-a-la-partera-tradicional-edina-santos-gomez-en-legado-andante/
LOCATION:Palacio Municipal de Tuxtla Gutierrez\, Tuxtla Gutiérrez\, Chiapas\, 29000\, Mexico
CATEGORIES:Evento general
ATTACH;FMTTYPE=image/jpeg:https://alertachiapas.com/wp-content/uploads/2025/08/527865119_1152114090281811_7081417120712154882_n.jpg
END:VEVENT
BEGIN:VEVENT
DTSTART;TZID=America/Mexico_City:20250816T050000
DTEND;TZID=America/Mexico_City:20250816T060000
DTSTAMP:20260425T114121
CREATED:20250815T010337Z
LAST-MODIFIED:20250815T010337Z
UID:10000845-1755320400-1755324000@alertachiapas.com
SUMMARY:¡Vecinos y vecinas de San Roque\, a celebrar con cohetes y tradición!
DESCRIPTION:La maestra Carmelita Palacios Velázquez\, en su rol de madrina de la madrugada\, extiende una cordial invitación a todos los vecinos del barrio San Roque para participar en el tradicional rompimiento de cohetes\, felicitación y paseo en honor a San Roque. \nEl evento contará con la distinguida presencia de la maestra Carmelita Palacios como Madrina de la Madrugada\, el maestro Manuel Teco como Padrino del Rompimiento de Cohetes y Margarita Morales como Madrina de Atención. \nLos organizadores invitan a toda la comunidad a vivir juntos estas arraigadas tradiciones con alegría y devoción. ¡No falten a esta fiesta que celebra la cultura y la fe del barrio! \nConcentrado del Evento: \n\nLugar: 2a Sur Oriente No. 733\, “Posada Muñiz”\nFecha: 16 de agosto\nHora: 4:45 a.m.\nDetalles del evento: Rompimiento de cohetes\, felicitación y paseo de San Roque.\nOrganizadores: Maestra Carmelita Palacios (Madrina de la madrugada)\, Maestro Manuel Teco (Padrino del rompimiento de cohetes)\, Margarita Morales (Madrina de atención).
URL:https://alertachiapas.com/evento/vecinos-y-vecinas-de-san-roque-a-celebrar-con-cohetes-y-tradicion/
LOCATION:Posada Muñiz\, 2a Sur Oriente No. 733\, Tuxtla Gutiérrez\, Chiapas\, 29000\, Mexico
CATEGORIES:Cultura,Evento general
ATTACH;FMTTYPE=image/jpeg:https://alertachiapas.com/wp-content/uploads/2025/08/9328cc41-78ca-4ca6-b44e-008274d21c90.jpg
END:VEVENT
BEGIN:VEVENT
DTSTART;TZID=America/Mexico_City:20250816T100000
DTEND;TZID=America/Mexico_City:20250816T133000
DTSTAMP:20260425T114121
CREATED:20250808T215150Z
LAST-MODIFIED:20250808T215150Z
UID:10000827-1755338400-1755351000@alertachiapas.com
SUMMARY:Edición especial del recorrido "Sendero de la Memoria"
DESCRIPTION:Para celebrar el 133 aniversario de Tuxtla Gutiérrez como capital de Chiapas\, se invita a la ciudadanía a participar en un recorrido especial por el Centro Histórico de la ciudad\, denominado “Sendero de la Memoria”. Esta actividad cultural\, que promete ser un viaje a través de la historia de la capital chiapaneca\, será impartida por el reconocido cronista Roberto Ramos Maza. \nEl recorrido\, con una duración aproximada de 3 horas y media\, está diseñado para grupos reducidos\, con un cupo mínimo de 4 personas y un máximo de 12. Esto garantiza una experiencia más íntima y personalizada\, permitiendo a los asistentes sumergirse en los relatos y anécdotas que han dado forma a Tuxtla Gutiérrez. \nPara participar\, se requiere una cuota de recuperación de $200.00 por persona. Los interesados en inscribirse o solicitar más información pueden contactar a Roberto Ramos Maza a través de su página de Facebook o al número de celular 961 215 2104. \n  \n\nEvento: Recorrido “Sendero de la Memoria” por el Centro Histórico de Tuxtla Gutiérrez.\nImparte: Roberto Ramos Maza.\nFecha: 16 de agosto de 2025.\nHora: 10:00 h.\nDetalles del evento:\n\nDuración aproximada: 3 1/2 horas.\nCupo mínimo: 4 personas.\nCupo máximo: 12 personas.\nCuota de recuperación: $200.00 por persona.\nInformes e inscripciones: Facebook de Roberto Ramos Maza y celular 961 215 2104.
URL:https://alertachiapas.com/evento/edicion-especial-del-recorrido-sendero-de-la-memoria/
LOCATION:Centro Histórico de Tuxtla Gutiérrez\, Av. Central y Calle Central SN\, Tuxtla Gutiérrez\, Chiapas\, 29000\, Mexico
CATEGORIES:Evento general,taller
ATTACH;FMTTYPE=image/jpeg:https://alertachiapas.com/wp-content/uploads/2025/08/77700e31-6567-483e-b87b-1b8ccaeabeb3.jpg
END:VEVENT
BEGIN:VEVENT
DTSTART;TZID=America/Mexico_City:20250816T110000
DTEND;TZID=America/Mexico_City:20250816T190000
DTSTAMP:20260425T114121
CREATED:20250813T225538Z
LAST-MODIFIED:20250813T225538Z
UID:10000842-1755342000-1755370800@alertachiapas.com
SUMMARY:Llega "Coneja Landia" de Conejas Bazar: Evento familiar con cine\, talleres y emprendimientos
DESCRIPTION:La ciudad de Tuxtla Gutiérrez se prepara para recibir un evento lleno de diversión para toda la familia: “Coneja Landia”\, organizado por Conejas Bazar. Este festival\, con un tema mágico y festivo\, ofrece una variedad de actividades gratuitas para el disfrute de niños y adultos. \nEntre las actividades destacadas se encuentran: \n\nEmprendimientos: Un espacio para apoyar a negocios locales y encontrar productos únicos.\nCine al aire libre: Disfruta de una película bajo las estrellas en un ambiente relajado.\nTalleres: Actividades interactivas para el aprendizaje y la diversión.\nRifas: Oportunidad de ganar premios especiales.\nPersonajes: Convive y tómate fotos con Mickey y Minnie Mouse.\nRegistro Civil: Una actividad especial cuyo propósito no se detalla\, pero promete ser una experiencia única.\n\nEl evento es de entrada libre\, por lo que es una excelente opción para pasar el fin de semana en familia. Para más información\, se puede contactar al número de teléfono proporcionado por Conejas Bazar. \nDetalles del Evento \n\nEvento: Coneja Landia de Conejas Bazar\nLugar: Parque 5 de Mayo\, Tuxtla Gutiérrez\nFecha: Sábado 16 de agosto\nHorario: 11:00 AM a 7:00 PM\nCosto: Entrada Libre\nContacto: 961 850 00 71
URL:https://alertachiapas.com/evento/llega-coneja-landia-de-conejas-bazar-evento-familiar-con-cine-talleres-y-emprendimientos/
LOCATION:Parque 5 de Mayo\, Av Central Esquina con 11 oriente
CATEGORIES:Evento general,Expo venta
ATTACH;FMTTYPE=image/jpeg:https://alertachiapas.com/wp-content/uploads/2025/08/80c746f4-6b3a-46c2-b9d9-abe502691069.jpg
END:VEVENT
BEGIN:VEVENT
DTSTART;TZID=America/Mexico_City:20250816T210000
DTEND;TZID=America/Mexico_City:20250816T233000
DTSTAMP:20260425T114121
CREATED:20250808T214346Z
LAST-MODIFIED:20250808T214448Z
UID:10000825-1755378000-1755387000@alertachiapas.com
SUMMARY:Marta Sánchez llega a Tuxtla Gutiérrez con su show "Dancing Queens"
DESCRIPTION:La aclamada cantante española Marta Sánchez\, reconocida por su trayectoria en el pop y su potente voz\, se presentará en Tuxtla Gutiérrez con su exitoso espectáculo “Dancing Queens”. La diva de la música llega a la capital chiapaneca para deleitar a sus fans con un repertorio de grandes éxitos que han marcado a generaciones. \nEl concierto\, que forma parte de la gira de “Dancing Queens”\, promete ser una noche llena de energía\, baile y un viaje por los temas más emblemáticos de su carrera. La producción del evento está a cargo de LOES y Producciones Ugarte. \nLos boletos para este imperdible evento ya están disponibles para su compra. Los interesados pueden adquirirlos a través de la plataforma en línea de FanAccess\, en las sucursales de Galerías Boulevard o en Pochota Café. \n  \n\nArtista: Marta Sánchez\nEvento: Dancing Queens\nLugar: Poliforum Tuxtla Gutiérrez\nFecha: 16 de agosto\nVenta de boletos: FanAccess\, Galerías Boulevard y Pochota Café
URL:https://alertachiapas.com/evento/marta-sanchez-llega-a-tuxtla-gutierrez-con-su-show-dancing-queens/
LOCATION:Poliforum Chiapas\, Andrés Serra Rojas S/N\, El Retiro\, tuxtla gutiérrez\, Chiapas\, 29000\, Mexico
CATEGORIES:Concierto,Evento general,Música
ATTACH;FMTTYPE=image/jpeg:https://alertachiapas.com/wp-content/uploads/2025/08/528763237_1524407302258139_3314780920521487159_n.jpg
END:VEVENT
BEGIN:VEVENT
DTSTART;TZID=America/Mexico_City:20250817T090000
DTEND;TZID=America/Mexico_City:20250817T140000
DTSTAMP:20260425T114121
CREATED:20250813T230114Z
LAST-MODIFIED:20250813T230114Z
UID:10000843-1755421200-1755439200@alertachiapas.com
SUMMARY:¡Festejemos juntos la grandeza de Tuxtla! Celebración del nombramiento de la Capital de Chiapas
DESCRIPTION:El H. Ayuntamiento de Tuxtla Gutiérrez 2024-2027 y el Instituto Tuxtleco de Arte y Cultura (ITAC) invitan a la ciudadanía a un magno evento para celebrar el 133 aniversario del nombramiento de la ciudad como capital de Chiapas. Bajo el lema “¡Festejemos juntos la grandeza de Tuxtla!”\, la celebración tendrá lugar en el marco del Circuito de Parques. \n\n\n\n\n\nEl evento es una gran oportunidad para celebrar la identidad tuxtleca y disfrutar de un día lleno de actividades culturales y recreativas. Entre las actividades que se llevarán a cabo se encuentran: \n\nCocineras tradicionales: Podrás deleitarte con la gastronomía local.\nExpoventa artesanal: Un espacio para apoyar a los artesanos chiapanecos.\nMuestra de talleres artísticos: Demostraciones de diversas expresiones culturales.\nMúsica en vivo: Amenización musical para un ambiente festivo.\nMarimba y bailes folclóricos: Presentaciones de danzas tradicionales que resaltan la riqueza cultural de la región.\nCoronación: Se realizará una coronación especial.\nY mucho más: Se esperan más sorpresas y actividades para todos los asistentes.\n\nDetalles del Evento \n\nEvento: Celebración del 133 Aniversario de Tuxtla como Capital de Chiapas\nLugar: En la calzada de las Personas Ilustres\, Circuito de Parques\nFecha: 17 de agosto de 2025\nHorario: 9:00 a 14:00 h\nOrganizadores: H. Ayuntamiento de Tuxtla Gutiérrez e ITAC
URL:https://alertachiapas.com/evento/festejemos-juntos-la-grandeza-de-tuxtla-celebracion-del-nombramiento-de-la-capital-de-chiapas/
LOCATION:Calzada de las Personas Ilustres\, Calzada de las Personas Ilustres\, tuxtla gutiérrez\, Chiapas\, 29000\, Mexico
CATEGORIES:Evento general,Expo venta
ATTACH;FMTTYPE=image/jpeg:https://alertachiapas.com/wp-content/uploads/2025/08/IMG_4189.jpg
GEO:16°45'32.0"N;93°06'30.5"W
X-APPLE-STRUCTURED-LOCATION;VALUE=URI;X-ADDRESS=Calzada de las Personas Ilustres Calzada de las Personas Ilustres tuxtla gutiérrez Chiapas 29000 Mexico;X-APPLE-RADIUS=500;X-TITLE=Calzada de las Personas Ilustres:geo:93°06'30.5"W,16°45'32.0"N
END:VEVENT
END:VCALENDAR