BEGIN:VCALENDAR
VERSION:2.0
PRODID:-//Alerta Chiapas - ECPv6.15.20//NONSGML v1.0//EN
CALSCALE:GREGORIAN
METHOD:PUBLISH
X-ORIGINAL-URL:https://alertachiapas.com
X-WR-CALDESC:Eventos para Alerta Chiapas
REFRESH-INTERVAL;VALUE=DURATION:PT1H
X-Robots-Tag:noindex
X-PUBLISHED-TTL:PT1H
BEGIN:VTIMEZONE
TZID:America/Mexico_City
BEGIN:STANDARD
TZOFFSETFROM:-0600
TZOFFSETTO:-0600
TZNAME:CST
DTSTART:20240101T000000
END:STANDARD
END:VTIMEZONE
BEGIN:VEVENT
DTSTART;TZID=America/Mexico_City:20250804T170000
DTEND;TZID=America/Mexico_City:20250804T193000
DTSTAMP:20260424T214919
CREATED:20250801T223651Z
LAST-MODIFIED:20250801T223651Z
UID:10000806-1754326800-1754335800@alertachiapas.com
SUMMARY:¡A Bailar a Tuxtla! Vuelven los "Lunes de Danzón" con Música de Marimba en Vivo
DESCRIPTION:Este próximo lunes 4 de agosto\, el ritmo y la elegancia se apoderarán del corazón de Tuxtla Gutiérrez con el evento “Lunes de Danzón”. Una cita imperdible para todos los amantes del baile y la música tradicional\, en un evento que promete una tarde llena de movimiento y alegría. \nLa celebración se llevará a cabo en la Explanada del Parque 5 de mayo en un horario de 5:00 PM a 7:30 PM. Lo más destacado es que la música estará a cargo de una marimba en vivo\, garantizando una experiencia auténtica y vibrante que invita a todos a salir a bailar. \n“Lunes de Danzón” es una iniciativa del Ayuntamiento de Tuxtla Gutiérrez 2024-2027\, a través del Instituto Tuxtleco de Arte y Cultura (ITAC)\, que busca fomentar la convivencia familiar y la apreciación de nuestras tradiciones musicales y dancísticas. Es una excelente oportunidad para que tanto jóvenes como adultos se sumen a la pista y disfruten de un momento de esparcimiento cultural. \n¡Ven y disfruta de una tarde diferente\, llena de música\, baile y sana diversión! \n\nCONCENTRADO DEL EVENTO: \n\nEvento: Lunes de Danzón\nFecha: Lunes 4 de agosto\nHora: 5:00 PM a 7:30 PM\nLugar: Explanada del Parque 5 de mayo\, Tuxtla Gutiérrez.\nDetalles del Evento: Sesión de baile de danzón con música de marimba en vivo.\nOrganiza: Tuxtla Gutiérrez Ayuntamiento 2024-2027 y ITAC (Instituto Tuxtleco de Arte y Cultura).
URL:https://alertachiapas.com/evento/a-bailar-a-tuxtla-vuelven-los-lunes-de-danzon-con-musica-de-marimba-en-vivo/
LOCATION:Parque 5 de Mayo\, Av Central Esquina con 11 oriente
CATEGORIES:Danza y Baile,Evento general,Música
ATTACH;FMTTYPE=image/jpeg:https://alertachiapas.com/wp-content/uploads/2025/08/515437501_1146176304208923_1283809186982139686_n.jpg
END:VEVENT
BEGIN:VEVENT
DTSTART;TZID=America/Mexico_City:20250807T170000
DTEND;TZID=America/Mexico_City:20250807T190000
DTSTAMP:20260424T214919
CREATED:20250806T231610Z
LAST-MODIFIED:20250806T231610Z
UID:10000814-1754586000-1754593200@alertachiapas.com
SUMMARY:Descarmenar los Días: Una Obra de Teatro con Entrada Libre en Zinacantán
DESCRIPTION:El programa “Rutas Escénicas Estatales 2025” presenta la puesta en escena “Descarmenar los días”\, una obra de la compañía Fomma y Katanga Teatro\, que promete una experiencia teatral única. Bajo la dirección de María Gabriela Ottogalli y con dramaturgia compartida con María Francisca Oseguera Cruz\, la obra llega a la Casa de la Cultura de Zinacantán como parte de su circuito de artes escénicas en Chiapas. La función está abierta al público en general (mayores de 12 años) con una duración aproximada de 40 minutos. Se informa que la entrada es libre\, pero el cupo es limitado\, por lo que se recomienda llegar con anticipación para asegurar su lugar. \n\n\n\n\n\n\nConcentrado del evento \n\nLugar: Casa de la Cultura de Zinacantán\, Av. Cristóbal Colón\, Zona Centro\, Zinacantán\, Chiapas.\nFecha: Jueves 7 de agosto de 2025\nHora: 17:00 h\nDetalles del evento: Obra de teatro “Descarmenar los días”\, dirección de María Gabriela Ottogalli\, apta para mayores de 12 años\, duración de 40 minutos. Entrada libre\, cupo limitado.
URL:https://alertachiapas.com/evento/descarmenar-los-dias-una-obra-de-teatro-con-entrada-libre-en-zinacantan/
LOCATION:Casa de la Cultura de Zinacantán\, Av. Cristóbal Colón\, Zona Centro\, Zinacantán\, Chiapas\, Mexico
CATEGORIES:Evento general
ATTACH;FMTTYPE=image/jpeg:https://alertachiapas.com/wp-content/uploads/2025/08/b10268e8-b0a4-46ec-b57d-380c58a23bb4.jpg
END:VEVENT
BEGIN:VEVENT
DTSTART;TZID=America/Mexico_City:20250807T173000
DTEND;TZID=America/Mexico_City:20250807T200000
DTSTAMP:20260424T214919
CREATED:20250723T013039Z
LAST-MODIFIED:20250723T013119Z
UID:10000791-1754587800-1754596800@alertachiapas.com
SUMMARY:Homenaje a Rosario Castellanos: "Entre Música y Poesía" en el Teatro Francisco I. Madero
DESCRIPTION:En el marco del Aniversario Luctuoso de Rosario Castellanos\, el Consejo Estatal para las Culturas y las Artes de Chiapas (CONECULTA) invita al público a un emotivo evento cultural que fusiona la palabra y la melodía: “Entre Música y Poesía”. Este significativo homenaje se llevará a cabo el próximo 7 de agosto en el Teatro Francisco I. Madero. \nLa jornada cultural estará dividida en dos segmentos que prometen enriquecer el alma y el espíritu de los asistentes: \n\n“Entre Poetas\, La Poesía”: Un espacio dedicado a la palabra\, donde destacadas voces de la poesía chiapaneca se reunirán para compartir sus creaciones. Participarán los poetas Martha Elba Zambrano Oropeza\, Ana Lilia Nucamendi\, Isaac Castillo y Eduardo Hidalgo\, con la moderación de Uvel Vázquez. Será una oportunidad única para sumergirse en la profundidad y belleza de la poesía local.\n“El Alma de la Canción”: Un recital íntimo de voz y piano que promete cautivar a la audiencia. La talentosa Mariana Chandomí en la voz y el virtuoso Maximiliano Domínguez al piano\, interpretarán piezas que explorarán la esencia y el sentimiento de la música.\n\nEste evento es una excelente oportunidad para conmemorar la vida y obra de Rosario Castellanos\, una de las figuras literarias más importantes de México\, a través de la expresión artística contemporánea. La entrada es libre\, haciendo de este un evento accesible para toda la comunidad que desee disfrutar de una tarde de cultura y reflexión. \n\nConcentrado del Evento: \n\nNombre del Evento: Entre Música y Poesía\nMotivo: En el Marco del Aniversario Luctuoso de Rosario Castellanos\nFecha: 7 de agosto\nHora: 17:30 horas\nLugar: Teatro Francisco I. Madero (2a Oriente y 2a Norte\, Tuxtla Gutiérrez\, Chiapas)\nAcceso: Entrada libre\nPrograma:\n\n“Entre Poetas\, La Poesía”: Con la participación de Martha Elba Zambrano Oropeza\, Ana Lilia Nucamendi\, Isaac Castillo y Eduardo Hidalgo. Moderador: Uvel Vázquez.\n“El Alma de la Canción”: Recital de voz y piano con Mariana Chandomí (voz) y Maximiliano Domínguez (piano).\n\n\nOrganiza: Consejo Estatal para las Culturas y las Artes de Chiapas (CONECULTA)
URL:https://alertachiapas.com/evento/homenaje-a-rosario-castellanos-entre-musica-y-poesia-en-el-teatro-francisco-i-madero/
LOCATION:Teatro de la Ciudad Francisco I Madero\, Teatro Francisco I. Madero\, Av. 2a. Nte. Ote.\, San Marcos\, Tuxtla Gutierrez\, Chis.\, 29000\, Mexico
CATEGORIES:Arte,Evento general,Música,Teatro
ATTACH;FMTTYPE=image/jpeg:https://alertachiapas.com/wp-content/uploads/2025/07/520228535_1385978366549202_5362989128994581915_n.jpg
END:VEVENT
BEGIN:VEVENT
DTSTART;TZID=America/Mexico_City:20250808T160000
DTEND;TZID=America/Mexico_City:20250808T190000
DTSTAMP:20260424T214919
CREATED:20250806T015813Z
LAST-MODIFIED:20250806T015858Z
UID:10000809-1754668800-1754679600@alertachiapas.com
SUMMARY:ANUNCIO: Gran inicio de la Feria San Roque 2025 en Tuxtla Gutiérrez
DESCRIPTION:¡La Parroquia de San Roque y San Bartolomé Apóstol te invitan a la inauguración de sus festividades patronales! \n\n\n\n\n\nAcompáñanos a dar inicio a la Feria de San Roque 2025\, una celebración llena de tradición y cultura que une a la comunidad. Parachicos\, chiapanecas y público en general están cordialmente invitados a la apertura de las festividades patronales en honor a San Roque. \nNo te pierdas esta oportunidad de vivir la fe y las tradiciones de Chiapas en un evento que marca el comienzo de una de las ferias más importantes de la región. \nConcentrado del evento: \n\nLugar: Capilla Santa Cruz\, 13 Oriente entre 5a y 6a sur.\nFecha: Viernes\, 08 de agosto.\nHora: 04:30 PM.\nDetalles: Apertura de las festividades patronales de la Feria de San Roque 2025. Se invita a parachicos\, chiapanecas y público en general.
URL:https://alertachiapas.com/evento/anuncio-gran-inicio-de-la-feria-san-roque-2025-en-tuxtla-gutierrez/
LOCATION:Capilla Santa Cruz\, 13 Oriente entre 5a y 6a sur\, Tuxtla Gutiérrez\, Chiapas\, 29000\, Mexico
CATEGORIES:Cultura,Evento general
ATTACH;FMTTYPE=image/jpeg:https://alertachiapas.com/wp-content/uploads/2025/08/d8578b7c-9693-464c-8a2b-8f6a22ecb391.jpg
END:VEVENT
BEGIN:VEVENT
DTSTART;TZID=America/Mexico_City:20250808T170000
DTEND;TZID=America/Mexico_City:20250808T183000
DTSTAMP:20260424T214919
CREATED:20250806T233344Z
LAST-MODIFIED:20250806T233344Z
UID:10000818-1754672400-1754677800@alertachiapas.com
SUMMARY:San Francisco Invita a Misa Mensual con Unción de Enfermos
DESCRIPTION:La Parroquia de San Francisco\, a través de su Sector 6\, extiende una cordial invitación a la comunidad para su misa mensual\, que se llevará a cabo bajo la protección de la Inmaculada Infantita. Este servicio religioso especial incluirá la bendición de unción de enfermos\, ofreciendo a los feligreses una oportunidad de fe y sanación. El evento es un momento para la reflexión y la comunidad\, construyendo juntos un camino evangelizador\, tal como lo expresa su lema: “¡Con Cristo Rey y María niña construyamos un camino evangelizador!”. Se invita a todos a participar en esta importante celebración de fe. \n\nConcentrado del evento \n\nLugar: 10ª poniente entre 11 y 12 sur\, portón verde (Sector 6 de la Parroquia de San Francisco).\nFecha: Viernes 8 de agosto de 2025\nHora: 17:00 horas (5:00 pm)\nDetalles del evento: Misa mensual con la bendición de unción de enfermos\, bajo la protección de la Inmaculada Infantita.
URL:https://alertachiapas.com/evento/san-francisco-invita-a-misa-mensual-con-uncion-de-enfermos/
LOCATION:Sector 6 San Francisco\, 10ª poniente entre 11 y 12 sur\, portón verde\, Tuxtla Gutiérrez\, Chiapas\, 29000\, Mexico
CATEGORIES:Cultura,Evento general,Tradiciones
ATTACH;FMTTYPE=image/jpeg:https://alertachiapas.com/wp-content/uploads/2025/08/62c61b06-c090-42ce-b7be-ab69be909a85.jpg
END:VEVENT
BEGIN:VEVENT
DTSTART;TZID=America/Mexico_City:20250808T180000
DTEND;TZID=America/Mexico_City:20250808T193000
DTSTAMP:20260424T214919
CREATED:20250807T235531Z
LAST-MODIFIED:20250807T235531Z
UID:10000819-1754676000-1754681400@alertachiapas.com
SUMMARY:¡Viva Tuxtla!: Conmemoran el 78 aniversario del natalicio de Joaquín Vásquez Aguilar
DESCRIPTION:El Ayuntamiento de Tuxtla Gutiérrez\, en conjunto con el Instituto Tuxtleco de Arte y Cultura (ITAC) y la Casa de la Cultura “Luis Alaminos Guerrero”\, invitan a la comunidad a conmemorar el 78 aniversario del natalicio de Joaquín Vásquez Aguilar\, destacado personaje de la cultura chiapaneca. \nLa celebración incluye la presentación del documental “Capusbovense del mar: vida y obra de Joaquín Vásquez Aguilar”\, dirigido por Raúl Vera\, que explora la vida y el legado de este artista. \nAdemás\, se llevará a cabo una mesa de análisis y lectura de poemas\, con la participación de Antonio Alfonzo y Chary Gumeta\, quienes compartirán su perspectiva sobre la obra de Vásquez Aguilar. El evento también contará con una performance de danza y poesía a cargo de Elizabeth Pang\, que rendirá homenaje a su figura. \nConcentrado del evento: \n\nLugar: Casa de la Cultura “Luis Alaminos Guerrero”\, 1a. Pte. Esquina 2a. Nte.\nFecha: 8 de agosto\nHora: 18:00 horas\nDetalles: Presentación de documental\, mesa de análisis\, lectura de poemas y performance de danza y poesía.
URL:https://alertachiapas.com/evento/viva-tuxtla-conmemoran-el-78-aniversario-del-natalicio-de-joaquin-vasquez-aguilar/
LOCATION:Casa de la Cultura Luis Alaminos\, 1a poniente esquina con 2a norte\, Tuxtla Gutiérrez\, Chiapas\, 29000\, Mexico
CATEGORIES:Cultura,Evento general
ATTACH;FMTTYPE=image/jpeg:https://alertachiapas.com/wp-content/uploads/2025/08/527532756_18411976843110703_1516846494699021925_n.jpg
END:VEVENT
BEGIN:VEVENT
DTSTART;TZID=America/Mexico_City:20250809T120000
DTEND;TZID=America/Mexico_City:20250809T140000
DTSTAMP:20260424T214919
CREATED:20250806T232002Z
LAST-MODIFIED:20250806T232058Z
UID:10000815-1754740800-1754748000@alertachiapas.com
SUMMARY:Tradicional Corona Tuxtleca: Celebración de Tuxtla en su Aniversario como Capital
DESCRIPTION:Únete a la celebración del 133 aniversario de Tuxtla como Capital participando en una de sus tradiciones más queridas: la “corona tuxtleca”. La comunidad está invitada a traer sus flores para unirse y crear juntos una hermosa corona floral que simboliza la unidad y la historia de nuestra ciudad. Es una oportunidad única para ser parte de un evento cultural que honra la identidad de Tuxtla y sus habitantes. No pierdas la oportunidad de sumarte a esta conmemoración. \n\nConcentrado del evento \n\nLugar: No especificado en el anuncio. Se invita a la comunidad a participar en este evento cívico.\nFecha: 9 de agosto\nHora: 12:00 hrs\nDetalles del evento: Celebración del 133 aniversario de Tuxtla como Capital. Se invita a la comunidad a traer sus flores para participar en la creación de la “tradicional corona tuxtleca”.
URL:https://alertachiapas.com/evento/tradicional-corona-tuxtleca-celebracion-de-tuxtla-aniversario-como-capital/
LOCATION:Museo de la Ciudad\, Av Central Pte 288\, Santo Domingo\, Tuxtla Gutiérrez\, Chiapas\, 29000\, Mexico
CATEGORIES:Cultura,Evento general,taller
ATTACH;FMTTYPE=image/jpeg:https://alertachiapas.com/wp-content/uploads/2025/08/1513fa8e-a06d-4e61-bb2a-23fdd5c0cf33.jpg
END:VEVENT
BEGIN:VEVENT
DTSTART;TZID=America/Mexico_City:20250809T120000
DTEND;TZID=America/Mexico_City:20250809T170000
DTSTAMP:20260424T214919
CREATED:20250806T020608Z
LAST-MODIFIED:20250806T020608Z
UID:10000810-1754740800-1754758800@alertachiapas.com
SUMMARY:¡Tuxtla celebra su 133 aniversario como Capital!
DESCRIPTION:La ciudad de Tuxtla Gutiérrez conmemora su 133 aniversario como Capital con el evento “Celebremos Resistiendo”\, una jornada cultural que se llevará a cabo en las puertas del Museo de la Ciudad. La celebración contará con un variado programa de actividades para toda la familia. \nEl programa incluye la “Corona a Tuxtla”\, una elaboración colectiva de corona floral\, y el “Cumpleaños Zoque Tuxtleco” con la participación del Ensamble Folklórico Joyonaqué. También habrá un “Foto conversatorio comunitario” titulado “Memorias y Postales”\, y para amenizar la jornada\, se contará con Marimba en vivo. \nConcentrado del evento: \n\nTítulo del evento: 133 Aniversario de Tuxtla Como Capital. Celebremos Resistiendo.\nLugar: Puertas del Museo de la Ciudad\, Tuxtla Gutiérrez.\nFecha: 9 de agosto.\nHora: De 12:00 hrs. a 5:00 P.M.\nDetalles del evento:\n\n12:00 – 5:00 P.M.: Programa cultural.\nActividades: “Corona a Tuxtla” (elaboración colectiva de corona floral)\, “Cumpleaños Zoque Tuxtleco” (Ensamble Folklórico Joyonaqué)\, “Memorias y Postales” (foto conversatorio comunitario) y Marimba en vivo.
URL:https://alertachiapas.com/evento/tuxtla-celebra-su-133-aniversario-como-capital/
LOCATION:Museo de la Ciudad\, Av Central Pte 288\, Santo Domingo\, Tuxtla Gutiérrez\, Chiapas\, 29000\, Mexico
CATEGORIES:Cultura,Evento general,Música
ATTACH;FMTTYPE=image/jpeg:https://alertachiapas.com/wp-content/uploads/2025/08/559ad70c-717f-411d-b11e-376864ade3bd.jpg
END:VEVENT
BEGIN:VEVENT
DTSTART;TZID=America/Mexico_City:20250810T070000
DTEND;TZID=America/Mexico_City:20250810T160000
DTSTAMP:20260424T214919
CREATED:20250806T232656Z
LAST-MODIFIED:20250806T232656Z
UID:10000817-1754809200-1754841600@alertachiapas.com
SUMMARY:Invitan a Carrera de la Juventud y Bazar Local en Tuxtla
DESCRIPTION:El Ayuntamiento de Tuxtla Gutiérrez y el Instituto de la Juventud (INJUVE) invitan a la comunidad a participar en un doble evento diseñado para celebrar y apoyar a los jóvenes. La jornada comenzará con la “Carrera de la Juventud” y\, al finalizar\, los participantes y asistentes podrán disfrutar del “Tux Bazar Juvenil”\, un espacio dedicado a promover el consumo local. En el bazar\, encontrarás una gran variedad de alimentos\, bebidas\, snacks\, accesorios y mucho más\, todo de la mano de talentosos emprendedores locales. Es una excelente oportunidad para disfrutar de un día en familia y apoyar la economía de la juventud tuxtleca. \n\nConcentrado del evento \n\nLugar: Parque de la Juventud\nFecha: 10 de agosto de 2025\nHora: De 7:00 a 16:00 horas\nDetalles del evento: Jornada que incluye la “Carrera de la Juventud” y el “Tux Bazar Juvenil” para consumir productos locales como alimentos\, bebidas\, snacks y accesorios.
URL:https://alertachiapas.com/evento/invitan-a-carrera-de-la-juventud-y-bazar-local-en-tuxtla/
LOCATION:Parque de la Juventud\, 13VA Calle Poniente Norte\, tuxtla gutiérrez\, chiapas\, 29000\, Mexico
CATEGORIES:Evento general,Expo venta
ATTACH;FMTTYPE=image/jpeg:https://alertachiapas.com/wp-content/uploads/2025/08/524695141_1173447094810536_2879864643007751859_n.jpg
END:VEVENT
BEGIN:VEVENT
DTSTART;TZID=America/Mexico_City:20250810T080000
DTEND;TZID=America/Mexico_City:20250810T120000
DTSTAMP:20260424T214919
CREATED:20250808T214745Z
LAST-MODIFIED:20250808T214745Z
UID:10000826-1754812800-1754827200@alertachiapas.com
SUMMARY:Regresa la Vía Recreativa "De vuelta al río" en Tuxtla Gutiérrez
DESCRIPTION:Este 10 de agosto\, la Vía Recreativa “De vuelta al río” se apoderará de la Vía Pacificada\, en el tramo Sabinal – Arboledas\, para ofrecer a las familias de Tuxtla Gutiérrez un espacio de convivencia y esparcimiento. De 8 de la mañana a 12 del mediodía\, los asistentes podrán disfrutar de una jornada al aire libre\, promoviendo la actividad física y el cuidado del medio ambiente. \nLa Vía Recreativa es un evento que busca recuperar los espacios públicos para que la ciudadanía pueda caminar\, correr\, patinar o andar en bicicleta de forma segura\, libre de la circulación vehicular. Es una iniciativa que impulsa el bienestar\, la sana convivencia y el sentido de pertenencia en la ciudad. \nEl evento es una colaboración entre diferentes instancias y organizaciones\, como el H. Ayuntamiento de Tuxtla Gutiérrez\, la Secretaría de Salud municipal\, la Cruz Roja Mexicana y Telcel\, entre otros\, demostrando el compromiso de diversos actores con la creación de una ciudad más saludable y participativa. Se invita a toda la población a sumarse a esta jornada. \n  \nConcentrado del evento:\n  \n\nEvento: Vía Recreativa “De vuelta al río”\nLugar: Vía Pacificada (tramo Sabinal – Arboledas)\nFecha: 10 de agosto\nHora: 8:00 a.m. a 12:00 p.m.\nDetalles del evento: Actividades recreativas y deportivas en un espacio libre de vehículos.
URL:https://alertachiapas.com/evento/regresa-la-via-recreativa-de-vuelta-al-rio-en-tuxtla-gutierrez/
LOCATION:Andador Río Sabinal\, tramo Sabinal - Arboledas\, Tuxtla Gutiérrez\, Chiapas\, 29000\, Mexico
CATEGORIES:Evento general
ATTACH;FMTTYPE=image/jpeg:https://alertachiapas.com/wp-content/uploads/2025/08/528961670_785363613825884_8585570057443302201_n.jpg
END:VEVENT
BEGIN:VEVENT
DTSTART;TZID=America/Mexico_City:20250810T080000
DTEND;TZID=America/Mexico_City:20250810T123000
DTSTAMP:20260424T214919
CREATED:20250808T215530Z
LAST-MODIFIED:20250808T215530Z
UID:10000828-1754812800-1754829000@alertachiapas.com
SUMMARY:"Operación Re-Útiles": Colecta de útiles escolares en apoyo a niños de Chiapas
DESCRIPTION:La organización Operación Conejo ha lanzado la campaña “Operación Re-Útiles”\, una iniciativa solidaria para recolectar útiles escolares y mochilas en buen estado a beneficio de niños de escasos recursos en Chiapas. Esta noble causa busca apoyar la educación de la niñez chiapaneca y asegurar que tengan las herramientas necesarias para un regreso a clases exitoso. \nSe invita a la población a sumarse a esta campaña donando aquellos útiles y mochilas que ya no utilicen. Entre los artículos que se pueden donar se encuentran mochilas\, lápices\, cuadernos y colores. Cada aportación\, por pequeña que sea\, puede marcar una gran diferencia en la vida de un estudiante. \nPara más información sobre los centros de acopio o la campaña\, los interesados pueden contactar a la organización a través de sus redes sociales en Facebook e Instagram\, o por correo electrónico. \n\nEvento: Operación Re-Útiles (Campaña de recolección).\nOrganiza: Operación Conejo.\nDetalles del evento:\n\nDonación de útiles escolares y mochilas que ya no se utilicen.\nArtículos a donar: mochilas\, lápices\, cuadernos y colores.\nBeneficiarios: Niños de escasos recursos de Chiapas.\n\n\nContacto:\n\nFacebook: Operación Conejo\nInstagram: @Operacion_Conejo\nCorreo electrónico: operacionconejo@gmail.com
URL:https://alertachiapas.com/evento/operacion-re-utiles-colecta-de-utiles-escolares-en-apoyo-a-ninos-de-chiapas/
LOCATION:Andador Río Sabinal\, tramo Sabinal - Arboledas\, Tuxtla Gutiérrez\, Chiapas\, 29000\, Mexico
CATEGORIES:Evento general
ATTACH;FMTTYPE=image/jpeg:https://alertachiapas.com/wp-content/uploads/2025/08/529201889_1173875188110592_109080652219460027_n.jpg
END:VEVENT
END:VCALENDAR