BEGIN:VCALENDAR
VERSION:2.0
PRODID:-//Alerta Chiapas - ECPv6.15.20//NONSGML v1.0//EN
CALSCALE:GREGORIAN
METHOD:PUBLISH
X-WR-CALNAME:Alerta Chiapas
X-ORIGINAL-URL:https://alertachiapas.com
X-WR-CALDESC:Eventos para Alerta Chiapas
REFRESH-INTERVAL;VALUE=DURATION:PT1H
X-Robots-Tag:noindex
X-PUBLISHED-TTL:PT1H
BEGIN:VTIMEZONE
TZID:America/Mexico_City
BEGIN:STANDARD
TZOFFSETFROM:-0600
TZOFFSETTO:-0600
TZNAME:CST
DTSTART:20240101T000000
END:STANDARD
END:VTIMEZONE
BEGIN:VEVENT
DTSTART;TZID=America/Mexico_City:20250721T180000
DTEND;TZID=America/Mexico_City:20250721T193000
DTSTAMP:20260425T112340
CREATED:20250718T224007Z
LAST-MODIFIED:20250718T224007Z
UID:10000779-1753120800-1753126200@alertachiapas.com
SUMMARY:¡Descubre la Leyenda! Proyección Especial de "Chiapas: Una Tierra Legendaria" en Tuxtla Gutiérrez
DESCRIPTION:El Museo del Café de Chiapas en Tuxtla Gutiérrez se prepara para recibir una proyección especial que invita a redescubrir la riqueza cultural y natural del estado. Te invitamos a la proyección del cortometraje de ficción “Chiapas: Una Tierra Legendaria”\, una producción que promete transportar a los espectadores a través de las historias y paisajes que hacen de Chiapas un lugar mítico. \nEste evento es una excelente oportunidad para apreciar el talento local y sumergirse en una narrativa visual que exalta la esencia de nuestra tierra. La proyección se llevará a cabo el próximo lunes 21 de julio de 2025\, a las 18:00 horas\, en la Sala de Proyecciones del Museo del Café de Chiapas. \nNo te pierdas esta cita con el arte y la cultura chiapaneca\, un espacio para reflexionar sobre la identidad y la belleza de nuestro estado. \nEste evento es posible gracias al apoyo del Gobierno de Chiapas\, a través del Consejo Estatal para las Culturas y las Artes de Chiapas (CONECULTA) y Punto de Café. \n\nConcentrado del evento: \n\nEvento: Proyección del cortometraje de ficción “Chiapas: Una Tierra Legendaria”\nLugar: Sala de Proyecciones del Museo del Café de Chiapas\, Tuxtla Gutiérrez\, Chiapas.\nFecha: Lunes 21 de julio de 2025\nHora: 18:00 horas\nDetalles del evento:\n\nProyección de un cortometraje de ficción sobre Chiapas.\nOrganizado por el Gobierno de Chiapas\, CONECULTA y Punto de Café.
URL:https://alertachiapas.com/evento/descubre-la-leyenda-proyeccion-especial-de-chiapas-una-tierra-legendaria-en-tuxtla-gutierrez/
LOCATION:Museo del Cafe de Chiapas\, Calle 2a. Ote. Nte. 236\, tuxtla gutiérrez\, Chiapas\, 29000\, Mexico
CATEGORIES:Evento general
ATTACH;FMTTYPE=image/jpeg:https://alertachiapas.com/wp-content/uploads/2025/07/c851599a-e606-4014-a16b-c11b2d283cf1.jpg
END:VEVENT
BEGIN:VEVENT
DTSTART;TZID=America/Mexico_City:20250723T170000
DTEND;TZID=America/Mexico_City:20250723T200000
DTSTAMP:20260425T112340
CREATED:20250722T010340Z
LAST-MODIFIED:20250722T010340Z
UID:10000786-1753290000-1753300800@alertachiapas.com
SUMMARY:¡Noche de Cine Independiente! Odisea Film Festival celebra su 2ª Edición en Tuxtla Gutiérrez
DESCRIPTION:Tuxtla Gutiérrez se prepara para una cita imperdible con el séptimo arte. El Odisea Film Festival celebra su 2ª Edición con una emocionante Noche de Cortometrajes Independientes\, una plataforma para el talento cinematográfico y las historias que inspiran. \nEste evento\, que busca promover el cine independiente\, es una excelente oportunidad para disfrutar de producciones creativas y diversas. La función se llevará a cabo el 23 de julio\, a partir de las 5:00 PM\, en el icónico Teatro Francisco I. Madero. \nLos organizadores invitan a la comunidad a adquirir sus boletos y asegurar su lugar para esta noche de cine. Si eres un apasionado del cine\, te gusta apoyar el talento emergente y disfrutas de las propuestas audiovisuales fuera de lo convencional\, esta es tu oportunidad. \nPara reservar tu lugar y adquirir boletos\, puedes mandar un mensaje directo a través de las redes sociales del festival (@odiseafilmfestival en Instagram y Odisea Film Festival en Facebook)\, o enviar un correo electrónico a odiseafilmfestival@gmail.com. \nEl Odisea Film Festival se enorgullece de ser #OrgullosamenteChiapaneco y agradece el apoyo del Gobierno de Chiapas\, CONECULTA\, el Teatro de la Ciudad y Ajolotes Producciones\, quienes hacen posible este evento cultural. \n\nConcentrado del evento: \n\nEvento: Odisea Film Festival – 2ª Edición: Noche de Cortometrajes Independientes\nFecha: 23 de julio\nHora: 5:00 PM\nLugar: Teatro Francisco I. Madero\, Tuxtla Gutiérrez\, Chiapas.\nBoletos: Adquiere tus boletos y reserva tu lugar.\nContacto para boletos/reservas:\n\nMensaje directo en Instagram: @odiseafilmfestival\nMensaje directo en Facebook: Odisea Film Festival\nCorreo electrónico: odiseafilmfestival@gmail.com\n\n\nOrganizan/Apoyan: Odisea Film Festival\, Gobierno de Chiapas\, CONECULTA\, Teatro de la Ciudad\, Ajolotes Producciones.
URL:https://alertachiapas.com/evento/noche-de-cine-independiente-odisea-film-festival-celebra-su-2a-edicion-en-tuxtla-gutierrez/
LOCATION:Teatro de la Ciudad Francisco I Madero\, Teatro Francisco I. Madero\, Av. 2a. Nte. Ote.\, San Marcos\, Tuxtla Gutierrez\, Chis.\, 29000\, Mexico
CATEGORIES:Evento general
ATTACH;FMTTYPE=image/jpeg:https://alertachiapas.com/wp-content/uploads/2025/07/514138268_122188410770281299_1821252912119811246_n.jpg
END:VEVENT
BEGIN:VEVENT
DTSTART;TZID=America/Mexico_City:20250724T180000
DTEND;TZID=America/Mexico_City:20250724T200000
DTSTAMP:20260425T112340
CREATED:20250718T224200Z
LAST-MODIFIED:20250718T224200Z
UID:10000780-1753380000-1753387200@alertachiapas.com
SUMMARY:Noche de Versos y Emociones: Recital de Poesía en Voz Alta en Tuxtla Gutiérrez
DESCRIPTION:La capital chiapaneca se prepara para una velada literaria que promete conmover los sentidos. El Teatro Francisco I. Madero será el escenario de un emotivo Recital de Poesía en Voz Alta\, una oportunidad única para disfrutar de la palabra hecha arte. \nEste encuentro con la poesía contará con la participación de destacadas voces locales\, entre ellas Cecilia del Carmen Montoya León\, María Elena Díaz Carrión\, Raúl Vázquez Espinoza\, Hernán León Velasco y René Morales Hernández\, quienes compartirán sus creaciones y declamaciones. La velada será moderada por Uvel Vázquez\, asegurando una experiencia fluida y enriquecedora para todos los asistentes. \nNo te pierdas esta cita con la lírica\, un espacio para la reflexión\, la belleza y la expresión artística. La entrada es libre y es una excelente oportunidad para apoyar el talento literario de Chiapas. \n\nConcentrado del evento: \n\nEvento: Recital de Poesía en Voz Alta\nFecha: 24 de julio\nHora: 18:00 Horas\nLugar: Teatro Francisco I. Madero\, Sala de Usos Múltiples\, 2a Oriente y 2a Norte\, Tuxtla Gutiérrez\, Chiapas.\nParticipantes: Cecilia del Carmen Montoya León\, María Elena Díaz Carrión\, Raúl Vázquez Espinoza\, Hernán León Velasco\, René Morales Hernández.\nModera: Uvel Vázquez\nOrganizan: Gobierno de Chiapas y el Consejo Estatal para las Culturas y las Artes de Chiapas (CONECULTA) a través del Teatro de la Ciudad.
URL:https://alertachiapas.com/evento/noche-de-versos-y-emociones-recital-de-poesia-en-voz-alta-en-tuxtla-gutierrez/
LOCATION:Teatro de la Ciudad Francisco I Madero\, Teatro Francisco I. Madero\, Av. 2a. Nte. Ote.\, San Marcos\, Tuxtla Gutierrez\, Chis.\, 29000\, Mexico
CATEGORIES:Evento general,Música,Teatro
ATTACH;FMTTYPE=image/jpeg:https://alertachiapas.com/wp-content/uploads/2025/07/a5a86e5e-3b77-4f6e-a0a6-3751def92815.jpg
END:VEVENT
BEGIN:VEVENT
DTSTART;TZID=America/Mexico_City:20250726T090000
DTEND;TZID=America/Mexico_City:20250726T140000
DTSTAMP:20260425T112340
CREATED:20250724T010109Z
LAST-MODIFIED:20250724T010109Z
UID:10000793-1753520400-1753538400@alertachiapas.com
SUMMARY:¡Bazar con Causa en Tuxtla! Adopción\, Defensa Personal y Compras Solidarias por Nuestros Perritos
DESCRIPTION:Este próximo sábado 26 de julio\, el Parque Tuchtlán se convertirá en el epicentro de la solidaridad y el apoyo a nuestros amigos de cuatro patas\, con la llegada del “¡Bazar con Causa!” organizado por Nuevas Estrellas Bazar. Bajo la consigna #CONSUMELOCAL\, este evento promete una experiencia única para toda la familia. \nDesde las 9:00 AM y hasta las 2:00 PM\, podrás participar en diversas actividades que marcan la diferencia. No te pierdas la Feria de Adopción Mejor Amigo Adopta\, una oportunidad de oro para encontrar el compañero peludo que siempre quisiste y darle un hogar lleno de amor. \nAdemás\, pensando en el bienestar y seguridad de las mujeres\, se ofrecerá una Clase de Defensa Personal para Mujeres\, brindando herramientas valiosas para el empoderamiento y la autoprotección. \nY por supuesto\, el corazón del evento: ¡el hermoso bazar solidario Nuevas Estrellas! Aquí encontrarás una amplia variedad de productos como ropa\, accesorios\, detallitos y mucho más. Cada compra que realices tendrá un propósito noble\, ya que todo lo recaudado será destinado a apoyar a nuestros perritos rescatados\, brindándoles atención\, alimento y un camino hacia una vida mejor. \n¡Es una excelente oportunidad para apoyar el comercio local\, adquirir productos únicos y al mismo tiempo contribuir a una noble causa animal! \n\nCONCENTRADO DEL EVENTO: \n\nEvento: ¡Bazar con Causa! (#CONSUMELOCAL)\nLugar: Parque Tuchtlán\nFecha: Sábado 26 de julio\nHora: 9:00 AM a 2:00 PM\nDetalles del Evento:\n\nFeria de adopción Mejor Amigo Adopta\nClase de defensa personal para mujeres\nBazar solidario Nuevas Estrellas (ropa\, accesorios\, detallitos\, etc.)\n\n\nObjetivo: Apoyar a perritos rescatados.\nOrganiza: Nuevas Estrellas Bazar
URL:https://alertachiapas.com/evento/bazar-con-causa-en-tuxtla-adopcion-defensa-personal-y-compras-solidarias-por-nuestros-perritos/
LOCATION:Parque Tuchtlan\, Chiapas\, 29020\, Mexico
CATEGORIES:Evento general
ATTACH;FMTTYPE=image/jpeg:https://alertachiapas.com/wp-content/uploads/2025/07/522699298_122152365812398667_9149519763881136526_n.jpg
END:VEVENT
BEGIN:VEVENT
DTSTART;TZID=America/Mexico_City:20250726T093000
DTEND;TZID=America/Mexico_City:20250726T120000
DTSTAMP:20260425T112340
CREATED:20250711T234209Z
LAST-MODIFIED:20250711T234317Z
UID:10000758-1753522200-1753531200@alertachiapas.com
SUMMARY:¡Cultura y Sabor! "Desayunos con Letras" te invita a un encuentro literario en Chiapa de Corzo
DESCRIPTION:Chiapa de Corzo se prepara para ser el epicentro de la cultura con “Desayunos con Letras”\, un encuentro literario único que fusiona la poesía\, la música y la rica sazón de Chiapas. Este evento es una invitación a despertar los sentidos y disfrutar de una mañana llena de arte y comunidad. \nLos asistentes tendrán la oportunidad de deleitarse con las palabras de un destacado grupo de poetas locales\, incluyendo a Gonzalo Escobar\, Josué Nandayapa\, Misael Consuegra\, Ilsa Maldonado\, Martha Zambrano\, Flor Valencia\, Marcos Sánchez\, Elena Díaz Carrión\, Maribeyner Morales y Chary Gumeta. El encuentro será moderado por Luis Alberto Ballinas\, garantizando una conducción amena y profunda. \nLa atmósfera literaria se complementará con la voz versátil de Jorge Montero\, quien amenizará con música en vivo. Además\, los participantes podrán disfrutar de un delicioso desayuno con el auténtico sabor de Chiapas. Este evento es una excelente ocasión para apoyar el talento chiapaneco y sumergirse en un espacio de diálogo cultural y artístico. \nPara asegurar tu lugar\, se recomienda reservar previamente. \n\nConcentrado del evento: \n\nLugar: Calle Benito Juárez #72\, Barrio San Jancito\, Chiapa de Corzo\, Chis.\nFecha: Sábado 26 de Julio.\nHora: 9:30 AM (comienzo).\nDetalles del evento:\n\nEncuentro literario.\nMúsica en vivo con Jorge Montero.\nLectura de poesía por: Gonzalo Escobar\, Josué Nandayapa\, Misael Consuegra\, Ilsa Maldonado\, Martha Zambrano\, Flor Valencia\, Marcos Sánchez\, Elena Díaz Carrión\, Maribeyner Morales\, Chary Gumeta.\nModerado por: Luis Alberto Ballinas.\nDesayuno con sazón chiapaneca.\n\n\nReserva al: 961 3323583.
URL:https://alertachiapas.com/evento/cultura-y-sabor-desayunos-con-letras-te-invita-a-un-encuentro-literario-en-chiapa-de-corzo/
LOCATION:Cocina de la Tia\, Calle Benito Juárez # 72\, esquina Capitán Vicente López\, Chiapa de Corzo\, Chiapas\, Mexico
CATEGORIES:Evento general
ATTACH;FMTTYPE=image/jpeg:https://alertachiapas.com/wp-content/uploads/2025/07/3086ee20-4c5e-4a26-9553-92254f6679aa.jpg
END:VEVENT
BEGIN:VEVENT
DTSTART;TZID=America/Mexico_City:20250726T103000
DTEND;TZID=America/Mexico_City:20250726T160000
DTSTAMP:20260425T112340
CREATED:20250723T012622Z
LAST-MODIFIED:20250723T012622Z
UID:10000789-1753525800-1753545600@alertachiapas.com
SUMMARY:¡Que Viva el Sabinal! Tuxtla Gutiérrez Celebra su Río con un Gran Festival
DESCRIPTION:La ciudad se prepara para una jornada de celebración\, conciencia ambiental y cultura con la llegada del Festival “¡Qué viva el Sabinal!”. Organizado por la Comisión de Industria\, Comercio\, Turismo y Artesanías del Ayuntamiento 2024-2027\, a través de la Regidora Indra Toledo\, este evento busca fomentar el cuidado\, respeto y preservación del Río Sabinal\, un pulmón vital para la capital chiapaneca. \nEl festival es una invitación abierta a todas las familias para disfrutar\, compartir y generar comunidad entre tuxtlecos y tuxtlecas. La programación incluye diversas actividades diseñadas para educar y entretener: \n\nConversatorio y Crónicas de la Relevancia Histórica del Río Sabinal: Un espacio para conocer la importancia del río a través del tiempo\, sus historias y su impacto en la vida de la ciudad.\nExposición Artística\, Cultural\, Musical y Gastronómica Tradicional Zoque: Sumérgete en la riqueza cultural de la región con muestras de arte\, expresiones culturales\, música en vivo y una deliciosa oferta de platillos tradicionales zoques.\n\nAdemás\, el evento contará con un atractivo Concurso de Dibujo con premios\, invitando a la creatividad de los participantes a plasmar su visión del río y su entorno. Las bases de la convocatoria para este concurso están disponibles en el siguiente enlace: https://docs.google.com/forms/d/e/1FAIpQLSfGO3TiCSmqouhYpeYe1d5KMG15SDvygfbOTmCkTP7uHOTBg/viewform?usp=header. \n¡Únete a la celebración y sé parte de esta iniciativa para ser un guardián del medio ambiente y del Río Sabinal! \n\nConcentrado del Evento: \n\nNombre del Evento: Festival “¡Qué viva el Sabinal!”\nOrganiza: La Comisión de Industria\, Comercio\, Turismo y Artesanías\, a través de la Regidora Indra Toledo (Ayuntamiento 2024-2027).\nFecha: 26 de julio\nHora: 10:30 hrs\nLugar: Paseo Sabinal (19 Pte Nte y Calle América\, Col. Arboladas)\nDetalles del Evento:\n\nConversatorio y crónicas sobre la relevancia histórica del Río Sabinal.\nExposición artística\, cultural\, musical y gastronómica tradicional zoque.\nConcurso de Dibujo con premios.\nEnfoque en el cuidado\, respeto y preservación del Río Sabinal.
URL:https://alertachiapas.com/evento/que-viva-el-sabinal-tuxtla-gutierrez-celebra-su-rio-con-un-gran-festival/
LOCATION:Paseo Sabinal\, 19 Pte Nte y Calle América\, Col. Arboladas\, Tuxtla Gutiérrez\, Chiapas\, 29000\, Mexico
CATEGORIES:Ecología,Evento general
ATTACH;FMTTYPE=image/jpeg:https://alertachiapas.com/wp-content/uploads/2025/07/521852382_1140009818158905_3189834966532888789_n.jpg
END:VEVENT
BEGIN:VEVENT
DTSTART;TZID=America/Mexico_City:20250726T110000
DTEND;TZID=America/Mexico_City:20250726T160000
DTSTAMP:20260425T112340
CREATED:20250724T010819Z
LAST-MODIFIED:20250724T010819Z
UID:10000796-1753527600-1753545600@alertachiapas.com
SUMMARY:¡Imperdible Encuentro Artístico en Tuxtla! Música\, Danza\, Poesía\, Cine y Talleres en Puertas del Museo
DESCRIPTION:Este 26 de julio\, Tuxtla Gutiérrez será el escenario de un vibrante “Encuentro Artístico” que reunirá diversas expresiones culturales en un solo lugar. Las “Puertas del Museo”\, ubicado en la Avenida Central Poniente 288\, abrirán sus puertas a partir de las 11:00 AM para una jornada llena de creatividad y talento local. \nPrepara tus sentidos para una experiencia multidisciplinaria que incluye: \n\nMÚSICA: Disfruta de la energía de “Maldita rabia – Acustipunk”\, el sonido envolvente de “Habitantes del cosmos – Banda unplugged”\, la fusión de “Armando peligroso – Folk y country”\, y la propuesta de “Sriadel del Sol – Música y performance”\, además del rap fusión de “Selma Mc – Rap fusión”.\nDANZA: Déjate llevar por el “Encuentro de Impro y bailongo”\, y maravíllate con la danza contemporánea “Sintiente” de Mario Arreondo.\nLITERATURA: Sumérgete en el performance de Vania Vega\, la propuesta “TZARA – antología” de Alex Ramírez y Mirlo Blanco\, y el micrófono abierto de Antonio Reyes Quijote con “Poesía volátil”.\nCINE: Disfruta de proyecciones cinematográficas con “El eco de su voz” de Rodrigo Guzmán Espíndola\, “El cielo es muy bonito” de Aracely Méndez\, “Remington” de Magali Caballero\, y “3 días 3 años” de Florencia Gómez Santíz.\nTALLERES: Explora tu creatividad y aprende algo nuevo con los talleres que se ofrecerán durante el evento.\n\nEste Encuentro Artístico es una excelente oportunidad para apoyar a la comunidad artística local y sumergirse en una jornada cultural diversa y emocionante. \nEl evento es una colaboración entre Conejas Bazar\, Museo de la Ciudad de Tuxtla Gutiérrez y el CONECULTA. ¡No te lo pierdas! \n\nCONCENTRADO DEL EVENTO: \n\nEvento: Encuentro Artístico\nFecha: 26 de julio\nHora: A partir de las 11:00 AM\nLugar: Puertas del Museo\, Avenida Central Poniente 288\, Tuxtla Gutiérrez.
URL:https://alertachiapas.com/evento/imperdible-encuentro-artistico-en-tuxtla-musica-danza-poesia-cine-y-talleres-en-puertas-del-museo/
LOCATION:Museo de la Ciudad\, Av Central Pte 288\, Santo Domingo\, Tuxtla Gutiérrez\, Chiapas\, 29000\, Mexico
CATEGORIES:Arte,Evento general
ATTACH;FMTTYPE=image/jpeg:https://alertachiapas.com/wp-content/uploads/2025/07/8ee352b5-bf39-45c3-8351-b63e8de54ed8.jpg
END:VEVENT
BEGIN:VEVENT
DTSTART;TZID=America/Mexico_City:20250727T130000
DTEND;TZID=America/Mexico_City:20250727T150000
DTSTAMP:20260425T112340
CREATED:20250722T000249Z
LAST-MODIFIED:20250722T002557Z
UID:10000785-1753621200-1753628400@alertachiapas.com
SUMMARY:¡Música y Alegría! Gama Music Studio presenta su Concierto de Verano en el Museo de la Niñez
DESCRIPTION:Tuxtla Gutiérrez se prepara para una tarde llena de ritmo y talento musical con el Concierto de Verano presentado por Gama Music Studio. Este evento promete ser un deleite para los amantes de la música y una excelente oportunidad para disfrutar de las nuevas generaciones de artistas. \nEl concierto se llevará a cabo el próximo domingo 27 de julio\, a partir de la 1:00 PM\, en las instalaciones del Museo de la Niñez. Será un espacio vibrante donde los alumnos y talentos de Gama Music Studio compartirán sus habilidades y pasión por la música\, creando un ambiente familiar y festivo. \nNo te pierdas esta cita musical para apoyar a los jóvenes talentos y disfrutar de un agradable concierto de verano en uno de los espacios culturales más queridos de la ciudad. \n\nConcentrado del evento: \n\nEvento: Concierto de Verano\nOrganiza: Gama Music Studio\nFecha: Domingo 27 de julio\nHora: 1:00 PM\nLugar: Museo de la Niñez\, Blvd. Salomón Gonzales Blanco esq. con Paso Limón\, Ampliación Las Palmas\, Tuxtla Gutiérrez\, Chiapas.\nDetalles: Concierto musical\, probablemente con la participación de alumnos de Gama Music Studio.
URL:https://alertachiapas.com/evento/musica-y-alegria-gama-music-studio-presenta-su-concierto-de-verano-en-el-museo-de-la-ninez/
LOCATION:Museo de la Niñez\, Blvd. Salomón González Blanco esquina con Paso Limón\, tuxtla gutiérrez\, chiapas\, 29000\, Mexico
CATEGORIES:Concierto,Evento general
ATTACH;FMTTYPE=image/jpeg:https://alertachiapas.com/wp-content/uploads/2025/07/520797805_1075154694594088_1655761036295127267_n.jpg
END:VEVENT
END:VCALENDAR