BEGIN:VCALENDAR
VERSION:2.0
PRODID:-//Alerta Chiapas - ECPv6.15.20//NONSGML v1.0//EN
CALSCALE:GREGORIAN
METHOD:PUBLISH
X-ORIGINAL-URL:https://alertachiapas.com
X-WR-CALDESC:Eventos para Alerta Chiapas
REFRESH-INTERVAL;VALUE=DURATION:PT1H
X-Robots-Tag:noindex
X-PUBLISHED-TTL:PT1H
BEGIN:VTIMEZONE
TZID:America/Mexico_City
BEGIN:STANDARD
TZOFFSETFROM:-0600
TZOFFSETTO:-0600
TZNAME:CST
DTSTART:20240101T000000
END:STANDARD
END:VTIMEZONE
BEGIN:VEVENT
DTSTART;TZID=America/Mexico_City:20250602T080000
DTEND;TZID=America/Mexico_City:20250602T160000
DTSTAMP:20260425T144112
CREATED:20250530T214816Z
LAST-MODIFIED:20250530T214816Z
UID:10000634-1748851200-1748880000@alertachiapas.com
SUMMARY:No te pierdas la Expo Punto Edición Coiteca!
DESCRIPTION:¡Atención\, Chiapas! 📣 Prepárense para una nueva edición de la Expo esta vez con un toque “coiteco” especial. 🤩 Es la oportunidad perfecta para apoyar a nuestros productores locales y descubrir una gran variedad de productos chiapanecos. \nVen y consume lo nuestro\, contribuyendo al desarrollo económico de nuestra hermosa región. Tendremos un ambiente increíble y muchas sorpresas para ti. ¡No faltes! \nDetalles del evento: \n\nLugar: Explanada de la Torre Chiapas 📍\nFecha: 2 de junio 🗓️\nHora: 08:00 – 16:00 hrs. ⏰\nDetalles del evento: Consumo de productos locales en la Expo Punto de la Chiapanecquidad\, Edición Coiteca. Organizado por la Secretaría de Economía y del Trabajo del Gobierno de Chiapas. ¡Apoya lo local! 💖\n\nPara más información\, puedes contactar a: \n\nSubsecretaría de Comercio\nDirección de Comercio Interior y Exterior\n📧 dcie.economia@gmail.com\n📞 961 691 4700 EXT. 66171\nHorario de atención: Lunes a viernes de 09:00 a 16:00 hrs.\n\n¡Te esperamos para celebrar la riqueza de Chiapas! ✨
URL:https://alertachiapas.com/evento/no-te-pierdas-la-expo-punto-edicion-coiteca/
LOCATION:Torre Chiapas\, Libramiento Norte Oriente Paso Limon\, Tuxtla Gutiérrez\, Chiapas\, 29000\, Mexico
CATEGORIES:Evento general
ATTACH;FMTTYPE=image/jpeg:https://alertachiapas.com/wp-content/uploads/2025/05/152caa3c-ac71-4aa6-a3da-37062ad7035c.jpg
END:VEVENT
BEGIN:VEVENT
DTSTART;TZID=America/Mexico_City:20250606T173000
DTEND;TZID=America/Mexico_City:20250606T190000
DTSTAMP:20260425T144112
CREATED:20250606T235646Z
LAST-MODIFIED:20250606T235646Z
UID:10000658-1749231000-1749236400@alertachiapas.com
SUMMARY:¡Noche de literatura y cultura con la charla "Yolotli" en el Museo de la Marimba!
DESCRIPTION:¡Prepárense para una velada cultural enriquecedora! 🌟 Este 7 de junio\, el Museo de la Marimba “Zeferino Nandayapa Ralda” será el escenario de un evento muy especial: la charla “Yolotli”\, impartida por el maestro Heriberto Roque Domínguez. 🗣️ \nAdemás\, tendremos la presentación de los libros “Biografías selectas y Semblanzas de mi pueblo”\, un tesoro literario que nos acercará a historias y personajes de nuestra comunidad. La lectura de poemas estará a cargo de talentosas voces como Francia Ramírez Brindis\, María de Jesús Padrón Brindis\, Isabel Meza Vázquez y Carlos Herrera Zúñiga. ✍️📜 \nNo te pierdas la participación de artistas invitados como Heriberto Roque Domínguez y Danny Camacho\, y la moderación de Emilio Utrilla con “Voz y sentimiento”. ¡Será una noche llena de arte\, palabras y reflexiones que no querrás perderte! 💖 \n\nConcentrado del evento: \n\nEvento: Charla “Yolotli” y Presentación de libros 📚\nImparte la charla: Maestro Heriberto Roque Domínguez\nPresentación de los libros: “Biografías selectas y Semblanzas de mi pueblo”\nLectura de poema por: Francia Ramírez Brindis\, María de Jesús Padrón Brindis\, Isabel Meza Vázquez\, Carlos Herrera Zúñiga.\nArtista invitada: Heriberto Roque Domínguez\, Danny Camacho.\nModera: Emilio Utrilla (“Voz y sentimiento”)\nFecha: 7 de junio  🗓️\nHora: 17:30 h (5:30 p.m.) ⏰\nLugar: Museo de la Marimba “Zeferino Nandayapa Ralda”\, 9a. Poniente\, esquina Avenida Central\, Tuxtla Gutiérrez\, Chiapas. 📍\nOrganizan: Tuxtla Gutiérrez Ayuntamiento 2024-2027\, ITAC (Instituto Tuxtleco de Arte y Cultura)\, Museo de la Marimba.\nLema: ¡Qué viva Tuxtla! 🎉
URL:https://alertachiapas.com/evento/noche-de-literatura-y-cultura-con-la-charla-yolotli-en-el-museo-de-la-marimba/
LOCATION:Museo de la Marimba\, Av. Central y 9a. Poniente\, tuxtla gutiérrez\, Chiapas\, 29000\, Mexico
CATEGORIES:Evento general
ATTACH;FMTTYPE=image/jpeg:https://alertachiapas.com/wp-content/uploads/2025/06/500599062_1172850411308243_1605143860220763270_n.jpg
END:VEVENT
BEGIN:VEVENT
DTSTART;TZID=America/Mexico_City:20250606T180000
DTEND;TZID=America/Mexico_City:20250606T200000
DTSTAMP:20260425T144112
CREATED:20250530T235928Z
LAST-MODIFIED:20250530T235928Z
UID:10000636-1749232800-1749240000@alertachiapas.com
SUMMARY:¡Charlas Filosóficas: Nuevas Masculinidades en Tuxtla!
DESCRIPTION:¡Atención\, Tuxtla Gutiérrez! 📢 El Instituto Tuxtleco de Arte y Cultura (ITAC) con el apoyo de Grupo Hypatia (Mujeres Filósofas de Chiapas)\, te invitan al Cierre de Temporada de la Charla-Tertulia Filosófica: Nuevas Masculinidades. 🧔🏻‍♂️👩🏼‍🦰 \n¡Una oportunidad única para reflexionar y dialogar sobre temas de gran relevancia en nuestra sociedad! 💡 \n¡La entrada es completamente GRATUITA! 🎉 No te pierdas esta enriquecedora sesión que busca fomentar el diálogo y la comprensión. \nDetalles del evento: \n\nEvento: Charla-Tertulia Filosófica: Nuevas Masculinidades (Cierre de Temporada) 📚\nFecha: 6 de junio 🗓️\nHora: 18:00 horas ⏰\nLugar: Casa de la Cultura Luis Alaminos Guerrero\, 1a. Poniente esquina 2a. Norte 📍\nDetalles del evento: Un espacio de diálogo y reflexión sobre las nuevas masculinidades\, con entrada gratuita. Organizado por ITAC y el Ayuntamiento de Tuxtla Gutiérrez\, en colaboración con Grupo Hypatia.\n\nPara informes: \n\n📞 961 280 9253\n\n¡Te esperamos para una tarde de conocimiento y debate! ✨
URL:https://alertachiapas.com/evento/charlas-filosoficas-nuevas-masculinidades-en-tuxtla/
LOCATION:Casa de la Cultura Luis Alaminos\, 1a poniente esquina con 2a norte\, Tuxtla Gutiérrez\, Chiapas\, 29000\, Mexico
CATEGORIES:Evento general
ATTACH;FMTTYPE=image/jpeg:https://alertachiapas.com/wp-content/uploads/2025/05/500952161_1099877105505510_5076008587783252380_n.jpg
END:VEVENT
BEGIN:VEVENT
DTSTART;TZID=America/Mexico_City:20250606T183000
DTEND;TZID=America/Mexico_City:20250606T200000
DTSTAMP:20260425T144112
CREATED:20250605T030124Z
LAST-MODIFIED:20250605T030124Z
UID:10000646-1749234600-1749240000@alertachiapas.com
SUMMARY:Celebración del Día del Orgullo en Suchiapa
DESCRIPTION:Este 06 de junio a las 6:30 p.m.\, te invitamos al evento conmemorativo del Día del Orgullo en el municipio de Suchiapa\, organizado por la Coordinación de Diversidad Sexual y de Género. \n✨ En esta ocasión\, visibilizaremos a las mujeres trans como protagonistas en la lucha por los derechos LGBTTTIQ+\, mediante una exposición de los trabajos que realizan desde sus profesiones y espacios. \nUna oportunidad para reconocer su esfuerzo\, su aporte y su existencia con orgullo y respeto. 💪🏽🏳️‍⚧️🏳️‍🌈 \n📍 Lugar: Salón Santa Fe\, barrio Santa Anita. Municipio de Suchiapa\n🕡 Hora: 6:30 p.m.\n📅 Fecha: Viernes 06 de junio \n¡No faltes!
URL:https://alertachiapas.com/evento/celebracion-del-dia-del-orgullo-en-suchiapa/
LOCATION:Salón Santa Fe\, Barrio Santa Ana\, Suchiapa\, Chiapas\, Mexico
CATEGORIES:Evento general
ATTACH;FMTTYPE=image/jpeg:https://alertachiapas.com/wp-content/uploads/2025/06/54e52da0-990e-45e6-96e8-6d7e5ff9469a.jpg
END:VEVENT
BEGIN:VEVENT
DTSTART;TZID=America/Mexico_City:20250607T160000
DTEND;TZID=America/Mexico_City:20250607T190000
DTSTAMP:20260425T144112
CREATED:20250605T025452Z
LAST-MODIFIED:20250605T025452Z
UID:10000645-1749312000-1749322800@alertachiapas.com
SUMMARY:¡Chiapa de Corzo se une en la Marcha del Orgullo!
DESCRIPTION:¡Prepárate para un día lleno de color\, alegría y mucho amor! 🏳️‍🌈 Chiapa de Corzo te invita a unirte a su Marcha del Orgullo el próximo 7 de junio. Es momento de celebrar la diversidad\, la inclusión y reafirmar que ¡Amor Es Amor! 💖 \nVen con tus amigos\, familia y todas las ganas de marchar por los derechos y el respeto de la comunidad LGBTIQ+. ¡Será un evento lleno de energía positiva y mucho orgullo! 🎉 ¡No te lo puedes perder! ✨ \nConcentrado del Evento: \n\nFecha: 🗓️ 07 de junio\nHora: ⏰ 4:00 p.m.\nLugar: 📍 Avenida Capitán Vicente López #261\, Barrio San Jacinto (A lado de la Casa del Jerry)\nDetalles del Evento:\n\nEvento: Marcha del Orgullo de Chiapa de Corzo\nLema Principal: ¡AMOR ES AMOR!\nSe celebra la diversidad y la inclusión.
URL:https://alertachiapas.com/evento/chiapa-de-corzo-se-une-en-la-marcha-del-orgullo/
LOCATION:Casa Galeria de la Chuntá\, Av. Capitán Vicente López #281\, Barrio de San Jacinto\, Chiapa de Corzo\, chiapas\, 29000\, Mexico
CATEGORIES:Evento general
ATTACH;FMTTYPE=image/jpeg:https://alertachiapas.com/wp-content/uploads/2025/06/311c1e5d-bdc1-478c-a9b4-d3d23269d8ba.jpg
END:VEVENT
BEGIN:VEVENT
DTSTART;TZID=America/Mexico_City:20250607T170000
DTEND;TZID=America/Mexico_City:20250607T193000
DTSTAMP:20260425T144112
CREATED:20250606T233626Z
LAST-MODIFIED:20250606T233733Z
UID:10000654-1749315600-1749324600@alertachiapas.com
SUMMARY:¡Inscríbete para la siembra de selvas en la ciudad!
DESCRIPTION:Este sábado 7 de junio\, el Museo de la Ciudad de Tuxtla Gutiérrez abre sus puertas para que te unas a “Siembra Selvas”\, una iniciativa que combina el arte\, la ecología y la participación ciudadana. 🌍✨ \nDurante este evento\, podrás inscribirte para transformar un rincón de tu ciudad en una “Selva Nativa de Bolsillo”\, un pequeño espacio verde que fomenta la biodiversidad y mejora nuestro entorno urbano. 💚 \n🖼️ Solo necesitas llevar: \n\n\n📸 Fotos y la ubicación del lugar donde deseas sembrar tu selva. \n\n\n💪 Muchas ganas de convivir\, compartir ideas y pasar una tarde creativa. \n\n\nHabrá actividades artísticas\, dinámicas ciudadanas y un ambiente lleno de compromiso por la naturaleza y la comunidad. 👫🎭🌳 \nEl evento forma parte de la campaña Fuego + Monte y del Festival Ciudadano 100 en 1 Día\, con apoyo del Museo de la Ciudad de Tuxtla. \n\n📍 Concentrado del Evento:\n\n\n🗓️ Fecha: Sábado 7 de junio \n\n\n⏰ Hora: De 5:00 a 7:00 p.m. \n\n\n🏛️ Lugar: Puertas del Museo de la Ciudad\, Tuxtla Gutiérrez \n\n\n📌 Qué llevar: Fotos y ubicación del lugar donde deseas tu Selva Nativa de Bolsillo \n\n\n🎉 Extras: Actividades artísticas\, arte urbano\, y participación ciudadana
URL:https://alertachiapas.com/evento/inscribete-para-la-siembra-de-selvas-en-la-ciudad/
LOCATION:Museo de la Ciudad\, Av Central Pte 288\, Santo Domingo\, Tuxtla Gutiérrez\, Chiapas\, 29000\, Mexico
CATEGORIES:Ecología,Evento general
ATTACH;FMTTYPE=image/jpeg:https://alertachiapas.com/wp-content/uploads/2025/06/504007536_1006757881622877_5867774836165771661_n.jpg
END:VEVENT
BEGIN:VEVENT
DTSTART;TZID=America/Mexico_City:20250608T100000
DTEND;TZID=America/Mexico_City:20250608T190000
DTSTAMP:20260425T144112
CREATED:20250513T040215Z
LAST-MODIFIED:20250513T040215Z
UID:10000564-1749376800-1749409200@alertachiapas.com
SUMMARY:Operación Conejo celebra 10 años de impacto positivo en Tuxtla
DESCRIPTION:¡La alegría\, el compromiso social y el amor por ayudar se reúnen en un gran festejo! 🌟 Operación Conejo México está celebrando su 10º Aniversario con un megaevento lleno de actividades para toda la familia\, y tú estás invitado. 🎊 \n📍La cita es en la Explanada del Parque Central de Tuxtla Gutiérrez este próximo 08 de junio\, donde desde las 10 de la mañana hasta las 7 de la tarde podrás ser parte de una jornada inolvidable. \nEntre las actividades que podrás disfrutar están: \n♻️ Colecta de Tapas💇‍♀️ Colecta de Cabello🎨 Concurso de Arte Reciclado👧👦 Talleres Infantiles🎉 Brincolín para los peques🛍️ Zona de Emprendedores🎁 ¡Y muchas sorpresas más! \nEste evento no solo celebra una década de trabajo altruista\, sino que también busca seguir creando conciencia sobre el reciclaje\, el apoyo comunitario y el emprendimiento local. ¡Ven con tu familia\, amigos y mucha energía positiva! \n\n📌 Concentrado del Evento \n\n\n📍 Lugar: Explanada del Parque Central de Tuxtla Gutiérrez \n\n\n📅 Fecha: 08 de junio \n\n\n🕙 Hora: De 10:00 AM a 7:00 PM \n\n\n🐰 Detalles: \n\n\nColecta de tapas y cabello \n\n\nConcurso de arte reciclado \n\n\nTalleres infantiles \n\n\nBrincolín \n\n\nEmprendedores \n\n\n¡Sorpresas todo el día! \n\n\n\n\n📲 Síguelos en redes: @operacionconejo🌐 Sitio web: operacionconejo.wixsite.com📧 Contacto: operacionconejojomexico@gmail.com
URL:https://alertachiapas.com/evento/operacion-conejo-celebra-10-anos-de-impacto-positivo-en-tuxtla/
LOCATION:Explanada del parque central de Tuxtla Gutiérrez\, Av certral y calle central\, San Marcos\, tuxtla gutiérrez\, Chiapas\, 29000\, Mexico
CATEGORIES:Evento general
ATTACH;FMTTYPE=image/jpeg:https://alertachiapas.com/wp-content/uploads/2025/05/495738025_1101127008718744_5509749968889429599_n.jpg
END:VEVENT
BEGIN:VEVENT
DTSTART;TZID=America/Mexico_City:20250608T160000
DTEND;TZID=America/Mexico_City:20250608T220000
DTSTAMP:20260425T144112
CREATED:20250606T032749Z
LAST-MODIFIED:20250606T032749Z
UID:10000653-1749398400-1749420000@alertachiapas.com
SUMMARY:¡Aloha Festival en Tuxtla Gutiérrez: Un toque polinesio te espera!
DESCRIPTION:¡Prepárense para sentir el espíritu de Hawái en Tuxtla Gutiérrez! 🌴🐰 Conejas Bazar te invita al Aloha Festival\, un evento lleno de diversión y cultura polinesia que no te puedes perder. \nÚnete a nosotros para disfrutar de una tarde espectacular con: \n\n💃 Danzas Polinesias que te transportarán a las islas.\n🎬 Cine al Aire Libre bajo las estrellas.\nworkshops Talleres para aprender nuevas habilidades.\n📜 ¡Hasta Registro Civil! (Un toque divertido para el evento)\n🐰 Y por supuesto\, ¡muchas Conejas y Rifas!\n\nLa entrada es totalmente ¡LIBRE! 🎉 Ven con toda tu familia y amigos a pasar un día diferente y lleno de alegría. \nPara más información\, puedes contactar al 📞 961 850 00 71. \n\nConcentrado del evento: \n\nEvento: Aloha Festival de Conejas Bazar. 🌺\nLugar: Parque Bicentenario\, Tuxtla Gutiérrez\, Chiapas. 📍\nFecha: Domingo 08 de junio. 🗓️\nHora: 4:00 PM a 10:00 PM. ⏰\nDetalles del evento: Danzas Polinesias\, Cine al Aire Libre\, Talleres\, Registro Civil\, Conejas y Rifas. Entrada Libre. 🆓
URL:https://alertachiapas.com/evento/aloha-festival-en-tuxtla-gutierrez-un-toque-polinesio-te-espera/
LOCATION:Parque Bicentenario\, Tuxtla Gutiérrez\, Chiapas\, 29000\, Mexico
CATEGORIES:Evento general
ATTACH;FMTTYPE=image/jpeg:https://alertachiapas.com/wp-content/uploads/2025/06/IMG_1917.jpg
END:VEVENT
END:VCALENDAR