BEGIN:VCALENDAR
VERSION:2.0
PRODID:-//Alerta Chiapas - ECPv6.15.20//NONSGML v1.0//EN
CALSCALE:GREGORIAN
METHOD:PUBLISH
X-ORIGINAL-URL:https://alertachiapas.com
X-WR-CALDESC:Eventos para Alerta Chiapas
REFRESH-INTERVAL;VALUE=DURATION:PT1H
X-Robots-Tag:noindex
X-PUBLISHED-TTL:PT1H
BEGIN:VTIMEZONE
TZID:America/Mexico_City
BEGIN:STANDARD
TZOFFSETFROM:-0600
TZOFFSETTO:-0600
TZNAME:CST
DTSTART:20240101T000000
END:STANDARD
END:VTIMEZONE
BEGIN:VEVENT
DTSTART;TZID=America/Mexico_City:20250512T080000
DTEND;TZID=America/Mexico_City:20250512T170000
DTSTAMP:20260425T174719
CREATED:20250509T013303Z
LAST-MODIFIED:20250509T013303Z
UID:10000563-1747036800-1747069200@alertachiapas.com
SUMMARY:¡Melodías de primavera! 🎻 Recital de Violín en la Casa de la Cultura
DESCRIPTION:¡Atención\, amantes de la música en Tuxtla Gutiérrez! 📣 El Instituto Tuxtleco de Arte y Cultura (ITAC) y el Ayuntamiento de Tuxtla Gutiérrez tienen el placer de invitarlos al Recital de Primavera – Violín. 🌸🎶 \nDisfruten del talento de los alumnos de la Mtra. Yaylim Halle\, quienes nos deleitarán con hermosas melodías en una noche dedicada al violín. 🎻 Será una velada llena de sensibilidad y arte. ✨ \n🗓️ Fecha: Domingo 12 de mayo 🕕 Hora: 18:00 horas 📍 Lugar: Casa de la Cultura Luis Alaminos Guerrero (1a. Poniente esquina 2a. Norte) 🎟️ Entrada: ¡Completamente gratuita! 🎉 \nNo se pierdan esta oportunidad de apoyar el talento local y disfrutar de un concierto de violín en un ambiente cultural único. ¡Los esperamos! 😊 \n\n\n\nEvento: Recital de Primavera – Violín\nParticipan: Alumnos de la Mtra. Yaylim Halle\nFecha: 12 de mayo\nHora: 18:00 horas\nLugar: Casa de la Cultura Luis Alaminos Guerrero (1a. Poniente esquina 2a. Norte)\nEntrada: Gratuita
URL:https://alertachiapas.com/evento/melodias-de-primavera-%f0%9f%8e%bb-recital-de-violin-en-la-casa-de-la-cultura/
LOCATION:Casa de la Cultura Luis Alaminos\, 1a poniente esquina con 2a norte\, Tuxtla Gutiérrez\, Chiapas\, 29000\, Mexico
CATEGORIES:Evento general
ATTACH;FMTTYPE=image/jpeg:https://alertachiapas.com/wp-content/uploads/2025/05/495963370_1082933277199893_1340266626625016254_n.jpg
END:VEVENT
BEGIN:VEVENT
DTSTART;TZID=America/Mexico_City:20250512T170000
DTEND;TZID=America/Mexico_City:20250512T200000
DTSTAMP:20260425T174719
CREATED:20250507T003019Z
LAST-MODIFIED:20250507T003019Z
UID:10000553-1747069200-1747080000@alertachiapas.com
SUMMARY:¡Lunes de Danzón! Ritmo\, tradición y alegría en el corazón de Tuxtla
DESCRIPTION:El romanticismo del danzón vuelve a llenar de vida la Explanada del Parque 5 de Mayo este lunes 12 de mayo\, con una tarde dedicada a uno de los géneros musicales más tradicionales y elegantes de México. \n🕺 El evento\, organizado por el Instituto Tuxtleco de Arte y Cultura (ITAC) y el Ayuntamiento de Tuxtla Gutiérrez 2024–2027\, invita a la ciudadanía a disfrutar de una jornada de baile\, convivencia y cultura\, acompañado del sonido inconfundible de la marimba en vivo. Ya seas amante del danzón o curioso por aprender\, este espacio es ideal para todas las edades. \n✨ Entre árboles\, sonrisas y pasos de baile\, se vive un lunes diferente\, donde la nostalgia se convierte en fiesta y la música une generaciones. ¡Asiste con tu pareja\, amistades o en familia y sé parte de este momento cultural! \n\n\n\n\n🪗 Evento: Lunes de Danzón \n\n\n📅 Fecha: Lunes 12 de mayo de 2025 \n\n\n⏰ Hora: De 5:00 p.m. a 7:30 p.m. \n\n\n📍 Lugar: Explanada del Parque 5 de Mayo\, Tuxtla Gutiérrez\, Chiapas \n\n\n🎶 Música: Marimba en vivo \n\n\n🎟️ Entrada libre \n\n\n👥 Organiza: ITAC y Ayuntamiento de Tuxtla Gutiérrez 2024–2027
URL:https://alertachiapas.com/evento/lunes-de-danzon-ritmo-tradicion-y-alegria-en-el-corazon-de-tuxtla/
LOCATION:Parque 5 de Mayo\, Av Central Esquina con 11 oriente
CATEGORIES:Evento general
ATTACH;FMTTYPE=image/jpeg:https://alertachiapas.com/wp-content/uploads/2025/05/495119880_1081693547323866_4768585164153226786_n.jpg
END:VEVENT
BEGIN:VEVENT
DTSTART;TZID=America/Mexico_City:20250516T180000
DTEND;TZID=America/Mexico_City:20250516T210000
DTSTAMP:20260425T174719
CREATED:20250513T041136Z
LAST-MODIFIED:20250513T041136Z
UID:10000565-1747418400-1747429200@alertachiapas.com
SUMMARY:Regresa la adrenalina a Tuxtla con el Campeonato de Jaripeo
DESCRIPTION:La emoción del ruedo vuelve con fuerza a Chiapas con la Fecha 3 del Campeonato Estatal de Jaripeo “Adrenalina Taurina 2025”\, un evento que pondrá a vibrar la Plaza de Toros San Roque en Tuxtla Gutiérrez este viernes 16 de mayo a partir de las 6:00 PM 🕕. \nPrepárate para una noche llena de emociones fuertes con los mejores jinetes del estado y un espectáculo que mezcla tradición\, valentía y entretenimiento. Pero eso no es todo… ¡también habrá música en vivo! 🎶 \n🎺 Disfruta de la presentación especial del Grupo Norteño junto a la Banda Típica Sinaloense\, que pondrán a todos a bailar después del jaripeo. Además\, ríe a carcajadas con la Guerra de Payasos de Rodeo 🤡🔥. \nUn show familiar cargado de cultura\, música y mucha adrenalina. ¡No te lo puedes perder! 🎊🐃 \n\n📌 Concentrado del Evento \n\n\n📍 Lugar: Plaza de Toros San Roque\, Tuxtla Gutiérrez\, Chiapas \n\n\n📅 Fecha: Viernes 16 de mayo \n\n\n🕕 Hora: 6:00 PM \n\n\n🐂 Detalles: \n\n\nFecha 3 del Campeonato Estatal de Jaripeo “Adrenalina Taurina 2025” \n\n\nEspectáculo de jinetes \n\n\nPresentación del Grupo Norteño + Banda Típica Sinaloense \n\n\nGuerra de Payasos de Rodeo \n\n\nAmbiente 100% familiar y lleno de emoción \n\n\n\n\n🎟️ ¡Prepárate para una noche que sacudirá el ruedo y tus sentidos!
URL:https://alertachiapas.com/evento/regresa-la-adrenalina-a-tuxtla-con-el-campeonato-de-jaripeo/
LOCATION:Plaza de Toros San Roque\, Av. 14a. Sur Ote. 930C\, Las Lomas\, tuxtla gutiérrez\, Chiapas\, 29080\, Mexico
CATEGORIES:Evento general
ATTACH;FMTTYPE=image/jpeg:https://alertachiapas.com/wp-content/uploads/2025/05/492469755_1282199076760962_7078320999915562450_n.jpg
END:VEVENT
BEGIN:VEVENT
DTSTART;TZID=America/Mexico_City:20250517T090000
DTEND;TZID=America/Mexico_City:20250517T170000
DTSTAMP:20260425T174719
CREATED:20250516T003243Z
LAST-MODIFIED:20250516T003243Z
UID:10000581-1747472400-1747501200@alertachiapas.com
SUMMARY:¡Únete al Recicla Fest en San Cristóbal!
DESCRIPTION:¡Atención\, habitantes conscientes de San Cristóbal de las Casas y sus alrededores! 📢 ¡No se pueden perder el Festival del Reciclaje 2025! 🌿 Este increíble evento se llevará a cabo el sábado 17 de mayo desde las 9:00 de la mañana hasta las 5:00 de la tarde. ⏰ \nLa cita es en el hermoso Patio Trasero del MUSAC (Museo de San Cristóbal de Las Casas)\, un espacio emblemático para celebrar la importancia del cuidado del medio ambiente. 🌳🏛️ \n¡Participa y trae tus reciclables! 🛍️ Podrás canjearlos por productos simbólicos de las empresas participantes. 🎁 Además\, disfruta de una Expo ambiental y talleres donde aprenderás prácticas sostenibles y conocerás iniciativas ecológicas. 💡 ¡Y eso no es todo! También habrá un emocionante Concurso de Reciclaje Artístico para mostrar tu creatividad con materiales reutilizados. 🎨✨ \nPara más información\, no dudes en contactar al número 962 137 50 40. 📞 \nEste festival es posible gracias al apoyo de diversas organizaciones y empresas comprometidas con el medio ambiente\, como Ak’be\, Yor Humuz\, Colzmoda\, Tours Santa Clara\, Hotel Santa Clara\, Kadmjiel\, Gise\, TuBosque\, aUm\, MX Domino’s Farrera\, Tribu\, San Cristóbal de Las Casas\, y Colectivo Condemos. 🤝 \n¡Únete a esta gran fiesta por el planeta\, aprende\, intercambia y contribuye a un futuro más verde! 🌎💚 ¡Los esperamos! \nConcentrado del Evento: \n\nEvento: Festival del Reciclaje 2025\nLugar: 📍 Patio Trasero del MUSAC (Museo de San Cristóbal de Las Casas)\nFecha: 🗓️ Sábado 17 de mayo de 2025\nHora: ⏰ 9:00 AM a 5:00 PM\nDetalles: Trae tus reciclables y canjéalos por productos\, Expo ambiental y talleres\, Concurso de Reciclaje Artístico. ¡Participa! ♻️\nInformes: 📞 962 137 50 40\nOrganizan: Ak’be y diversas empresas y organizaciones.
URL:https://alertachiapas.com/evento/unete-al-recicla-fest-en-san-cristobal/
LOCATION:MUSAC\, Calle Diego de Mazariegos s/n\, San Cristóbal de Las Casas\, Chiapas\, Mexico
CATEGORIES:Ecología,Evento general
ATTACH;FMTTYPE=image/jpeg:https://alertachiapas.com/wp-content/uploads/2025/05/492489156_1182178657034420_3111353122977888325_n.jpg
END:VEVENT
BEGIN:VEVENT
DTSTART;TZID=America/Mexico_City:20250517T100000
DTEND;TZID=America/Mexico_City:20250517T133000
DTSTAMP:20260425T174719
CREATED:20250509T012240Z
LAST-MODIFIED:20250509T012953Z
UID:10000562-1747476000-1747488600@alertachiapas.com
SUMMARY:¡A afinar las cuerdas! 🎶 2do Festival Nacional de Tunas y Estudiantinas en Tuxtla
DESCRIPTION:¡Atención\, amantes de la música y la tradición en Tuxtla Gutiérrez! 📣 No se pierdan el 2do Festival Nacional de Tunas y Estudiantinas\, un evento lleno de ritmo\, alegría y talento. 🎸 Este festival rendirá homenaje al Mtro. José Edilberto Sarmiento Capitán\, “Tuno Renegado”\, y se enmarca en el 50 aniversario de la Estudiantina de la UNACH y el primer aniversario de la Tuna Mayor del Estado de Chiapas de la UNACH. 🎉 \nEl evento se llevará a cabo el sábado 17 de mayo con un programa vibrante: \n\nA partir de las 10:00 hrs: ¡No te pierdas el alegre Pasa Calles que llenará de música los rincones de la ciudad! 🚶‍♂️🎶\n11:00 hrs: El Festival y Homenaje principal tendrán lugar en el Auditorio del Centro Cultural de Chiapas Jaime Sabines. 🏛️\n\nContaremos con la participación de destacadas tunas y estudiantinas\, incluyendo: \n\nTuna Femenil de la Universidad Autónoma de Chiapas\nTuna Mayor del Estado de Chiapas de la UNACH\nTuna de la Facultad de Derecho de la UNACH\nAntiguos Tunos de Derecho de la UNAM\nTuna de Distrito Oro de Chiapas\nDistintiva Parroquia\nTuna Virgencita de Chiapas\nTuna Universitaria IEXPRO\nTuna Real de Chiapas\n\n¡La entrada es gratuita! 🤩 No te pierdas esta oportunidad única de disfrutar del talento musical y celebrar la tradición de las tunas y estudiantinas. ¡Te esperamos para vivir un día lleno de música y folclor! 🎊 \n\nConcentrado del Evento: \n\nEvento: 2do Festival Nacional de Tunas y Estudiantinas\nFecha: Sábado 17 de mayo\nHora: A partir de las 10:00 hrs (Pasa Calles)\, 11:00 hrs (Festival y Homenaje)\nLugar: Auditorio del Centro Cultural de Chiapas Jaime Sabines\nHomenaje a: Mtro. José Edilberto Sarmiento Capitán\, “Tuno Renegado”\nCelebración de: 50 aniversario de la Estudiantina de la UNACH y primer aniversario de la Tuna Mayor del Estado de Chiapas de la UNACH\nTunas Participantes: Tuna Femenil de la Universidad Autónoma de Chiapas\, Tuna Mayor del Estado de Chiapas de la UNACH\, Tuna de la Facultad de Derecho de la UNACH\, Antiguos Tunos de Derecho de la UNAM\, Tuna de Distrito Oro de Chiapas\, Distintiva Parroquia\, Tuna Virgencita de Chiapas\, Tuna Universitaria IEXPRO\, Tuna Real de Chiapas\nEntrada: ¡Gratuita!
URL:https://alertachiapas.com/evento/a-afinar-las-cuerdas-%f0%9f%8e%b6-2do-festival-nacional-de-tunas-y-estudiantinas-en-tuxtla/
LOCATION:Centro Cultural de Chiapas Jaime Sabines\, Av. Central Ote. s/n\, Centro\, tuxtla gutiérrez\, Chiapas\, 29000\, Mexico
CATEGORIES:Evento general
ATTACH;FMTTYPE=image/jpeg:https://alertachiapas.com/wp-content/uploads/2025/05/495539190_1083684300458124_9090132430743627479_n.jpg
END:VEVENT
BEGIN:VEVENT
DTSTART;TZID=America/Mexico_City:20250517T100000
DTEND;TZID=America/Mexico_City:20250517T160000
DTSTAMP:20260425T174719
CREATED:20250516T002604Z
LAST-MODIFIED:20250516T002604Z
UID:10000580-1747476000-1747497600@alertachiapas.com
SUMMARY:Chiapas Celebra el Día Internacional de los Museos
DESCRIPTION:¡Atención a todos los exploradores\, curiosos y amantes de la cultura en Chiapas! 📢 Este 17 de mayo de 2025\, únanse a la gran celebración del Día Internacional de los Museos con una jornada especial bajo el lema: “El futuro de los museos en comunidades en constante cambio”. 🌍🔄 \nPrepárense para un día lleno de descubrimientos y actividades en diversos museos de Tuxtla Gutiérrez. 🤩 ¡Desde arte hasta ciencia\, pasando por historia y naturaleza\, habrá algo fascinante para cada interés! 🎨🔬📜🌿 \nLa cita es en la Calzada de las Personas Ilustres s/n\, Tuxtla Gutiérrez\, Chiapas\, donde los museos abrirán sus puertas en un horario especial de 10:00 a 16:00 horas. 🕙🕓 ¡Una oportunidad perfecta para sumergirse en el patrimonio cultural de nuestra región! \nEste evento es impulsado por ICOM (Consejo Internacional de Museos) y cuenta con la valiosa participación de todas estas instituciones locales. ¡Una colaboración para enriquecer nuestra comunidad! 🤝 \n¡No se pierdan esta jornada única para reflexionar sobre el papel vital de los museos en la sociedad actual y futura! ¡Los esperamos para celebrar juntos la riqueza de nuestro patrimonio! 🎉 \nConcentrado del Evento: \n\nEvento: Día Internacional de los Museos\nTema: “El futuro de los museos en comunidades en constante cambio”\nLugar: 📍 Calzada de las Personas Ilustres s/n\, Tuxtla Gutiérrez\, Chiapas\nFecha: 🗓️ Sábado 17 de mayo de 2025\nHora: 🕙 10:00 – 16:00 horas\nParticipan: Museo de Paleontología “Eliseo Palacios Aguilera”\, Museos Tuxtla\, MUSART\, Museo del Café de Chiapas\, Museo Botánico\, Museo de la Ciudad\, Planetario Tuxtla\, Museo Cocodrilo\, MUCH.\nOrganiza: ICOM (Consejo Internacional de Museos) y museos participantes.
URL:https://alertachiapas.com/evento/chiapas-celebra-el-dia-internacional-de-los-museos/
LOCATION:Calzada de las Personas Ilustres\, Calzada de las Personas Ilustres\, tuxtla gutiérrez\, Chiapas\, 29000\, Mexico
CATEGORIES:Evento general
ATTACH;FMTTYPE=image/jpeg:https://alertachiapas.com/wp-content/uploads/2025/05/9c6ee71c-ef4f-4541-9d13-88e8b291cb69.jpg
GEO:16°45'32.0"N;93°06'30.5"W
X-APPLE-STRUCTURED-LOCATION;VALUE=URI;X-ADDRESS=Calzada de las Personas Ilustres Calzada de las Personas Ilustres tuxtla gutiérrez Chiapas 29000 Mexico;X-APPLE-RADIUS=500;X-TITLE=Calzada de las Personas Ilustres:geo:93°06'30.5"W,16°45'32.0"N
END:VEVENT
BEGIN:VEVENT
DTSTART;TZID=America/Mexico_City:20250517T143000
DTEND;TZID=America/Mexico_City:20250517T170000
DTSTAMP:20260425T174719
CREATED:20250514T220856Z
LAST-MODIFIED:20250514T220856Z
UID:10000575-1747492200-1747501200@alertachiapas.com
SUMMARY:¡Artistas de Capulines y alrededores\, esta es su oportunidad! ¡Inscríbanse a la Demostración de Talento "Qué Viva Mi Barrio"!
DESCRIPTION:¡Atención artistas de Capulines I\, II\, III y comunidades vecinas! 📣 Si tienes talento y quieres mostrarlo al mundo 🌍\, ¡esta es tu oportunidad! El programa NUCÚ te invita a inscribirte y participar en la Demostración de Talento “Qué Viva Mi Barrio”\, un espacio de participación ciudadana donde podrás brillar ✨. ¡No te quedes fuera! \nLas inscripciones ya están abiertas\, ¡así que llama ahora al 961 132 43 48! 📞 Pero apúrate\, el cierre de la convocatoria es el 16 de mayo de 2025 a las 14:30 hrs. ⏳ \nLa gran Realización del Evento se llevará a cabo el sábado 17 de mayo de 2025 a las 15:00 hrs. 🗓️ en el Domo de Capulines 3a. Sección (Frente al Parque) 📍. ¡Prepara tu mejor acto porque las actividades son gratuitas y dirigidas a todas las edades! 🎉 No importa cuál sea tu talento (canto 🎤\, baile 💃\, música 🎶\, actuación 🎭\, etc.)\, ¡este es tu momento de brillar y celebrar la cultura de nuestro barrio! ¡Ven\, participa y ¡Vive Tuxtla! 🐰 \n📍 CONCENTRADO DEL EVENTO: \n\nEvento: Demostración de Talento “Qué Viva Mi Barrio”\nLugar: Domo de Capulines 3a. Sección (Frente al Parque)\nFecha de Realización: Sábado 17 de mayo de 2025\nHora de Realización: 15:00 hrs.\nInscripciones: Llamar al 961 132 43 48\nCierre de Convocatoria: 16 de mayo de 2025 a las 14:30 hrs.\nDetalles: Espacio de participación ciudadana para artistas de todas las edades. ¡Actividades gratuitas!
URL:https://alertachiapas.com/evento/artistas-de-capulines-y-alrededores-esta-es-su-oportunidad-inscribanse-a-la-demostracion-de-talento-que-viva-mi-barrio/
LOCATION:Domo de Capulines 3a. Sección\, Los Capulines 3\, Los Capulines III\, 29017\, Chiapas\, Mexico
CATEGORIES:Evento general
ATTACH;FMTTYPE=image/jpeg:https://alertachiapas.com/wp-content/uploads/2025/05/496927389_1087114186781802_3741987400722461658_n.jpg
END:VEVENT
BEGIN:VEVENT
DTSTART;TZID=America/Mexico_City:20250517T160000
DTEND;TZID=America/Mexico_City:20250517T183000
DTSTAMP:20260425T174719
CREATED:20250514T222313Z
LAST-MODIFIED:20250514T222313Z
UID:10000578-1747497600-1747506600@alertachiapas.com
SUMMARY:Gran Marcha Contra la LGBTIfobia en Tuxtla Gutiérrez! ¡Este 17 de mayo!
DESCRIPTION:¡Atención comunidad LGBTTTIQ+ y aliados en Tuxtla Gutiérrez! 📢 Este 17 de mayo\, únanse a la MARCHA CONTRA LA LGBTIFOBIA para alzar la voz ¡POR LA LUCHA DE NUESTROS DERECHOS! ✊🌈 \nLa marcha saldrá a las 04:00 PM 🕓 del Parque 5 de Mayo y se dirigirá al Palacio de Gobierno. 🏛️ ¡Juntos demostremos nuestra fuerza y exigimos respeto e inclusión! 💪 \nEste importante evento es organizado por Mampride Chiapas 2025 y cuenta con el apoyo de RED POR LA INCLUSIÓN DE LA DIVERSIDAD SEXUAL CHIAPAS y Alianza Nacional de Marchas LGBT+ en México. 🤝 \n¡No falten! Es momento de mostrar nuestro orgullo y luchar por un futuro libre de discriminación. ¡Los esperamos para marchar juntos! ❤️🧡💛💚💙💜 \n📍 CONCENTRADO DEL EVENTO: \n\nEvento: Marcha Contra la LGBTIfobia\nFecha: 17 de mayo\nHora: 04:00 PM\nLugar de Salida: Parque 5 de Mayo\nDestino: Palacio de Gobierno\nOrganizan: Mampride Chiapas 2025\, RED POR LA INCLUSIÓN DE LA DIVERSIDAD SEXUAL CHIAPAS\, Alianza Nacional de Marchas LGBT+ en México\nLema: ¡Por la lucha de nuestros derechos!
URL:https://alertachiapas.com/evento/gran-marcha-contra-la-lgbtifobia-en-tuxtla-gutierrez-este-17-de-mayo/
LOCATION:Centro Histórico de Tuxtla Gutiérrez\, Av. Central y Calle Central SN\, Tuxtla Gutiérrez\, Chiapas\, 29000\, Mexico
CATEGORIES:Evento general
ATTACH;FMTTYPE=image/jpeg:https://alertachiapas.com/wp-content/uploads/2025/05/7be524be-f1e2-402f-af10-18fc0b52c89b.jpg
END:VEVENT
BEGIN:VEVENT
DTSTART;TZID=America/Mexico_City:20250517T180000
DTEND;TZID=America/Mexico_City:20250517T220000
DTSTAMP:20260425T174719
CREATED:20250513T233507Z
LAST-MODIFIED:20250513T233507Z
UID:10000569-1747504800-1747519200@alertachiapas.com
SUMMARY:¡Se viene el Súper Bailazo en Ocozocoautla!
DESCRIPTION:Los encargados de celebrar al nuevo Cohuiná de San Antonio Abad “Mahoma cabeza de Cochi” 2025-2028 te invitan cordialmente a formar parte de una celebración única y llena de tradición. 🙌 \nEste sábado 17 de mayo\, no te puedes perder la Recepción de la Imagen en el tradicional Súper Bailazo\, donde la alegría\, la música y el folclore se unirán en una gran noche. 🎶🥁 \n🎼 Amenizan desde las 6:00 P.M.:\n🔸 Junior Gómez y su Marimba Orquesta🔸 Luis Gómez y los Sureños\, desde las 8:00 P.M. \nLa cita es en el corazón del Barrio San Antonio\, donde la tradición cobra vida con danzantes\, música en vivo y un ambiente totalmente familiar. Ven y disfruta de esta fiesta con historia\, identidad y mucho ritmo. 💃🌟 \n\n\n📍 Lugar: Calle 4ª Oriente y 4ª Sur #491\, Barrio San Antonio\, Ocozocoautla de Espinosa\, Chiapas📅 Fecha: Sábado 17 de mayo⏰ Hora: Desde las 6:00 P.M.🎤 Música en vivo: Junior Gómez (Marimba Orquesta) y Luis Gómez y los Sureños🎭 Evento: Recepción de la Imagen del nuevo Cohuiná “Mahoma cabeza de Cochi” 2025-2028🎉 Entrada libre y ambiente familiar \n¡No faltes! 🎊
URL:https://alertachiapas.com/evento/se-viene-el-super-bailazo-en-ocozocoautla/
LOCATION:Cohuiná San Antonio Abad\, 2 Sur y 7 Oriente #84\, Barrio Santísima Trinidad.\, Ocozocoautla de Espinosa\, 29140
CATEGORIES:Evento general
ATTACH;FMTTYPE=image/jpeg:https://alertachiapas.com/wp-content/uploads/2025/05/IMG_1264.jpg
END:VEVENT
BEGIN:VEVENT
DTSTART;TZID=America/Mexico_City:20250518T110000
DTEND;TZID=America/Mexico_City:20250518T190000
DTSTAMP:20260425T174719
CREATED:20250508T033444Z
LAST-MODIFIED:20250508T033444Z
UID:10000558-1747566000-1747594800@alertachiapas.com
SUMMARY:Expo "Sueña tus XV" llega a Tuxtla con entrada GRATIS
DESCRIPTION:¿Estás por cumplir tus XV años o tienes una hija\, hermana o sobrina que sueña con su fiesta perfecta? ¡Entonces este evento es para ti! 🎉 Llega a Tuxtla Gutiérrez la Expo “Sueña tus XV”\, un espacio mágico donde podrás encontrar todo lo necesario para organizar el evento de tus sueños en un solo lugar. \n🎀 Disfruta de una experiencia completa con: \n\n\nPasarela de vestidos \n\n\nShows en vivo \n\n\nRifas y sorpresas \n\n\nDescuentos exclusivos \n\n\nPromociones increíbles en vestidos\, salones\, banquetes\, música y mucho más. \n\n\nOrganizado por Organízalo – Todo para tu evento\, este evento es ideal para quienes buscan calidad\, estilo y proveedores confiables para fiestas de XV años. 🌸💒 \n💌 ¡La entrada es totalmente GRATUITA! \n\n\n\n\nLugar: Holiday Inn Poniente\, Tuxtla Gutiérrez\, Chiapas \n\n\nFecha: Domingo 18 de mayo \n\n\nHora: De 11:00 AM a 7:00 PM \n\n\nDetalles: Entrada libre. Expo especializada en eventos de XV años con pasarelas\, rifas\, promociones y proveedores. \n\n\n🌐 Organiza el evento de tus sueños con Organízalo
URL:https://alertachiapas.com/evento/expo-suena-tus-xv-llega-a-tuxtla-con-entrada-gratis/
LOCATION:Hotel Holiday Inn\, Km. 1081\, Blvd. Belisario Domínguez\, Tuxtla Gutiérrez\, Chiapas\, Mexico
CATEGORIES:Evento general
ATTACH;FMTTYPE=image/jpeg:https://alertachiapas.com/wp-content/uploads/2025/05/492002218_1082748663884991_5055307819208609474_n.jpg
END:VEVENT
BEGIN:VEVENT
DTSTART;TZID=America/Mexico_City:20250518T150000
DTEND;TZID=America/Mexico_City:20250518T210000
DTSTAMP:20260425T174719
CREATED:20250516T003718Z
LAST-MODIFIED:20250516T003846Z
UID:10000582-1747580400-1747602000@alertachiapas.com
SUMMARY:¡Puro Corazón Bazar llega a Tuxtla!
DESCRIPTION:¡Atención\, gente linda de Tuxtla Gutiérrez! 📢 Prepárense para un evento lleno de encanto y sabor local: ¡el Puro Corazón Bazar Tuxtleco! 🎉 Este bazar reunirá una gran variedad de productos y artículos hechos con puro corazón chiapaneco. 💖 \nPodrán encontrar desde deliciosos snacks 🥨 y refrescantes bebidas 🍹\, hasta hermosas piezas de joyería 💍 y una gran selección de accesorios 👜. Para complementar tu estilo\, también habrá pines 📌\, modernos lentes 😎 y lo último en make-up 💄. ¡Y mucho más! ✨ \nLa cita es el sábado 18 de mayo de 3:00 PM a 9:00 PM. 🕒🌃 ¡Una tarde y noche perfectas para disfrutar de un ambiente agradable y apoyar el talento local! \nEl bazar se llevará a cabo en el Parque de los Héroes Navales\, un espacio al aire libre ideal para pasar un buen rato con amigos y familia. 🌳👨‍👩‍👧‍👦 \nPara cualquier duda o consulta\, pueden contactar al número 961 376 2522 📞 o visitar su página de Instagram @Purocorazón. 📱 \n¡No se pierdan esta oportunidad de encontrar artículos únicos y hechos con amor en el Puro Corazón Bazar Tuxtleco! ¡Los esperamos con los brazos abiertos! 🤗 \nConcentrado del Evento: \n\nEvento: Puro Corazón Bazar Tuxtleco ❤️🛍️\nLugar: 📍 Parque de los Héroes Navales\, Tuxtla Gutiérrez\nFecha: 🗓️ Sábado 18 de mayo\nHora: 🕒 3:00 PM – 9:00 PM\nQué encontrar: Snacks 🥨\, Bebidas 🍹\, Joyería 💍\, Accesorios 👜\, Pines 📌\, Lentes 😎\, Make-up 💄 y mucho más. ✨\nContacto: 📞 961 376 2522 | Instagram: @Purocorazón 📱
URL:https://alertachiapas.com/evento/puro-corazon-bazar-llega-a-tuxtla/
LOCATION:Parque de los Héroes Navales\, Av 1a. Sur Pte 1327\, La Lomita\, Tuxtla Gutiérrez\, Chiapas\, 29060\, Mexico
CATEGORIES:Evento general
ATTACH;FMTTYPE=image/jpeg:https://alertachiapas.com/wp-content/uploads/2025/05/492957686_122160962930571467_35724138210840636_n.jpg
END:VEVENT
END:VCALENDAR