BEGIN:VCALENDAR
VERSION:2.0
PRODID:-//Alerta Chiapas - ECPv6.15.20//NONSGML v1.0//EN
CALSCALE:GREGORIAN
METHOD:PUBLISH
X-WR-CALNAME:Alerta Chiapas
X-ORIGINAL-URL:https://alertachiapas.com
X-WR-CALDESC:Eventos para Alerta Chiapas
REFRESH-INTERVAL;VALUE=DURATION:PT1H
X-Robots-Tag:noindex
X-PUBLISHED-TTL:PT1H
BEGIN:VTIMEZONE
TZID:America/Mexico_City
BEGIN:STANDARD
TZOFFSETFROM:-0600
TZOFFSETTO:-0600
TZNAME:CST
DTSTART:20240101T000000
END:STANDARD
END:VTIMEZONE
BEGIN:VEVENT
DTSTART;TZID=America/Mexico_City:20250129T183000
DTEND;TZID=America/Mexico_City:20250129T203000
DTSTAMP:20260420T190835
CREATED:20250128T222753Z
LAST-MODIFIED:20250128T222753Z
UID:10000264-1738175400-1738182600@alertachiapas.com
SUMMARY:Tardeada Musical en Terán
DESCRIPTION:El Instituto Tuxtleco de Arte y Cultura y la Casa de la Cultura Gral. Manuel de Mier y Terán te invitan a disfrutar de una mágica Tardeada Musical en el Domo Cultural de Terán. \nEste miércoles 29 de enero a las 18:30 horas\, vive una velada llena de ritmo y tradición con presentaciones especiales de:\n🎹 Marimba Infantil “Estrellas del Mactumatza”\n🎤 Cantante Frida Sofía\n💃 Danzoneros “Bella Época”\n🎶 Grupo “Yomo Etzé”\n🎺 Mariachi \nNo te pierdas esta oportunidad de disfrutar de la música y la danza en una tarde especial para toda la familia. ¡Asiste y vive la cultura en Terán! 🎵✨ \n📍 Lugar: Domo Cultural de Terán (2a. Nte. Esquina 2a. Ote.)\n📅 Fecha: Miércoles 29 de enero\n⏰ Hora: 18:30 horas\n🎭 Detalles: Evento cultural con presentaciones de marimba\, danzón\, mariachi y más.
URL:https://alertachiapas.com/evento/tardeada-musical-en-teran/
LOCATION:Domo de Terán\, 3a. Calle Ote. Nte\, Terán\, tuxtla gutiérrez\, Chiapas\, 29000\, Mexico
CATEGORIES:Evento general
ATTACH;FMTTYPE=image/jpeg:https://alertachiapas.com/wp-content/uploads/2025/01/475277323_1007593111400577_2567253089403023209_n.jpg
END:VEVENT
BEGIN:VEVENT
DTSTART;TZID=America/Mexico_City:20250130T090000
DTEND;TZID=America/Mexico_City:20250130T140000
DTSTAMP:20260420T190835
CREATED:20250123T220600Z
LAST-MODIFIED:20250123T220600Z
UID:10000249-1738227600-1738245600@alertachiapas.com
SUMMARY:¡Festival del Tamal y del Atole Tuxtleco!
DESCRIPTION:Tuxtla Gutiérrez se viste de tradición y sabor con el Festival del Tamal y del Atole Tuxtleco\, un evento que celebra la gastronomía chiapaneca con una exquisita variedad de tamales y atoles típicos de la región. Este festival se llevará a cabo el jueves 30 de enero de 9:00 AM a 2:00 PM en el Parque Santo Domingo\, donde los asistentes podrán disfrutar de una experiencia llena de cultura\, música y sabor. \nEn este evento podrás encontrar: \n\n🍴 Expo gastronómica con una amplia oferta de tamales tradicionales.\n🎶 Marimba en vivo\, que ambientará la jornada con música tradicional.\n🎤 Conferencias sobre la historia y preparación de estos platillos icónicos.\n\nOrganizado por el Ayuntamiento de Tuxtla Gutiérrez y el Instituto Tuxtleco de Arte y Cultura (ITAC)\, este festival es la oportunidad perfecta para disfrutar en familia\, conocer más sobre la riqueza culinaria de la ciudad y deleitarse con los sabores auténticos de Chiapas. \n📍 LUGAR: Parque Santo Domingo\, Tuxtla Gutiérrez\n🗓️ FECHA: Jueves 30 de enero\n🕘 HORA: 9:00 AM a 2:00 PM\n🎉 EVENTO: Expo gastronómica\, marimba en vivo y conferencias
URL:https://alertachiapas.com/evento/festival-del-tamal-y-del-atole-tuxtleco/
LOCATION:Parque Santo Domingo\, 1a poniente esquina con 2a norte\, tuxtla gutiérrez\, Chiapas\, 29000\, Mexico
CATEGORIES:Evento general
ATTACH;FMTTYPE=image/jpeg:https://alertachiapas.com/wp-content/uploads/2025/01/IMG_8410.jpg
END:VEVENT
BEGIN:VEVENT
DTSTART;TZID=America/Mexico_City:20250131T183000
DTEND;TZID=America/Mexico_City:20250131T203000
DTSTAMP:20260420T190835
CREATED:20250128T020025Z
LAST-MODIFIED:20250128T020025Z
UID:10000261-1738348200-1738355400@alertachiapas.com
SUMMARY:¡Homenaje a Jorge Massías con la Medalla "Nube Viajera de Chiapas"!
DESCRIPTION:El Consejo Estatal para las Culturas y las Artes de Chiapas (CONECULTA)\, a través del Centro Cultural de Chiapas Jaime Sabines\, en colaboración con la Asociación de Autores y Compositores de Chiapas\, invita a todos los amantes de la música y la cultura a la emotiva entrega de la Medalla Jorge Massías “Nube Viajera de Chiapas”. 🏅🌤️ \nEste evento rinde tributo al legado del gran Jorge Massías\, cuyo talento y aportaciones marcaron un hito en la música chiapaneca y nacional. La ceremonia será un encuentro especial para celebrar su arte y recordar su invaluable contribución como autor y compositor. 🎤🎸 \n¡Acompáñanos en esta noche de homenaje cultural y musical! 🎭✨ \n📍 Lugar:\nAuditorio General del Centro Cultural de Chiapas Jaime Sabines \n📅 Fecha:\nViernes 31 de enero \n🕡 Hora:\n18:30 h \nDetalles:\nEntrada libre. Un evento para toda la familia y los amantes de la música chiapaneca
URL:https://alertachiapas.com/evento/homenaje-a-jorge-massias-con-la-medalla-nube-viajera-de-chiapas/
LOCATION:Centro Cultural de Chiapas Jaime Sabines\, Av. Central Ote. s/n\, Centro\, tuxtla gutiérrez\, Chiapas\, 29000\, Mexico
CATEGORIES:Evento general
ATTACH;FMTTYPE=image/jpeg:https://alertachiapas.com/wp-content/uploads/2025/01/IMG_8508.jpg
END:VEVENT
BEGIN:VEVENT
DTSTART;VALUE=DATE:20250201
DTEND;VALUE=DATE:20250204
DTSTAMP:20260420T190835
CREATED:20250201T014641Z
LAST-MODIFIED:20250201T014806Z
UID:10000281-1738368000-1738627199@alertachiapas.com
SUMMARY:¡Vive el Yomoetzé! en San Fernando\, Chiapas
DESCRIPTION:San Fernando\, Chiapas\, se llena de color\, fe y tradición con el Yomoetzé\, la emblemática celebración de las mujeres a la Virgen de la Candelaria. 🙌💃 \nDel 1 al 3 de febrero\, disfruta de una de las festividades más auténticas de Chiapas\, donde la música\, los bailes\, los trajes tradicionales y la devoción se unen en un evento lleno de cultura y emoción. 🎭🎶 \nEste evento es una oportunidad única para vivir y preservar nuestras raíces. ¡No te lo pierdas! 🌺🔥 \n📍 Lugar: San Fernando\, Chiapas\n📅 Fecha: 1\, 2 y 3 de febrero\n⏰ Hora: Todo el día\n🎊 Detalles: Celebración tradicional con danzas\, música y homenaje a la Virgen de la Candelaria\n📌 Organizan: Chiapas Experiencias\, Bioventura y Ekylatero \n¡Ven y sé parte de esta gran tradición chiapaneca! 🥳🎭🎶
URL:https://alertachiapas.com/evento/vive-el-yomoetze-en-san-fernando-chiapas/
LOCATION:Centro de San Fernando Chiapas\, Segunda Calle Pte. Sur y Primera Calle Pte. Sur\, tuxtla gutiérrez\, Chiapas\, 29120\, Mexico
CATEGORIES:Evento general
ATTACH;FMTTYPE=image/jpeg:https://alertachiapas.com/wp-content/uploads/2025/01/IMG_8593.jpg
END:VEVENT
BEGIN:VEVENT
DTSTART;TZID=America/Mexico_City:20250201T130000
DTEND;TZID=America/Mexico_City:20250201T140000
DTSTAMP:20260420T190835
CREATED:20250130T003545Z
LAST-MODIFIED:20250130T003545Z
UID:10000270-1738414800-1738418400@alertachiapas.com
SUMMARY:Un Encuentro de Fe y Sanación
DESCRIPTION:La Parroquia de San Roque y San Bartolomé\, de la Arquidiócesis de Tuxtla Gutiérrez\, invita a todas las personas que sufren enfermedades a participar en la Misa de Unción de Enfermos\, un sacramento de fe\, esperanza y alivio espiritual. \n💒 En esta celebración\, los enfermos recibirán la gracia de Dios a través de la unción\, buscando consuelo y fortaleza en su camino de sanación. \n📖 “Vengan a mí todos los que están fatigados y agobiados\, y yo les daré alivio” (Mateo 11\,28). \n📍 Lugar: Capilla de Santa Cruz.\n📅 Fecha: Sábado 1 de febrero.\n⏰ Hora: 1:00 p. m.\n📌 Dirección: 13 Oriente\, entre 5a y 6a Sur. \n¡Acompáñanos en este encuentro de fe y esperanza!
URL:https://alertachiapas.com/evento/un-encuentro-de-fe-y-sanacion/
LOCATION:Capilla de Santa Cruz\, 13 Oriente\, entre 5a y 6a Sur\, tuxtla gutiérrez\, Chiapas\, 29000\, Mexico
CATEGORIES:Evento general
ATTACH;FMTTYPE=image/jpeg:https://alertachiapas.com/wp-content/uploads/2025/01/IMG_8567.jpg
END:VEVENT
BEGIN:VEVENT
DTSTART;TZID=America/Mexico_City:20250201T180000
DTEND;TZID=America/Mexico_City:20250201T203000
DTSTAMP:20260420T190835
CREATED:20250130T200802Z
LAST-MODIFIED:20250130T201143Z
UID:10000273-1738432800-1738441800@alertachiapas.com
SUMMARY:Mazatán se prepara para recibir el Año Nuevo Chino
DESCRIPTION:El municipio de Mazatán\, Chiapas\, se alista para celebrar el Año Nuevo Chino de la Serpiente de Madera el próximo 1 de febrero de 2025. El evento\, organizado por el Consejo para las Culturas y las Artes de Chiapas en colaboración con el Ayuntamiento de Mazatán\, promete ser una experiencia cultural vibrante y llena de colorido. \nLa celebración iniciará a las 18:00 horas en el Salón Dragón\, donde se llevará a cabo una exposición sobre la cultura china y el significado del Año Nuevo. Posteriormente\, los asistentes se dirigirán en un recorrido festivo hacia el Parque Central Francisco I. Madero. \nEn el Parque Central\, el público disfrutará de la tradicional Danza del Dragón y otras manifestaciones de la cultura china. Además\, habrá una muestra gastronómica donde los asistentes podrán degustar platillos típicos de la región. \nEl evento es gratuito y abierto a todo el público. Se invita a los habitantes de Mazatán y visitantes a unirse a esta celebración única y познакомиться с más sobre la cultura china. \n¿Qué esperas? ¡No te pierdas la oportunidad de vivir la magia del Año Nuevo Chino en Mazatán! \nLugar: Salida: Salón Dragón\, Mazatán\, Chiapas. \nFecha: 1 de febrero de 2025. \nHora: 18:00 horas. \nCosto: Entrada libre. \nOrganiza: Consejo para las Culturas y las Artes de Chiapas y Ayuntamiento de Mazatán. \n¡Asiste y celebra con nosotros el Año Nuevo Chino!
URL:https://alertachiapas.com/evento/mazatan-se-prepara-para-recibir-el-ano-nuevo-chino/
LOCATION:Salón Dragón\, Av. Allende s/n\, barrio San Jos\, Mazatán\, Chiapas\, Mexico
CATEGORIES:Evento general
ATTACH;FMTTYPE=image/jpeg:https://alertachiapas.com/wp-content/uploads/2025/01/475292299_1173551808105083_2314141167786044992_n.jpg
END:VEVENT
BEGIN:VEVENT
DTSTART;TZID=America/Mexico_City:20250202T090000
DTEND;TZID=America/Mexico_City:20250202T140000
DTSTAMP:20260420T190835
CREATED:20250128T010412Z
LAST-MODIFIED:20250128T010552Z
UID:10000258-1738486800-1738504800@alertachiapas.com
SUMMARY:Cocina Tradicional Tuxtleca: Sabores y Cultura en Cerro Hueco
DESCRIPTION:El Ayuntamiento de Tuxtla Gutiérrez\, en colaboración con el ITAC\, te invita a disfrutar de una experiencia única llena de sabor y tradición en la Edición Cerro Hueco de la Cocina Tradicional Tuxtleca. 🎉 Este evento celebra la riqueza gastronómica y cultural de la región\, ofreciendo un viaje por los sabores auténticos de la comida zoque y tuxtleca. 🌮🍴 \n¿Qué te espera? \n\n🍽️ 16 comideras locales preparando platillos tradicionales.\n🎶 Música en vivo con marimba para ambientar tu experiencia.\n🪑 Zona de comedores para que disfrutes en compañía de tu familia y amigos.\n\n¡No te lo pierdas!\n🗓️ Fecha: 2 de febrero\n⏰ Hora: 9:00 AM a 2:00 PM\n📍 Lugar: Atrio de la Capilla del Señor del Pozo\, Colonia Rivera Cerro Hueco\, Tuxtla Gutiérrez. \nVen y vive la magia de nuestras raíces culturales y gastronómicas 🌟 \n📅 Fecha: 2 de febrero\n⏰ Hora: 9:00 AM a 2:00 PM\n📍 Lugar: Atrio de la Capilla del Señor del Pozo\, Colonia Rivera Cerro Hueco\, Tuxtla Gutiérrez.\n🍴 Actividades: Comida tradicional\, música en vivo\, zona de comedores.\n🎉 ¡Vive Tuxtla!
URL:https://alertachiapas.com/evento/cocina-tradicional-tuxtleca-sabores-y-cultura-en-cerro-hueco/
LOCATION:Capilla del Señor del Pozo\, Rivera Cerro Hueco\, Cerro Hueco\, tuxtla gutiérrez\, 29094
CATEGORIES:Evento general
ATTACH;FMTTYPE=image/jpeg:https://alertachiapas.com/wp-content/uploads/2025/01/72ba890a-9782-44eb-b9b5-7bae9e07d828.jpg
END:VEVENT
BEGIN:VEVENT
DTSTART;TZID=America/Mexico_City:20250202T090000
DTEND;TZID=America/Mexico_City:20250202T140000
DTSTAMP:20260420T190835
CREATED:20250128T012825Z
LAST-MODIFIED:20250128T013258Z
UID:10000260-1738486800-1738504800@alertachiapas.com
SUMMARY:Celebración zoque en honor a la Virgen de Candelaria en Copoya
DESCRIPTION:El Grupo de Música y Danzas Autóctonas Zoques te invita a ser parte de una celebración única llena de tradición\, música y danza en honor a la Virgen de Candelaria. 🌟 Este evento\, titulado Napapok etzé\, es una oportunidad para sumergirte en la riqueza cultural de la comunidad Zoque y disfrutar de una mañana llena de color y folclor. 🎭🌺 \n¿Qué te espera? \n\n🎶 Música y danzas autóctonas que reflejan la esencia de la cultura Zoque.\n🙏 Homenaje a la Virgen de Candelaria en un ambiente lleno de devoción y alegría.\n🌿 Conservación y divulgación de las tradiciones ancestrales.\n\nVen con tu familia y amigos a disfrutar de esta celebración que honra nuestras raíces y tradiciones. ¡Te esperamos! 🎉 \n📅 Fecha: Domingo 2 de febrero de 2025\n⏰ Hora: 9:00 AM\n📍 Lugar: Domicilio de Raúl Hernández\, 5a Sur esquina 2a Oriente\, Copoya.\n🎶 Actividades: Música y danzas autóctonas Zoques\, homenaje a la Virgen de Cancelaria.\n🌿 ¡Celebra la cultura Zoque!
URL:https://alertachiapas.com/evento/celebracion-zoque-en-honor-a-la-virgen-de-candelaria-en-copoya/
LOCATION:Domicilio de Raúl Hernández\, 5a Sur esquina 2a Oriente\, Copoya\, tuxtla gutiérrez\, Chiapas\, 29100\, Mexico
CATEGORIES:Evento general
ATTACH;FMTTYPE=image/jpeg:https://alertachiapas.com/wp-content/uploads/2025/01/IMG_8474.jpg
END:VEVENT
END:VCALENDAR