BEGIN:VCALENDAR
VERSION:2.0
PRODID:-//Alerta Chiapas - ECPv6.15.20//NONSGML v1.0//EN
CALSCALE:GREGORIAN
METHOD:PUBLISH
X-ORIGINAL-URL:https://alertachiapas.com
X-WR-CALDESC:Eventos para Alerta Chiapas
REFRESH-INTERVAL;VALUE=DURATION:PT1H
X-Robots-Tag:noindex
X-PUBLISHED-TTL:PT1H
BEGIN:VTIMEZONE
TZID:America/Mexico_City
BEGIN:STANDARD
TZOFFSETFROM:-0600
TZOFFSETTO:-0600
TZNAME:CST
DTSTART:20230101T000000
END:STANDARD
END:VTIMEZONE
BEGIN:VEVENT
DTSTART;TZID=America/Mexico_City:20241231T180000
DTEND;TZID=America/Mexico_City:20241231T203000
DTSTAMP:20260420T175408
CREATED:20241220T011502Z
LAST-MODIFIED:20241220T011626Z
UID:10000179-1735668000-1735677000@alertachiapas.com
SUMMARY:🎄 ¡Haz que esta Navidad sea especial para quienes están lejos de casa! 🤲✨
DESCRIPTION:Este 31 de diciembre\, únete a la Colecta Navideña y haz de estas fiestas un momento inolvidable para aquellos que están lejos de su hogar. 🏡❤️ En el Parque Santo Domingo\, participa en esta hermosa iniciativa que busca brindar alegría y esperanza a quienes más lo necesitan. 🌟 \nCon el lema “Ven y dona a tu manera\, todo es bien recibido”\, la colecta invita a la comunidad a compartir generosamente. 🎁💝 Las donaciones serán destinadas a ofrecer una Cena de Año Nuevo\, regalos\, y muchas sorpresas más para los beneficiados. 🍽️🎉 \nEste evento cuenta con el apoyo de diversas organizaciones y patrocinadores comprometidos en hacer de esta Navidad una fecha memorable para todos. ¡No te quedes fuera y sé parte de este acto de solidaridad y amor! 🤗✨ \nConcentrado del evento:\n📍 Lugar: Parque Santo Domingo.\n📅 Fecha: 31 de diciembre.\n⏰ Hora: 6:00 PM.\n🛍️ Qué donar: Regalos\, alimentos o cualquier aportación. \n¡La Navidad es el momento perfecto para compartir y regalar sonrisas! 🎅🎄
URL:https://alertachiapas.com/evento/%f0%9f%8e%84-haz-que-esta-navidad-sea-especial-para-quienes-estan-lejos-de-casa-%f0%9f%a4%b2%e2%9c%a8/
LOCATION:Parque Santo Domingo\, 1a poniente esquina con 2a norte\, tuxtla gutiérrez\, Chiapas\, 29000\, Mexico
CATEGORIES:Evento general
ATTACH;FMTTYPE=image/jpeg:https://alertachiapas.com/wp-content/uploads/2024/12/470200461_1121035546693776_1412062255410473717_n.jpg
END:VEVENT
BEGIN:VEVENT
DTSTART;TZID=America/Mexico_City:20241231T210000
DTEND;TZID=America/Mexico_City:20241231T233000
DTSTAMP:20260420T175408
CREATED:20241217T001301Z
LAST-MODIFIED:20241217T001301Z
UID:10000165-1735678800-1735687800@alertachiapas.com
SUMMARY:¡Brinda por el Año Nuevo en Maíz & Tepache! 🎉🥂
DESCRIPTION:El restaurante Maíz & Tepache te invita a despedir el año con una Cena de Año Nuevo inolvidable\, llena de sabor\, ritmo y momentos especiales. La cita es el 31 de diciembre a las 9:00 PM\, en una velada que promete música en vivo\, exquisitos platillos y la mejor mixología para celebrar la llegada del 2025. 🎶🍽️ \nAdemás\, habrá un brindis especial a la medianoche para dar la bienvenida al nuevo año rodeado de un ambiente único\, elegante y festivo. ¡Reserva tu lugar y disfruta de una noche mágica con tus seres queridos! ✨🎆 \n\n🗓 Fecha: 31 de diciembre de 2024\n🕘 Hora: 9:00 PM\n📌 Lugar: Restaurante Maíz & Tepache\, Tuxtla Gutiérrez\n🎶 Actividades: Música en vivo\, platillos especiales\, mixología y brindis a media noche\n🍾 Ambiente: Exclusivo y festivo para despedir el año
URL:https://alertachiapas.com/evento/brinda-por-el-ano-nuevo-en-maiz-tepache-%f0%9f%8e%89%f0%9f%a5%82/
LOCATION:Plaza Ambar Fashion Mall\, Carretera Tuxtla- Chiapa de Corzo No.651\, tuxtla gutiérrez\, chiapas\, 29000\, Mexico
CATEGORIES:Evento general
ATTACH;FMTTYPE=image/jpeg:https://alertachiapas.com/wp-content/uploads/2024/12/469666269_122112990326597286_5445928672296148658_n.jpg
END:VEVENT
BEGIN:VEVENT
DTSTART;TZID=America/Mexico_City:20250104T090000
DTEND;TZID=America/Mexico_City:20250104T170000
DTSTAMP:20260420T175408
CREATED:20250103T054714Z
LAST-MODIFIED:20250103T054714Z
UID:10000192-1735981200-1736010000@alertachiapas.com
SUMMARY:Salida de Parachicos y Chiapanecas en honor al Niño de Atocha
DESCRIPTION:Este sábado 4 de enero cientos de niñas y niños vestidos a la usanza chiapacorceña danzarán en las casas\, templos y calles de la Heroica Chiapa de Corzo\, en honor al Santo Niño de Atocha. \nEn días pasados el Patrón de los Parachicos dio a conocer la ruta para el recorrido de este sábado 4 de enero\, el cual dará inicio por la mañana y se pretende se prolongue hasta la tarde. \n \nEl contingente de niñas y niños partirá aproximadamente a las 9 de la mañana del domicilio ubicado en Avenida Angel Albino Corzo entre Cenobio Aguilar y Mexicanidad Chiapaneca con dirección a la Parroquia de Santo Domingo de Guzmán. \nDespués del medio día se realizará el traslado de imágenes hacia el domicilio ubicado en la Avenida Salvador Urbina y posteriormente a la comida tradicional\, se realizará el regreso a la casa del patrón donde finalizará el recorrido.
URL:https://alertachiapas.com/evento/salida-de-parachicos-y-chiapanecas-en-honor-al-nino-de-atocha/
LOCATION:Centro histórico de Chiapa de Corzo\, Chiapa de Corzo\, Chiapas\, Mexico
CATEGORIES:Evento general
ATTACH;FMTTYPE=image/jpeg:https://alertachiapas.com/wp-content/uploads/2025/01/Unknown-1-1.jpeg
END:VEVENT
BEGIN:VEVENT
DTSTART;TZID=America/Mexico_City:20250105T090000
DTEND;TZID=America/Mexico_City:20250105T120000
DTSTAMP:20260420T175408
CREATED:20250103T002140Z
LAST-MODIFIED:20250103T002140Z
UID:10000187-1736067600-1736078400@alertachiapas.com
SUMMARY:🎉 ¡Celebra el Día de Reyes en el Centro de Convivencia Infantil de Tuxtla! 👑🎠
DESCRIPTION:Este domingo 5 de enero\, ven con toda la familia a disfrutar de un Día de Reyes mágico y lleno de diversión en el Centro de Convivencia Infantil de Tuxtla Gutiérrez. 🧸✨ De 9:00 a 12:00 horas\, los niños podrán disfrutar de una increíble variedad de juegos ¡totalmente gratis! \n🚂 Trencito\n🎯 Gotcha\n🎡 Juegos mecánicos\n🏎️ Cuatrimotos y carritos eléctricos\n🐴 Paseos en pony\n🎈 Alberca de pelotas\n🏍️ Cuadriciclos\n🚤 Lanchitas \nAdemás\, el centro tendrá un horario especial por el evento de 8:00 a.m. a 10:00 p.m.\, para que aproveches el día completo con tus seres queridos. No te pierdas la oportunidad de regalar sonrisas y momentos inolvidables a los pequeños en esta fecha tan especial. 🥳 \nConcentrado del evento:\n📍 Lugar: Centro de Convivencia Infantil\, Tuxtla Gutiérrez\n📅 Fecha: Domingo 5 de enero\n⏰ Horario de juegos gratis: 9:00 a 12:00 horas\n⏰ Horario especial: 8:00 a.m. – 10:00 p.m.\n🎡 Actividades: Trencito\, gotcha\, juegos mecánicos\, cuatrimotos\, carritos eléctricos\, pony\, alberca de pelotas\, cuadriciclos y lanchitas. \n¡Te esperamos para celebrar juntos! 👑✨
URL:https://alertachiapas.com/evento/%f0%9f%8e%89-celebra-el-dia-de-reyes-en-el-centro-de-convivencia-infantil-de-tuxtla-%f0%9f%91%91%f0%9f%8e%a0/
LOCATION:Centro de Convivencia Infantil\, Calzada al sumidero\, Las Granjas\, tuxtla gutiérrez\, Chiapas\, 29000\, Mexico
CATEGORIES:Evento general
ATTACH;FMTTYPE=image/jpeg:https://alertachiapas.com/wp-content/uploads/2025/01/b50ac18c-5d52-4dde-aef3-2a1d89353084.jpg
END:VEVENT
BEGIN:VEVENT
DTSTART;TZID=America/Mexico_City:20250105T110000
DTEND;TZID=America/Mexico_City:20250105T180000
DTSTAMP:20260420T175408
CREATED:20250104T023558Z
LAST-MODIFIED:20250104T023558Z
UID:10000205-1736074800-1736100000@alertachiapas.com
SUMMARY:¡Reyes en el espacio! Una aventura mágica para toda la familia
DESCRIPTION:Este domingo 5 de enero\, el Planetario Tuxtla te invita a una celebración llena de magia\, diversión y conocimiento con el evento “Reyes en el espacio”. Disfruta de una experiencia única que combina la emoción de los Reyes Magos con el fascinante universo del espacio. \nCon múltiples horarios de actividades\, podrás sumergirte en un día repleto de sorpresas\, entretenimiento y aprendizaje. Además\, la entrada será completamente gratuita para niñas y niños menores de 12 años 🎉. ¡No te pierdas la oportunidad de vivir esta celebración tan especial en familia! \nHorarios: \n\n11:30 hrs\n13:00 hrs\n14:30 hrs\n16:00 hrs\n17:30 hrs\n18:00 hrs\n\n¡Habrá sorpresas especiales para todos los asistentes! 🌟 \nDetalles del evento:\n📍 Lugar: Planetario Tuxtla\n📅 Fecha: Domingo 5 de enero\n⏰ Horario: De 11:30 a.m. a 6:00 p.m. (diferentes horarios de actividades)\n🎟 Entrada: Gratuita para niñas y niños menores de 12 años\n✨ Extras: Sorpresas especiales y actividades llenas de conocimiento y diversión
URL:https://alertachiapas.com/evento/reyes-en-el-espacio-una-aventura-magica-para-toda-la-familia/
LOCATION:Planetario Tuxtla\, 5a. Avenida Nte. Ote. s/n\, Parque Madero\, Zona Sin Asignación de Nombre de Col 24\, tuxtla gutiérrez\, Chiapas\, 29000\, Mexico
CATEGORIES:Evento general
ATTACH;FMTTYPE=image/jpeg:https://alertachiapas.com/wp-content/uploads/2025/01/472160737_1028429462632409_5329761412260889601_n.jpg
END:VEVENT
END:VCALENDAR