BEGIN:VCALENDAR
VERSION:2.0
PRODID:-//Alerta Chiapas - ECPv6.15.20//NONSGML v1.0//EN
CALSCALE:GREGORIAN
METHOD:PUBLISH
X-ORIGINAL-URL:https://alertachiapas.com
X-WR-CALDESC:Eventos para Alerta Chiapas
REFRESH-INTERVAL;VALUE=DURATION:PT1H
X-Robots-Tag:noindex
X-PUBLISHED-TTL:PT1H
BEGIN:VTIMEZONE
TZID:America/Mexico_City
BEGIN:STANDARD
TZOFFSETFROM:-0600
TZOFFSETTO:-0600
TZNAME:CST
DTSTART:20230101T000000
END:STANDARD
END:VTIMEZONE
BEGIN:VEVENT
DTSTART;VALUE=DATE:20241213
DTEND;VALUE=DATE:20241221
DTSTAMP:20260420T225801
CREATED:20241213T025338Z
LAST-MODIFIED:20241213T025338Z
UID:10000152-1734048000-1734739199@alertachiapas.com
SUMMARY:🎁 ¡Colecta Navideña para Niñas y Niños en Vulnerabilidad! 🎄
DESCRIPTION:La Fundación Unidas por la Sangre te invita a ser parte de su Colecta Navideña y llevar alegría a niñas y niños en estado de vulnerabilidad durante esta temporada navideña. 🎅✨ \nEste noble evento tiene como objetivo reunir juguetes nuevos\, con especial énfasis en juguetes educativos y sin baterías\, para fomentar el aprendizaje y la diversión responsable. 🎨📚 \nHaz la diferencia en esta Navidad y contribuye con un regalo lleno de amor. Tu apoyo marcará una gran sonrisa en quienes más lo necesitan. 💖🎁 \nDatos del evento: \n📍 Centro de acopio: Boulevard Belisario Domínguez\, entre Santa María y 12 de octubre #90\, Col. Bienestar Social\, Tuxtla Gutiérrez\, Chiapas.\n📅 Fechas: Hasta el 20 de diciembre de 2024. \n¡Sé parte de esta hermosa causa! 🌟
URL:https://alertachiapas.com/evento/%f0%9f%8e%81-colecta-navidena-para-ninas-y-ninos-en-vulnerabilidad-%f0%9f%8e%84/
LOCATION:Centro de Acopio Fundación Unidas por la Sangre\, Boulevard Belisario Domínguez\, entre Santa María y 12 de octubre #90\, Col. Bienestar Social\, tuxtla gutiérrez\, Chiapas\, 29000\, Mexico
CATEGORIES:Evento general
ATTACH;FMTTYPE=image/webp:https://alertachiapas.com/wp-content/uploads/2024/12/468338011_995531032618619_8152154266821728950_n.webp
END:VEVENT
BEGIN:VEVENT
DTSTART;TZID=America/Mexico_City:20241217T110000
DTEND;TZID=America/Mexico_City:20241217T123000
DTSTAMP:20260420T225801
CREATED:20241216T233334Z
LAST-MODIFIED:20241216T233334Z
UID:10000162-1734433200-1734438600@alertachiapas.com
SUMMARY:El Belén Zoque: Tradición y Cultura en el Inicio del Año Agrícola 🌾
DESCRIPTION:El Museo Regional de Chiapas te invita a la plática “El Belén Zoque”\, donde se abordará el inicio del calendario agrícola de los zoques de Tuxtla. La charla será impartida por el antropólogo Juan Ramón Álvarez Vázquez\, un experto en tradiciones culturales de la región. \nEste evento cultural ofrecerá una mirada profunda a las costumbres agrícolas y espirituales de los zoques\, destacando la importancia del Belén Zoque como punto de partida del ciclo agrícola. Los asistentes podrán sumergirse en una experiencia única llena de conocimiento y tradición. 🎋✨ \nLa cita es el próximo 17 de diciembre a las 11:00 horas en la Sala de Usos Múltiples del Museo Regional\, con entrada totalmente libre. ¡No te pierdas la oportunidad de aprender y conectar con las raíces culturales de Chiapas! \n\n🗓 Fecha: 17 de diciembre de 2024\n🕚 Hora: 11:00 AM\n📌 Lugar: Sala de Usos Múltiples\, Calzada de las Personas Ilustres s/n\, Tuxtla Gutiérrez\, Chiapas\n🎟 Entrada: Libre
URL:https://alertachiapas.com/evento/el-belen-zoque-tradicion-y-cultura-en-el-inicio-del-ano-agricola-%f0%9f%8c%be/
LOCATION:Museo Regional de Chiapas\, Calzada de las Personas Ilustres\, tuxtla gutiérrez\, chiapas\, 29000\, Mexico
CATEGORIES:Evento general
ATTACH;FMTTYPE=image/jpeg:https://alertachiapas.com/wp-content/uploads/2024/12/IMG_7124.jpg
ORGANIZER;CN="Museo Regional de Chiapas":MAILTO:museoregional_chiapas@inah.gob.mx
END:VEVENT
BEGIN:VEVENT
DTSTART;TZID=America/Mexico_City:20241219T120000
DTEND;TZID=America/Mexico_City:20241221T200000
DTSTAMP:20260420T225801
CREATED:20241218T001459Z
LAST-MODIFIED:20241218T064128Z
UID:10000167-1734609600-1734811200@alertachiapas.com
SUMMARY:🎉 ¡3ra Expo Venta de Productos Marca Chiapas! 🌟
DESCRIPTION:Del 19 al 21 de diciembre\, Tuxtla Gutiérrez será sede de la 3ra Expo Venta de Productos Marca Chiapas 🛍️. Esta expo reunirá una amplia variedad de productos chiapanecos\, como café orgánico\, mermeladas\, salsas y más\, todos elaborados bajo la reconocida marca “México Chiapas Original”. \nEl evento se llevará a cabo en la Terminal Autobuses Aexa\, ubicada en la 9a. Sur Oriente 2044\, Caminera\, de 12:00 a 20:00 horas. 🌎 \nOrganizada por la Secretaría de Economía y del Trabajo\, en colaboración con Estrategia Marca Chiapas y Autobuses Aexa\, esta expo busca impulsar el talento local y promover productos de alta calidad\, elaborados por manos chiapanecas. 🤝 \n¡No te lo pierdas y apoya el comercio local! 💪 \n\n📌 Lugar: Terminal Autobuses Aexa\, 9a. Sur Oriente 2044\, Caminera\, Tuxtla Gutiérrez\, Chiapas.\n📅 Fecha: 19 al 21 de diciembre.\n🕛 Hora: 12:00 a 20:00 hrs.\n🔖 Organiza: Secretaría de Economía y del Trabajo.\n✨ Colaboran: Estrategia Marca Chiapas y Autobuses Aexa.
URL:https://alertachiapas.com/evento/%f0%9f%8e%89-3ra-expo-venta-de-productos-marca-chiapas-%f0%9f%8c%9f/
LOCATION:Terminal Autobuses AEXA\, 9a. Sur Ote. 2044\, Caminera\, Tuxtla Gutierrez\, Chiapas\, 29000\, Mexico
CATEGORIES:Evento general
ATTACH;FMTTYPE=image/jpeg:https://alertachiapas.com/wp-content/uploads/2024/12/77f68b04-f984-464c-996c-3752ae360e98.jpg
END:VEVENT
BEGIN:VEVENT
DTSTART;TZID=America/Mexico_City:20241219T130000
DTEND;TZID=America/Mexico_City:20241219T200000
DTSTAMP:20260420T225801
CREATED:20241203T233722Z
LAST-MODIFIED:20241203T233722Z
UID:10000126-1734613200-1734638400@alertachiapas.com
SUMMARY:¡La Posada Berriozábal 2024 te espera! 🎄🎅
DESCRIPTION:La magia de la Navidad llega a Berriozábal con la Posada 2024\, organizada por la Calle Emprendedora. Este 19 de diciembre disfruta de un día lleno de actividades para toda la familia\, que incluyen diversión\, música\, regalos y el auténtico espíritu navideño. 🌟✨ \nActividades imperdibles: \n\n🛍️ Venta local: De 1:00 PM a 8:00 PM podrás encontrar deliciosos platillos\, juguetes y novedades.\n🤡 Show de payasos: A las 2:00 PM\, ven a reír y disfrutar con los más pequeños.\n🎭 Concurso de disfraces: A las 4:00 PM\, luce tu creatividad con los disfraces más originales.\n🎁 Juegos y regalos: A las 5:00 PM\, participa en dinámicas llenas de emoción y premios.\n🎶 Música norteña en vivo: A las 6:00 PM\, el grupo “Los Sobrinos de la M” cerrará la noche con alegría y ritmo.\n\nEsta es una oportunidad para apoyar a los emprendedores locales y vivir momentos inolvidables con tus seres queridos. ¡No faltes y sé parte de esta celebración que une tradición y comunidad! ❤️🎁 \n\n📍 Lugar: 1º Ote. entre Avenida Central y 1º Nte.\, Berriozábal.\n📅 Fecha: 19 de diciembre de 2024.\n⏰ Hora: Desde la 1:00 PM.
URL:https://alertachiapas.com/evento/la-posada-berriozabal-2024-te-espera-%f0%9f%8e%84%f0%9f%8e%85/
LOCATION:Berriozabal
CATEGORIES:Evento general
ATTACH;FMTTYPE=image/jpeg:https://alertachiapas.com/wp-content/uploads/2024/12/469063168_122149796678286161_4936424145762273696_n.jpg
END:VEVENT
BEGIN:VEVENT
DTSTART;TZID=America/Mexico_City:20241219T180000
DTEND;TZID=America/Mexico_City:20241219T200000
DTSTAMP:20260420T225801
CREATED:20241218T002005Z
LAST-MODIFIED:20241218T064301Z
UID:10000168-1734631200-1734638400@alertachiapas.com
SUMMARY:🧜‍♀️ ¡“La Sirenita” llega a San Cristóbal! 🎭
DESCRIPTION:La Academia de Ballet y Jazz “Danza\, Sonríe y Vive” te invita a disfrutar de la 3.ª Gala de Aniversario con la espectacular presentación de “La Sirenita” 🧜‍♀️✨. \nEl evento tendrá lugar el próximo 19 de diciembre en el Teatro Daniel Zebadúa\, ubicado en San Cristóbal de Las Casas\, Chiapas. La función comenzará a las 6:00 p.m.\, con una cuota de recuperación de $120 MXN 🎟️. \nEsta gala promete deleitar al público con un despliegue de talento\, danza y magia\, en un espectáculo inspirado en el clásico cuento bajo el mar 🌊🐠. ¡No te lo pierdas y ven a apoyar a estos increíbles artistas locales! 🌟 \n¡Reserva tu lugar y vive la magia de “La Sirenita”! 🐚 \n\n📌 Lugar: Teatro Daniel Zebadúa\, San Cristóbal de Las Casas\, Chiapas.\n📅 Fecha: 19 de diciembre.\n🕕 Hora: 6:00 p.m.\n💰 Cuota de recuperación: $120.00 MXN.\n📞 Mayor información: 967 128 88 47 | 📧 dansasonrieyvive@gmail.com
URL:https://alertachiapas.com/evento/%f0%9f%a7%9c%e2%99%80%ef%b8%8f-la-sirenita-llega-a-san-cristobal-%f0%9f%8e%ad/
LOCATION:Teatro Daniel Zebadúa\, Prol. 1o. de Marzo 2\, Barrio de la Merced\, San Cristóbal de Las Casas\, Chiapas\, Mexico
CATEGORIES:Evento general
ATTACH;FMTTYPE=image/jpeg:https://alertachiapas.com/wp-content/uploads/2024/12/IMG_6860.jpg
ORGANIZER;CN="Academia de Ballet y Jazz %E2%80%9CDanza%2C Sonr%C3%ADe y Vive%E2%80%9D":MAILTO:dansasonrieyvive@gmail.com
END:VEVENT
BEGIN:VEVENT
DTSTART;TZID=America/Mexico_City:20241220T110000
DTEND;TZID=America/Mexico_City:20241222T200000
DTSTAMP:20260420T225801
CREATED:20241218T232658Z
LAST-MODIFIED:20241218T232658Z
UID:10000176-1734692400-1734897600@alertachiapas.com
SUMMARY:🎉 "El Mequé": La fiesta de todos en Chiapas 🐆✨
DESCRIPTION:Del 20 al 22 de diciembre\, celebra la Chiapanequidad en la edición especial de “El Mequé”\, una fiesta que enaltece nuestras tradiciones y cultura. 🌟 \nEl evento arranca en Zinacantán el 20 de diciembre y continúa en Tuxtla Gutiérrez del 20 al 22 de diciembre\, con actividades que llenarán de color y alegría esta gran celebración. \nDisfruta de: \n\n🎶 Música tradicional y danzas chiapanecas.\n🎨 Exposiciones de arte\, cultura y tradiciones.\n🐆 Expresiones únicas de la identidad chiapaneca.\n\nUna jornada para disfrutar en familia y rendir homenaje a nuestras raíces. ¡No faltes\, la fiesta es para todos! 🎊 \n📍 Lugar: Zinacantán (20 de diciembre) | Tuxtla Gutiérrez (20 al 22 de diciembre)\n⏰ Hora: 11:00 A.M. – 8:00 P.M.\n🎉 Actividad: Celebración cultural\, danzas\, música y tradiciones.\n✨ Organizan: Secretaría de Turismo y Consejo Estatal para las Culturas y las Artes de Chiapas. \n¡Ven y vive el espíritu chiapaneco en “El Mequé”! 🌿🎶
URL:https://alertachiapas.com/evento/%f0%9f%8e%89-el-meque-la-fiesta-de-todos-en-chiapas-%f0%9f%90%86%e2%9c%a8/
LOCATION:Parque Bicentenario\, Tuxtla Gutiérrez\, Chiapas\, 29000\, Mexico
CATEGORIES:Evento general
ATTACH;FMTTYPE=image/jpeg:https://alertachiapas.com/wp-content/uploads/2024/12/470584726_927557706228079_292150860418375248_n.jpg
END:VEVENT
BEGIN:VEVENT
DTSTART;TZID=America/Mexico_City:20241221T090000
DTEND;TZID=America/Mexico_City:20241221T160000
DTSTAMP:20260420T225801
CREATED:20241220T233853Z
LAST-MODIFIED:20241220T233853Z
UID:10000183-1734771600-1734796800@alertachiapas.com
SUMMARY:🌵🎄 ¡Disfruta el Mini Tianguis Navideño de Plantófilos!
DESCRIPTION:Este sábado 21 de diciembre\, vive una experiencia única en el Mini Tianguis Navideño organizado por Plantófilos Anónimos. Este evento especial reunirá a amantes de las plantas en un espacio dedicado a la venta de plantas\, insumos y talleres que no te puedes perder. \nEl tianguis se llevará a cabo en el Vivero Plantarte\, ubicado en Av. Mérida No. 39\, entre calle Taxco y San Cristóbal\, en el Fraccionamiento Residencial La Hacienda\, Tuxtla Gutiérrez\, Chiapas. \nPodrás encontrar una gran variedad de expositores como:\n🌵 Yaxal Na\n🌸 Magni Flora\n🌿 Romero\n🌵 Cactus-Dent\n…¡y muchos más que llenarán tu día de naturaleza y color! \nEl evento será de 9:00 a. m. a 4:00 p. m.\, así que no olvides agendarlo. Aprovecha para adquirir plantas únicas y productos ideales para esta temporada navideña. \n¡Asiste con tu familia y amigos! 🎅✨ Este es el evento perfecto para disfrutar del espíritu navideño rodeado de plantas y buena vibra. \n📍 Lugar: Vivero Plantarte\, Av. Mérida No. 39\, entre calle Taxco y San Cristóbal\, Fracc. Residencial La Hacienda\, Tuxtla Gutiérrez\, Chiapas.\n📅 Fecha: Sábado 21 de diciembre de 2024.\n⏰ Horario: De 9:00 a. m. a 4:00 p. m.\n🎟️ Detalles: Mini Tianguis Navideño con venta de plantas\, insumos y talleres.
URL:https://alertachiapas.com/evento/%f0%9f%8c%b5%f0%9f%8e%84-disfruta-el-mini-tianguis-navideno-de-plantofilos/
LOCATION:Vivero Plantarte\, Av. Mérida No. 39\, entre calle Taxco y San Cristóbal\, Fracc. Residencial La Hacienda\, tuxtla gutiérrez\, Chiapas\, 29000\, Mexico
CATEGORIES:Evento general
ATTACH;FMTTYPE=image/jpeg:https://alertachiapas.com/wp-content/uploads/2024/12/IMG_6706.jpg
END:VEVENT
BEGIN:VEVENT
DTSTART;TZID=America/Mexico_City:20241221T170000
DTEND;TZID=America/Mexico_City:20241221T200000
DTSTAMP:20260420T225801
CREATED:20241221T000035Z
LAST-MODIFIED:20241221T000035Z
UID:10000186-1734800400-1734811200@alertachiapas.com
SUMMARY:💃✨ ¡Festival Amistades Folklóricas: Vive la 2da Edición!
DESCRIPTION:Este 21 de diciembre\, el Teatro Francisco I. Madero se llenará de color\, tradición y cultura con la segunda edición del Festival Amistades Folklóricas\, un evento que celebra la riqueza del folclor mexicano. \nEl festival contará con la participación especial del grupo invitado Nbayashandó\, reconocido por su talento en la danza tradicional\, y la presentación estelar de la Agrupación Folklórica Bonampak’k\, quienes prometen un espectáculo lleno de pasión y orgullo por nuestras raíces. \nLa cita es a las 5:00 p. m.\, y el acceso tiene una cuota de recuperación de $100.00\, que podrás adquirir directamente con los integrantes de la agrupación o en taquilla el día del evento. \nEste es un evento ideal para disfrutar con la familia y amigos\, y sumergirse en la magia de las danzas tradicionales que reflejan la diversidad cultural de nuestro país. ¡No te lo pierdas! 🌟 \n📍 Lugar: Teatro Francisco I. Madero.\n📅 Fecha: 21 de diciembre.\n⏰ Hora: 5:00 p. m.\n🎟️ Detalles: 2da edición del Festival Amistades Folklóricas con la participación de Nbayashandó y la Agrupación Folklórica Bonampak’k.\n💵 Cuota de recuperación: $100.00 (venta con integrantes de la agrupación y en taquilla).
URL:https://alertachiapas.com/evento/%f0%9f%92%83%e2%9c%a8-festival-amistades-folkloricas-vive-la-2da-edicion/
LOCATION:Teatro de la Ciudad Francisco I Madero\, Teatro Francisco I. Madero\, Av. 2a. Nte. Ote.\, San Marcos\, Tuxtla Gutierrez\, Chis.\, 29000\, Mexico
CATEGORIES:Evento general
ATTACH;FMTTYPE=image/jpeg:https://alertachiapas.com/wp-content/uploads/2024/12/469822053_893763882865581_1147541479369743458_n.jpg
END:VEVENT
BEGIN:VEVENT
DTSTART;TZID=America/Mexico_City:20241221T173000
DTEND;TZID=America/Mexico_City:20241221T193000
DTSTAMP:20260420T225801
CREATED:20241218T004359Z
LAST-MODIFIED:20241218T064550Z
UID:10000171-1734802200-1734809400@alertachiapas.com
SUMMARY:🔥 Ceremonia de Fuego Viejo: Celebra el invierno y cierra el año con energía renovada 🔥
DESCRIPTION:Este sábado 21 de diciembre\, el Centro Cultural Holistiko invita a la comunidad a participar en la Ceremonia de Fuego Viejo\, un evento espiritual y energético para dar la bienvenida al invierno y cerrar el ciclo anual. \n✨ Durante la ceremonia podrás disfrutar de:\n🌲 Purificación energética\n⭐ Meditación\n🌲 Ofrendas\n⭐ Dinámicas\n🌲 Rituales\n⭐ Círculo de cantos \n🔥 La noche promete un ambiente de conexión espiritual\, música alrededor del fuego y actividades que fortalecerán el inicio de un nuevo ciclo. Se pide asistir con ropa blanca como símbolo de pureza y renovación. \n📅 Detalles del evento: \n\nFecha: Sábado\, 21 de diciembre\nHora: A partir de la tarde/noche\nLugar: Centro Cultural Holistiko\nDirección: 12 norte ote #1042\, Las Delicias\nRecomendación: Asistir de blanco\nContacto: 9612426066\n\n¡No te pierdas esta oportunidad para despedir el año con buena energía y conectar contigo mismo y la comunidad! ✨
URL:https://alertachiapas.com/evento/%f0%9f%94%a5-ceremonia-de-fuego-viejo-celebra-el-invierno-y-cierra-el-ano-con-energia-renovada-%f0%9f%94%a5/
LOCATION:Centro Cultural Holistiko\, Privada 12 Nte. Ote. 1042\, Las Delicias\, tuxtla gutiérrez\, Chiapas\, 29000
CATEGORIES:Evento general
ATTACH;FMTTYPE=image/jpeg:https://alertachiapas.com/wp-content/uploads/2024/12/469894878_1127175349418298_6869887981965267470_n.jpg
END:VEVENT
BEGIN:VEVENT
DTSTART;TZID=America/Mexico_City:20241222T123000
DTEND;TZID=America/Mexico_City:20241222T150000
DTSTAMP:20260420T225801
CREATED:20241220T234832Z
LAST-MODIFIED:20241220T235106Z
UID:10000185-1734870600-1734879600@alertachiapas.com
SUMMARY:🙏✨ Semper Servus: Homenaje a Monseñor Fabio Martínez Castilla
DESCRIPTION:Este domingo 22 de diciembre se llevará a cabo un evento especial en honor a Monseñor Fabio Martínez Castilla\, donde se inaugurará la sala de exposición “Semper Servus” en la Rectoría Cristo Glorioso de Chiapas. \nEl evento será presidido por el Pbro. José Luis Espinoza\, Vicario General\, e incluirá una celebración eucarística programada para la 1:00 p. m.. Esta sala busca resaltar la vida y legado de Monseñor Fabio Martínez Castilla a través de una exposición visual que invita a reflexionar sobre su trayectoria y compromiso con la comunidad. \nUna oportunidad única para rendir homenaje a una figura clave de la Iglesia en Chiapas. No te pierdas este emotivo evento en un ambiente lleno de espiritualidad y agradecimiento. \n📍 Lugar: Rectoría Cristo Glorioso de Chiapas.\n📅 Fecha: Domingo 22 de diciembre.\n⏰ Hora: 1:00 p. m.\n🎟️ Detalles: Inauguración de la sala de exposición “Semper Servus” y eucaristía en honor a Monseñor Fabio Martínez Castilla.
URL:https://alertachiapas.com/evento/%f0%9f%99%8f%e2%9c%a8-semper-servus-homenaje-a-monsenor-fabio-martinez-castilla/
LOCATION:Rectoría Cristo Glorioso de Chiapas\, Segunda Pte. Nte. s/n\, La Lomita\, Copoya\, tuxtla gutiérrez\, Chiapas\, Mexico
CATEGORIES:Evento general
ATTACH;FMTTYPE=image/jpeg:https://alertachiapas.com/wp-content/uploads/2024/12/IMG_7258-1.jpg
END:VEVENT
BEGIN:VEVENT
DTSTART;TZID=America/Mexico_City:20241222T130000
DTEND;TZID=America/Mexico_City:20241222T213000
DTSTAMP:20260420T225801
CREATED:20241220T012345Z
LAST-MODIFIED:20241220T012345Z
UID:10000180-1734872400-1734903000@alertachiapas.com
SUMMARY:🎄✨ ¡Vive la magia del Bazar Navideño en Terán! 🎁🛍️
DESCRIPTION:El espíritu navideño está aquí\, y qué mejor manera de celebrarlo que en el Bazar Navideño que se llevará a cabo este 22 de diciembre en el Domo de la Casa de la Cultura en Terán. 🎄🌟 \nDesde la 1:00 PM hasta las 9:30 PM\, podrás disfrutar de una gran variedad de productos únicos\, perfectos para regalar esta Navidad o consentirte a ti mismo. 🎁✨ Descubre joyas\, accesorios y muchas sorpresas más\, todo en un ambiente festivo y lleno de luces que te envolverá en la magia de las fiestas. 💎🎶 \nVen con tu familia y amigos\, apoya a los emprendedores locales y encuentra ese detalle especial que hará inolvidable esta Navidad. 🎅🤶 \nConcentrado del evento:\n📍 Lugar: Domo Casa de la Cultura\, Terán.\n📅 Fecha: 22 de diciembre.\n⏰ Horario: 1:00 PM a 9:30 PM. \n¡No te lo pierdas! Comparte la alegría y vive la magia de este bazar navideño. 🛍️❤️
URL:https://alertachiapas.com/evento/%f0%9f%8e%84%e2%9c%a8-vive-la-magia-del-bazar-navideno-en-teran-%f0%9f%8e%81%f0%9f%9b%8d%ef%b8%8f/
LOCATION:Domo de Terán\, 3a. Calle Ote. Nte\, Terán\, tuxtla gutiérrez\, Chiapas\, 29000\, Mexico
CATEGORIES:Evento general
ATTACH;FMTTYPE=image/jpeg:https://alertachiapas.com/wp-content/uploads/2024/12/468816533_122151183110347723_37187100773889243_n.jpg
END:VEVENT
BEGIN:VEVENT
DTSTART;TZID=America/Mexico_City:20241222T150000
DTEND;TZID=America/Mexico_City:20241222T200000
DTSTAMP:20260420T225801
CREATED:20241218T003325Z
LAST-MODIFIED:20241218T064501Z
UID:10000170-1734879600-1734897600@alertachiapas.com
SUMMARY:🎄✨ ¡Posada Navideña con Causa en San Cristóbal! 🎁
DESCRIPTION:El próximo domingo 22 de diciembre\, disfruta de la Posada Navideña 🎄 en el Espacio Cultural Wapani de San Cristóbal de Las Casas\, Chiapas. Un evento lleno de alegría\, gastronomía y arte\, organizado en beneficio del asilo de ancianos. ❤️ \nDesde las 3:00 PM\, podrás encontrar: \n\n🛍️ Mercadito de productos locales.\n🍕 Comida\, postres y pizzas.\n🍹 Barra de bebidas.\n🎶 Música con DJ’s.\n🎨 Arte\, diseño y artesanías.\n\nEsta posada será una excelente oportunidad para disfrutar el espíritu navideño mientras apoyas una noble causa. ¡Asiste con tu familia y amigos\, y comparte la magia de la Navidad! 🎅✨ \n\n📌 Lugar: Espacio Cultural Wapani\, San Cristóbal de Las Casas\, Chiapas.\n📅 Fecha: Domingo 22 de diciembre.\n🕒 Hora: 3:00 PM.\n🎯 Actividades: Mercadito\, barra de bebidas\, comida\, música\, DJ’s\, arte y artesanías.\n🤝 Causa: En beneficio al asilo de ancianos.
URL:https://alertachiapas.com/evento/%f0%9f%8e%84%e2%9c%a8-posada-navidena-con-causa-en-san-cristobal-%f0%9f%8e%81/
LOCATION:Espacio Cultural Wapani\, Flavio A. Paniagua 10\, Barrio de Guadalupe\, San Cristóbal de Las Casas\, Chiapas\, 29000\, Mexico
CATEGORIES:Evento general
ATTACH;FMTTYPE=image/jpeg:https://alertachiapas.com/wp-content/uploads/2024/12/470577763_1181078393859422_8695868479177130169_n.jpg
END:VEVENT
END:VCALENDAR