BEGIN:VCALENDAR
VERSION:2.0
PRODID:-//Alerta Chiapas - ECPv6.15.20//NONSGML v1.0//EN
CALSCALE:GREGORIAN
METHOD:PUBLISH
X-ORIGINAL-URL:https://alertachiapas.com
X-WR-CALDESC:Eventos para Alerta Chiapas
REFRESH-INTERVAL;VALUE=DURATION:PT1H
X-Robots-Tag:noindex
X-PUBLISHED-TTL:PT1H
BEGIN:VTIMEZONE
TZID:America/Mexico_City
BEGIN:STANDARD
TZOFFSETFROM:-0600
TZOFFSETTO:-0600
TZNAME:CST
DTSTART:20230101T000000
END:STANDARD
END:VTIMEZONE
BEGIN:VEVENT
DTSTART;TZID=America/Mexico_City:20241204T190000
DTEND;TZID=America/Mexico_City:20241212T210000
DTSTAMP:20260420T225349
CREATED:20241204T221312Z
LAST-MODIFIED:20241204T221312Z
UID:10000130-1733338800-1734037200@alertachiapas.com
SUMMARY:🎉✨ Fiestas Patronales de la Inmaculada Concepción 2024🎶🎭
DESCRIPTION:Las Fiestas Patronales 2024 están aquí\, y este año vienen cargadas de música\, danza\, comedia y espectáculos para toda la familia. Hasta el 12 de diciembre\, no te pierdas esta serie de eventos llenos de tradición\, cultura y entretenimiento en un ambiente festivo que une a la comunidad. \nCada día habrá presentaciones únicas\, desde el nostálgico danzón de Bella Época y la espectacular danza folklórica de Nbayashando\, hasta la presentación musical de Dary Ojeda y la energía de la Banda 3-80. Además\, disfruta de eventos como la lucha libre\, bailable regional\, comedia\, shows infantiles y mucho más. 🎤💃🤹 \nEstos eventos destacan el talento local y la riqueza cultural de nuestra región\, culminando con actos especiales como la participación del Ministerio de Fátima\, música romántica\, y un show de payasos que encantará a chicos y grandes. \nConcentrado del evento:\n📍 Lugar: Fiestas Patronales (consultar cartelera para ubicación específica de cada actividad).\n📆 Fecha: Del 4 al 12 de diciembre de 2024.\n⏰ Hora: Varía según el evento (consultar cartelera).\n✨ Detalles: Música\, danza\, comedia\, eventos culturales y espectáculos para toda la familia. \n¡No te lo pierdas y celebra estas fiestas con alegría y tradición! 🌟🎉
URL:https://alertachiapas.com/evento/%f0%9f%8e%89%e2%9c%a8-fiestas-patronales-de-la-inmaculada-concepcion-2024%f0%9f%8e%b6%f0%9f%8e%ad/
LOCATION:Parroquia Inmaculada Concepción\, Calle Primera Pte. Sur 222\, Francisco I. Madero\, tuxtla gutiérrez\, Chiapas\, 29000\, Mexico
CATEGORIES:Evento general
ATTACH;FMTTYPE=image/jpeg:https://alertachiapas.com/wp-content/uploads/2024/12/WhatsApp-Image-2024-12-02-at-10.35.04-AM.jpeg
END:VEVENT
BEGIN:VEVENT
DTSTART;TZID=America/Mexico_City:20241210T110000
DTEND;TZID=America/Mexico_City:20241210T123000
DTSTAMP:20260420T225349
CREATED:20241209T220246Z
LAST-MODIFIED:20241209T233149Z
UID:10000143-1733828400-1733833800@alertachiapas.com
SUMMARY:Chiapas 1821-1824: Los años decisivos 🇲🇽
DESCRIPTION:El Instituto Nacional de Antropología e Historia (INAH)\, a través del Museo Regional de Chiapas\, invita a la interesante ponencia “Chiapas 1821-1824: Los años decisivos”\, impartida por Roberto Ramos Maza. Este evento abordará uno de los momentos históricos más importantes para el estado\, analizando los cambios políticos y sociales que marcaron la incorporación de Chiapas al México independiente. \nLa conferencia será una oportunidad única para aprender sobre este fascinante periodo de transición que dio forma al Chiapas que conocemos hoy. No te pierdas esta experiencia cultural y educativa en el marco del 40 aniversario del Museo Regional de Chiapas. \n🎙️ Detalles del evento: \n\n📍 Lugar: Sala de Exposiciones Temporales\, Museo Regional de Chiapas\, Calzada de las Personas Ilustres s/n\, Tuxtla Gutiérrez\, Chiapas.\n📅 Fecha: 10 de diciembre de 2024.\n⏰ Hora: 11:00 a.m.\n🆓 Entrada libre.\n\n¡Te esperamos para explorar juntos la historia de Chiapas!
URL:https://alertachiapas.com/evento/chiapas-1821-1824-los-anos-decisivos-%f0%9f%87%b2%f0%9f%87%bd/
LOCATION:Museo Regional de Chiapas\, Calzada de las Personas Ilustres\, tuxtla gutiérrez\, chiapas\, 29000\, Mexico
CATEGORIES:Evento general
ATTACH;FMTTYPE=image/jpeg:https://alertachiapas.com/wp-content/uploads/2024/12/a3e2a6d3-b535-42a6-a51e-f71c5fc90800.jpg
ORGANIZER;CN="Museo Regional de Chiapas":MAILTO:museoregional_chiapas@inah.gob.mx
END:VEVENT
BEGIN:VEVENT
DTSTART;TZID=America/Mexico_City:20241210T110000
DTEND;TZID=America/Mexico_City:20241210T130000
DTSTAMP:20260420T225349
CREATED:20241209T221037Z
LAST-MODIFIED:20241209T233925Z
UID:10000145-1733828400-1733835600@alertachiapas.com
SUMMARY:¡Enrama Guadalupana 2024: Fe y Esperanza en Comunidad! 🙏🌹
DESCRIPTION:Los priostes de San Sebastián Mártir y la familia De Paz Nangullasmú invitan cordialmente a toda la comunidad a participar en la tradicional elaboración de la enrama en honor a la Virgen de Guadalupe. Este evento espiritual y festivo nos llama a unirnos con fe y esperanza para celebrar a la Reina de México. 🌟 \nEl evento contará con la aportación de roscas o frutas\, elementos que simbolizan la devoción y la unidad de los fieles. Es una ocasión especial para fortalecer los lazos comunitarios y agradecer las bendiciones recibidas durante el año. \n🙏 Detalles del evento: \n\n📅 Fecha: Martes 10 de diciembre de 2024.\n⏰ Hora: 11:00 a.m.\n📍 Lugar: Av. 21 de octubre #250\, domicilio de los anfitriones.\n\n¡Te esperamos para vivir juntos este momento de fe y tradición! 🙌
URL:https://alertachiapas.com/evento/enrama-guadalupana-2024-fe-y-esperanza-en-comunidad-%f0%9f%99%8f%f0%9f%8c%b9/
LOCATION:Casa de San Sebastián 2025\, Av. 21 de octubre #250\,\, Chiapa de Corzo\, Chiapas\, Mexico
CATEGORIES:Evento general
ATTACH;FMTTYPE=image/jpeg:https://alertachiapas.com/wp-content/uploads/2024/12/IMG_6827.jpg
END:VEVENT
BEGIN:VEVENT
DTSTART;VALUE=DATE:20241213
DTEND;VALUE=DATE:20241221
DTSTAMP:20260420T225349
CREATED:20241213T025338Z
LAST-MODIFIED:20241213T025338Z
UID:10000152-1734048000-1734739199@alertachiapas.com
SUMMARY:🎁 ¡Colecta Navideña para Niñas y Niños en Vulnerabilidad! 🎄
DESCRIPTION:La Fundación Unidas por la Sangre te invita a ser parte de su Colecta Navideña y llevar alegría a niñas y niños en estado de vulnerabilidad durante esta temporada navideña. 🎅✨ \nEste noble evento tiene como objetivo reunir juguetes nuevos\, con especial énfasis en juguetes educativos y sin baterías\, para fomentar el aprendizaje y la diversión responsable. 🎨📚 \nHaz la diferencia en esta Navidad y contribuye con un regalo lleno de amor. Tu apoyo marcará una gran sonrisa en quienes más lo necesitan. 💖🎁 \nDatos del evento: \n📍 Centro de acopio: Boulevard Belisario Domínguez\, entre Santa María y 12 de octubre #90\, Col. Bienestar Social\, Tuxtla Gutiérrez\, Chiapas.\n📅 Fechas: Hasta el 20 de diciembre de 2024. \n¡Sé parte de esta hermosa causa! 🌟
URL:https://alertachiapas.com/evento/%f0%9f%8e%81-colecta-navidena-para-ninas-y-ninos-en-vulnerabilidad-%f0%9f%8e%84/
LOCATION:Centro de Acopio Fundación Unidas por la Sangre\, Boulevard Belisario Domínguez\, entre Santa María y 12 de octubre #90\, Col. Bienestar Social\, tuxtla gutiérrez\, Chiapas\, 29000\, Mexico
CATEGORIES:Evento general
ATTACH;FMTTYPE=image/webp:https://alertachiapas.com/wp-content/uploads/2024/12/468338011_995531032618619_8152154266821728950_n.webp
END:VEVENT
BEGIN:VEVENT
DTSTART;TZID=America/Mexico_City:20241213T180000
DTEND;TZID=America/Mexico_City:20241213T193000
DTSTAMP:20260420T225349
CREATED:20241209T221410Z
LAST-MODIFIED:20241209T233953Z
UID:10000146-1734112800-1734118200@alertachiapas.com
SUMMARY:¡Concurso Municipal de Oratoria en Tuxtla! 🎤✨
DESCRIPTION:El Instituto Tuxtleco de Arte y Cultura (ITAC) invita a todos los amantes de la palabra y la expresión oral al Concurso Municipal de Oratoria\, donde podrás mostrar tu talento\, creatividad y amor por nuestra ciudad. 🌆 \nEste evento busca resaltar la importancia de la oratoria como herramienta para transmitir ideas\, emociones y fortalecer nuestra identidad cultural. Además\, ¡habrá atractivos premios en efectivo! 💰 \n🎖️ Premios: \n\n🥇 Primer lugar: $3\,000 pesos.\n🥈 Segundo lugar: $2\,000 pesos.\n🥉 Tercer lugar: $1\,000 pesos.\n\n🗓️ Fechas importantes: \n\n📑 Cierre de convocatoria: 11 de diciembre de 2024.\n🎙️ Realización del concurso: 13 de diciembre de 2024.\n\n🎙️ Detalles del evento: \n\n⏰ Hora: 6:00 p.m.\n📍 Lugar: Palacio Municipal de Tuxtla Gutiérrez.\n\n¡Anímate a participar o asistir para apoyar a los oradores y disfrutar de una tarde de inspiración! 🗣️👏
URL:https://alertachiapas.com/evento/concurso-municipal-de-oratoria-en-tuxtla-%f0%9f%8e%a4%e2%9c%a8/
LOCATION:Palacio Municipal de Tuxtla Gutierrez\, Tuxtla Gutiérrez\, Chiapas\, 29000\, Mexico
CATEGORIES:Evento general
ATTACH;FMTTYPE=image/jpeg:https://alertachiapas.com/wp-content/uploads/2024/12/IMG_6831.jpg
END:VEVENT
BEGIN:VEVENT
DTSTART;TZID=America/Mexico_City:20241213T193000
DTEND;TZID=America/Mexico_City:20241213T233000
DTSTAMP:20260420T225349
CREATED:20241205T233839Z
LAST-MODIFIED:20241205T233839Z
UID:10000138-1734118200-1734132600@alertachiapas.com
SUMMARY:🎉 ¡Gran Cena Gala con causa! ✨
DESCRIPTION:La Universidad Autónoma de Chiapas celebra medio siglo de compromiso\, esfuerzo y logros con un evento único: la Cena Gala a beneficio de la Fundación UNACH. Este evento especial reúne a la comunidad para conmemorar 50 años de sueños alcanzados\, fortaleciendo a la institución y su impacto en la sociedad chiapaneca. \nLa cita es el próximo 13 de diciembre de 2024\, en el Salón Mozé a partir de las 7:30 pm. Los asistentes disfrutarán de música en vivo\, un menú de tres tiempos\, brindis de bienvenida y descorche\, en un ambiente lleno de elegancia y celebración. \n🎶 Este evento con causa es una oportunidad para apoyar la Fundación UNACH\, que trabaja incansablemente por el desarrollo educativo en la región. \n🔗 Para más información y reservaciones:\n📞 961 135 9619 \n\nLugar: Salón Mozé\nFecha: 13 de diciembre de 2024\nHora: 7:30 pm\nDetalles: Música en vivo\, menú de tres tiempos\, brindis de bienvenida y descorche.\n\n¡No te pierdas esta gran noche llena de emoción y propósito! 🌟
URL:https://alertachiapas.com/evento/%f0%9f%8e%89-gran-cena-gala-con-causa-%e2%9c%a8/
LOCATION:Mozé Eventos\, Carretera Panamericana y Calzada Campestre No. 5191\, chiapas\, 29000\, Mexico
CATEGORIES:Evento general
ATTACH;FMTTYPE=image/jpeg:https://alertachiapas.com/wp-content/uploads/2024/12/467636264_610936047925979_2247505979489894284_n.jpg
END:VEVENT
BEGIN:VEVENT
DTSTART;TZID=America/Mexico_City:20241213T210000
DTEND;TZID=America/Mexico_City:20241213T233000
DTSTAMP:20260420T225349
CREATED:20241213T043424Z
LAST-MODIFIED:20241213T043424Z
UID:10000161-1734123600-1734132600@alertachiapas.com
SUMMARY:🎶✨ ¡Techno y Drag en Nodo Art Bar! 🎧👑
DESCRIPTION:Este viernes 13 de diciembre\, prepárate para una noche de beats electrónicos y espectáculos inolvidables en el Nodo Art Bar. La velada promete ser única con la mezcla de Techno Witches y el increíble Show Drag de Zozaya Drag. 🎤💃 \nDisfruta de la música de talentosos DJs como Mad Amm\, Gaby de la Mora y Andy IJ\, quienes harán vibrar la pista de baile con los mejores ritmos techno. 🌟🎶 \nAdemás\, las promociones están imperdibles: \n\n¡No cover para ellas! 🥂\nMedias y cocteles para ellas a $20 (de 9:30 PM a 10:30 PM).\nCubetazo a $350 y Vitrolitros a $600. 🍹🎉\n📍 Lugar: Nodo Art Bar\, Andador de Guadalupe #5\, San Cristóbal de las Casas\, Chiapas.\n📅 Fecha: Viernes\, 13 de diciembre de 2024.\n🕘 Horario: 9:00 PM.\n\n¡Ven a vivir una experiencia nocturna única con música\, arte y mucho estilo! 🎧✨🎉
URL:https://alertachiapas.com/evento/%f0%9f%8e%b6%e2%9c%a8-techno-y-drag-en-nodo-art-bar-%f0%9f%8e%a7%f0%9f%91%91/
LOCATION:Nodo Art Bar\, Andador de Guadalupe #5\, San Cristóbal de Las Casas\, Chiapas\, Mexico
CATEGORIES:Evento general
ATTACH;FMTTYPE=image/jpeg:https://alertachiapas.com/wp-content/uploads/2024/12/470145760_10237397132413807_1135684618998323544_n.jpg
END:VEVENT
BEGIN:VEVENT
DTSTART;TZID=America/Mexico_City:20241214T110000
DTEND;TZID=America/Mexico_City:20241214T213000
DTSTAMP:20260420T225349
CREATED:20241213T025933Z
LAST-MODIFIED:20241213T025933Z
UID:10000153-1734174000-1734211800@alertachiapas.com
SUMMARY:🎄 ¡Disfruta el Bazar Navideño en Terán! 🎁✨
DESCRIPTION:Este 14 de diciembre de 2024\, el Bazar Navideño llega al Domo de Terán\, un evento lleno de espíritu festivo donde podrás encontrar regalos únicos\, adornos navideños y deliciosos antojos para compartir con tus seres queridos. 🎅🎨 \nLo mejor de todo es que este bazar tiene un objetivo especial: beneficiar al patronato de la Feria Santa Cruz 2025. Al asistir\, no solo disfrutarás de un ambiente lleno de magia y alegría\, sino que también contribuirás a una causa comunitaria. 💞 \n¿Quieres participar como expositor? Por solo $150 pesos\, puedes reservar tu espacio de 2 metros para mostrar tus productos y ser parte de esta experiencia navideña. 🎁✨ \nDatos del evento: \n📍 Lugar: Domo de Terán\, Tuxtla Gutiérrez\, Chiapas.\n📅 Fecha: 14 de diciembre de 2024.\n🕒 Horario: 11:00 AM a 9:30 PM.\n📞 Informes: 961 593 77 55. \n¡No te pierdas esta gran oportunidad de celebrar la temporada navideña y apoyar a tu comunidad! 🎄🌟
URL:https://alertachiapas.com/evento/%f0%9f%8e%84-disfruta-el-bazar-navideno-en-teran-%f0%9f%8e%81%e2%9c%a8/
LOCATION:Domo de Terán\, 3a. Calle Ote. Nte\, Terán\, tuxtla gutiérrez\, Chiapas\, 29000\, Mexico
CATEGORIES:Evento general
ATTACH;FMTTYPE=image/jpeg:https://alertachiapas.com/wp-content/uploads/2024/12/468489095_1122282189902658_5832701563008245809_n.jpg
END:VEVENT
BEGIN:VEVENT
DTSTART;TZID=America/Mexico_City:20241214T180000
DTEND;TZID=America/Mexico_City:20241214T200000
DTSTAMP:20260420T225349
CREATED:20241213T035439Z
LAST-MODIFIED:20241213T035439Z
UID:10000157-1734199200-1734206400@alertachiapas.com
SUMMARY:📚🎄 Posada Literaria: Cultura y Tradición en un Solo Evento 🎶✨
DESCRIPTION:Este 14 de diciembre a las 6:00 PM\, disfruta de una noche mágica con la Posada Literaria\, un evento donde la literatura\, la música y las tradiciones se combinan para cerrar el año con alegría y creatividad. 🌟🎄 \nOrganizado por el Club Literario “Una Luz Sobre la Cabeza”\, la posada contará con la participación de destacados escritores\, quienes presentarán sus obras en tres mesas de diálogo: \n\nMesa 1: Luis Enrike Moscoso\, Mar Dientz\, Marcelino Champo\, Miranda Higareda.\nMesa 2: Antonio Reyes Carrasco\, Júpiter\, Raúl Malacara\, Solmarena Torres\, Sriodel.\nMesa 3: Arbey Rivera\, Irene Estudillo Gamboa\, Patricia Fonseca\, Santana García\, William Ordóñez.\n\nAdemás\, habrá juegos\, una piñata de libros para los asistentes y música en vivo con Katz y Los Cachos\, quienes pondrán ritmo a esta fiesta cultural. 🎤📖 \nVen a celebrar la temporada navideña con un evento que une el arte\, la cultura y las tradiciones mexicanas. ¡No te lo pierdas! 🌟✨ \n📍 Lugar: La Terraza – Calle Central Norte 393\, Col. Centro\, Tuxtla Gutiérrez\, Chiapas.\n📅 Fecha: Jueves\, 14 de diciembre de 2024.\n🕕 Horario: 6:00 PM.\n🎶 Actividades: Lecturas literarias\, piñata de libros\, juegos y música en vivo. \n¡Únete y vive una posada diferente! 🎄📚🎶
URL:https://alertachiapas.com/evento/%f0%9f%93%9a%f0%9f%8e%84-posada-literaria-cultura-y-tradicion-en-un-solo-evento-%f0%9f%8e%b6%e2%9c%a8/
LOCATION:La Terraza – Aguaje Tropical\, Calle Central Norte #393\, tuxtla gutiérrez\, chiapas\, 29000\, Mexico
CATEGORIES:Evento general
ATTACH;FMTTYPE=image/jpeg:https://alertachiapas.com/wp-content/uploads/2024/12/470074440_1136058991856382_5344302405794521038_n.jpg
END:VEVENT
BEGIN:VEVENT
DTSTART;TZID=America/Mexico_City:20241215T110000
DTEND;TZID=America/Mexico_City:20241215T190000
DTSTAMP:20260420T225349
CREATED:20241210T225555Z
LAST-MODIFIED:20241210T225555Z
UID:10000147-1734260400-1734289200@alertachiapas.com
SUMMARY:🎄 ¡Navidad y compras en Expo Shopping 8va Edición! 🎁
DESCRIPTION:¡La magia de la Navidad llega al Salón Glück! Este 15 de diciembre\, no te pierdas la 8va edición de Expo Shopping\, un evento lleno de alegría y espíritu festivo. 🎅✨ Desde las 11:00 hasta las 19:00 horas\, podrás disfrutar de una experiencia única con actividades y productos pensados para todos los gustos. \n🎉 ¿Qué encontrarás? 🎉 \n\n🎀 Piercing Party para darle un toque especial a tu estilo.\n💎 Joyería con diseños únicos y elegantes.\n🍔 Food & Drinks para deleitar tu paladar mientras disfrutas del evento.\n🎄 Decoraciones ideales para llenar tu hogar de espíritu navideño.\n👜 Accesorios para complementar tu look.\n🍰 Postres irresistibles para endulzar tu día.\n\nAdemás\, los niños podrán disfrutar de la presencia de Santa Claus y un ambiente lleno de nieve y diversión. 🌟 No te pierdas esta oportunidad para encontrar los regalos perfectos y disfrutar de un día inolvidable en familia. \n📍 Lugar: Salón Glück\n📅 Fecha: 15 de diciembre\n⏰ Horario: 11:00 a 19:00 horas\n🎯 Detalles: Piercing Party\, joyería\, food & drinks\, decoraciones\, accesorios\, postres y más. \n¡No faltes! 🛍️🎅
URL:https://alertachiapas.com/evento/%f0%9f%8e%84-navidad-y-compras-en-expo-shopping-8va-edicion-%f0%9f%8e%81/
LOCATION:Gluck Espacio Para Eventos\, Ciprés 585\, Col. Mactumatza\, tuxtla gutiérrez\, chiapas\, 29000\, Mexico
CATEGORIES:Evento general
ATTACH;FMTTYPE=image/jpeg:https://alertachiapas.com/wp-content/uploads/2024/12/467717669_545344681582335_6436396422467438492_n.jpg
END:VEVENT
BEGIN:VEVENT
DTSTART;TZID=America/Mexico_City:20241215T120000
DTEND;TZID=America/Mexico_City:20241215T200000
DTSTAMP:20260420T225349
CREATED:20241213T035840Z
LAST-MODIFIED:20241213T035918Z
UID:10000158-1734264000-1734292800@alertachiapas.com
SUMMARY:🎄✨ Mercado de Navidad: Arte\, Música y Comunidad en San Cristóbal 🎶🧵
DESCRIPTION:Este domingo 15 de diciembre\, ven y disfruta del Mercado de Navidad\, un evento lleno de actividades artísticas\, culturales y musicales en un espacio que celebra el talento local y el espíritu navideño. 🎨🎅 \nEl mercado inicia a las 12:00 PM con un bazar de ropa\, arte\, comida\, bebida y juguetes. ¡Un lugar perfecto para encontrar regalos únicos mientras apoyas a la comunidad! 🎁✨ \nA las 4:00 PM\, no te pierdas el Taller de Bordado San Juan Chamula\, impartido por la Colectiva La Tierra del Maíz. Por una cuota de recuperación de $100 pesos\, podrás aprender esta hermosa técnica tradicional. 🧵🌾 \nLa tarde se llena de música y poesía: \n\n6:00 PM: Presentación de Tere (poesía) y Azul (rap).\n7:00 PM: Actuación de Mamba Treze con su rap de alcantarilla. 🎤🐍\n\nY para cerrar con broche de oro\, a las 8:00 PM habrá una clase de cumbia impartida por Tere\, con cooperación voluntaria. ¡Baila y disfruta del ritmo latino! 💃🎶 \n📍 Lugar: Casa Gaia\, María Adelina Flores #18\, Colonia Centro\, San Cristóbal de las Casas\, Chiapas.\n📅 Fecha: Domingo 15 de diciembre de 2024.\n🕛 Horario: Desde las 12:00 PM.\n🎟️ Cuota: Actividades y bazar con acceso libre; taller de bordado $100 pesos; clase de cumbia con cooperación voluntaria. \n¡Un evento para vivir la magia de la Navidad con arte\, música y comunidad! 🎄✨
URL:https://alertachiapas.com/evento/%f0%9f%8e%84%e2%9c%a8-mercado-de-navidad-arte-musica-y-comunidad-en-san-cristobal-%f0%9f%8e%b6%f0%9f%a7%b5/
LOCATION:Casa Gaia\, María Adelina Flores #18\, Colonia Centro\, San Cristóbal de Las Casas\, Chiapas\, Mexico
CATEGORIES:Evento general
ATTACH;FMTTYPE=image/jpeg:https://alertachiapas.com/wp-content/uploads/2024/12/469825445_1150571220228007_6618337154902699379_n.jpg
END:VEVENT
END:VCALENDAR