BEGIN:VCALENDAR
VERSION:2.0
PRODID:-//Alerta Chiapas - ECPv6.15.20//NONSGML v1.0//EN
CALSCALE:GREGORIAN
METHOD:PUBLISH
X-ORIGINAL-URL:https://alertachiapas.com
X-WR-CALDESC:Eventos para Alerta Chiapas
REFRESH-INTERVAL;VALUE=DURATION:PT1H
X-Robots-Tag:noindex
X-PUBLISHED-TTL:PT1H
BEGIN:VTIMEZONE
TZID:America/Mexico_City
BEGIN:STANDARD
TZOFFSETFROM:-0600
TZOFFSETTO:-0600
TZNAME:CST
DTSTART:20240101T000000
END:STANDARD
END:VTIMEZONE
BEGIN:VEVENT
DTSTART;VALUE=DATE:20251024
DTEND;VALUE=DATE:20251104
DTSTAMP:20260422T115450
CREATED:20251021T005521Z
LAST-MODIFIED:20251021T005521Z
UID:10001029-1761264000-1762214399@alertachiapas.com
SUMMARY:Festival Xibalbalam: Día de Muertos en Tuxtla Gutiérrez
DESCRIPTION:El espíritu de las tradiciones ancestrales y la riqueza cultural de Chiapas se unen en el “Festival Xibalbalam: Día de Muertos”\, un evento que promete ser una celebración inolvidable de la vida y la memoria. La festividad se llevará a cabo en la capital chiapaneca\, ofreciendo una extensa programación de actividades para toda la familia. \nLa Gran Inauguración está programada para el jueves 24 de octubre de 2025\, dando inicio a las 19:30 horas en el emblemático Parque Bicentenario de Tuxtla Gutiérrez. Este será el punto de partida de once días llenos de color\, tradición y comunidad. \nEl festival se extenderá del 24 de octubre al 03 de noviembre y contará con una variada cartelera que incluye: \n\nCultura: Exposiciones\, muestras y representaciones de las tradiciones del Día de Muertos.\nEmprendimiento: Espacios dedicados a productores y artesanos locales\, impulsando la economía regional.\nTalleres: Actividades prácticas para que los asistentes se involucren en la creación y el aprendizaje de oficios tradicionales.\nConcursos: Competencias que buscan incentivar la creatividad y el respeto por las costumbres.\nY mucho más: Espectáculos\, música y diversas sorpresas para todas las edades.\n\nEl evento\, que lleva el nombre de un concepto mítico maya\, invita a la ciudadanía a sumergirse en la celebración y honrar a sus difuntos. ¡Te esperamos! \n  \n\n\n\n\n\n\n\nCategoría\nDetalle\n\n\n\n\nNombre del Evento\nFestival Xibalbalam: Día de Muertos\n\n\nFecha de Permanencia\nDel 24 de octubre al 03 de noviembre de 2025\n\n\nGran Inauguración\nJueves 24 de octubre de 2025\n\n\nLugar\nParque Bicentenario\, Tuxtla Gutiérrez\n\n\nHora de Inauguración\n19:30 Horas\n\n\nDetalles del Evento\nActividades de Cultura\, Emprendimiento\, Talleres\, Concursos y más.\n\n\nOrganiza\nEk’ Balam\n\n\n\n\nExportar a Hojas de cálculo
URL:https://alertachiapas.com/evento/festival-xibalbalam-dia-de-muertos-en-tuxtla-gutierrez/
LOCATION:Parque Bicentenario\, Tuxtla Gutiérrez\, Chiapas\, 29000\, Mexico
CATEGORIES:Evento general
ATTACH;FMTTYPE=image/jpeg:https://alertachiapas.com/wp-content/uploads/2025/10/IMG_6926.jpg
END:VEVENT
BEGIN:VEVENT
DTSTART;TZID=America/Mexico_City:20251025T080000
DTEND;TZID=America/Mexico_City:20251102T170000
DTSTAMP:20260422T115450
CREATED:20251023T040902Z
LAST-MODIFIED:20251023T040902Z
UID:10001043-1761379200-1762102800@alertachiapas.com
SUMMARY:Festival Almas Vivas 2025 en San Cristóbal con Cierre de Fiesta y Cine
DESCRIPTION:El Festival “Almas Vivas 2025” y Compasuchil en San Cristóbal de Las Casas entra en su fase de cierre con un extenso programa cultural y artístico que se extiende hasta el 02 de noviembre. La celebración\, que comenzó el 17 de octubre\, aún tiene reservadas diversas actividades para vivir las tradiciones de Día de Muertos en el “Pueblo Mágico”. \nAquí te presentamos las actividades más próximas y relevantes que aún puedes disfrutar: \nSÁBADO 25 DE OCTUBRE: Arte\, Velas y Concurso \n\n17:00 horas: Inauguración de exposiciones de arte (“Inmersión” de Inés Ruiz y “El Universo\, espejo de la libertad” de Marco Antonio Martínez) en la Sala de Artes Plásticas.\n18:00 horas: Encendida de Velas y Desfile de Catrinas frente al MUSAC.\n\nDOMINGO 26 DE OCTUBRE: Música y Catrinas \n\n17:00 horas: Presentación de marimba municipal.\n18:00 horas: Gran Concurso de Catrinas y Catrines en el Parque Central.\n\nMARTES 29 Y JUEVES 30 DE OCTUBRE: Murales e Inauguraciones \n\n29 de Octubre (13:00 hrs): Inauguración de murales en el Panteón.\n30 de Octubre (13:00 hrs): Inauguración de altares en el Kiosco y frente al MUSAC.\n\nVIERNES 31 DE OCTUBRE: La Noche Grande \n\n17:00 a 18:00 hrs: “Entre Catrinas Catrines bailan” (baile y actuación) con el Centro Cultural y Artístico Las Casas (CENCA).\n19:00 hrs: Cine de muertos para los vivos en la Plaza de La Paz.\n20:30 hrs: Mitos y leyendas populares con la compañía Contracanto.\n\nSÁBADO 01 Y DOMINGO 02 DE NOVIEMBRE: Cierre Festivo \n\n17:00 hrs (Sábado 01): Presentación de Pinturas de Luz “Calaveritas y Diablitos” (Oyg nejoch).\n17:00 hrs (Domingo 02): Exhibición de mascotas disfrazadas.\n19:00 hrs (Domingo 02): Marimba municipal y música romántica (Leth Ballinas) y (La Molina).\n\nLas actividades se distribuyen en varios puntos de la ciudad\, incluyendo el Parque Central\, la Plaza de La Paz\, el Panteón Municipal y el MUSAC. ¡Una celebración imperdible! \n\n  \nConcentrado de Información del Evento:\n  \n\n\n\nCategoría\nDetalle\n\n\n\n\nEvento\nFestival Almas Vivas 2025 y Cempasuchil\n\n\nSede Principal\nSan Cristóbal de Las Casas\n\n\nFechas (Restantes)\n25\, 26\, 29\, 30\, 31 de Octubre y 01\, 02 de Noviembre\n\n\nLugar (Varía)\nParque Central\, Plaza de La Paz\, Panteón Municipal\, MUSAC\, etc.\n\n\nSábado 25 Oct\n17:00 hrs: Inauguración de Exposiciones. 18:00 hrs: Desfile Catrinas frente al MUSAC.\n\n\nDomingo 26 Oct\n18:00 hrs: Concurso de Catrinas y Catrines (Parque Central).\n\n\nViernes 31 Oct\n19:00 hrs: Cine de Muertos (Plaza de La Paz). 20:30 hrs: Mitos y Leyendas (Contracanto).\n\n\nDomingo 02 Nov\nCierre con Marimba (19:00 hrs) y Música Romántica.\n\n\nNota
URL:https://alertachiapas.com/evento/festival-almas-vivas-2025-en-san-cristobal-con-cierre-de-fiesta-y-cine/
LOCATION:San Cristobal de Las Casas\, Calle Diego de Mazariegos s/n\, San Cristóbal de Las Casas\, Chiapas
CATEGORIES:Evento general
ATTACH;FMTTYPE=image/jpeg:https://alertachiapas.com/wp-content/uploads/2025/10/561763516_1304854991654356_2373972380173888331_n.jpg
END:VEVENT
BEGIN:VEVENT
DTSTART;TZID=America/Mexico_City:20251031T183000
DTEND;TZID=America/Mexico_City:20251101T223000
DTSTAMP:20260422T115450
CREATED:20251022T012447Z
LAST-MODIFIED:20251022T012519Z
UID:10001035-1761935400-1762036200@alertachiapas.com
SUMMARY:¡38 AÑOS EN ESCENA! "BIENVENIDO CONDE DRÁCULA" en el Teatro Emilio Rabasa con Homenaje a Lola Montoya
DESCRIPTION:La capital chiapaneca se vestirá de gala y misterio con el regreso de la icónica obra de teatro “BIENVENIDO CONDE DRÁCULA”\, celebrando 38 Años en Escena con funciones especiales de terror y drama. \nEsta aclamada producción teatral\, que ha marcado a generaciones\, presentará el Guion Original de la maestra Lola Montoya\, rindiéndole un emotivo Homenaje Póstumo a su legado y contribución al arte escénico. La dirección de la obra corre a cargo del reconocido Aarón Vite Grajales. \nEl público tendrá dos oportunidades para presenciar esta legendaria puesta en escena\, justo a tiempo para las festividades de Día de Muertos: \n\nViernes 31 de Octubre\nSábado 1 de Noviembre\n\nAmbos días contarán con dos funciones\, programadas a las 18:30 horas y a las 20:30 horas. \nLa sede de este magno evento será el Teatro Emilio Rabasa. La venta de boletos está disponible a través de FAN ACCESS (un punto de venta mencionado es en Galerías Boulevard) y pueden consultar la disponibilidad y costos en la página web y contactos proporcionados. \n\n  \nConcentrado de Información del Evento:\n  \n\n\n\nCategoría\nDetalle\n\n\n\n\nObra/Evento\nBIENVENIDO CONDE DRÁCULA\n\n\nConmemoración\n38 Años en Escena y Homenaje Póstumo a Lola Montoya (Guion Original)\n\n\nDirector\nAarón Vite Grajales\n\n\nLugar\nTeatro Emilio Rabasa\n\n\nFechas de Funciones\nViernes 31 de Octubre y Sábado 1 de Noviembre\n\n\nHorario\nDos funciones por día: 18:30 hrs. y 20:30 hrs.\n\n\nVenta de Boletos\nFAN ACCESS (Contacto: 961 268 2817\, http://www.fanaccess.mx\, fanaccess@gmail.com)
URL:https://alertachiapas.com/evento/38-anos-en-escena-bienvenido-conde-dracula-en-el-teatro-emilio-rabasa-con-homenaje-a-lola-montoya/
LOCATION:Teatro de la Ciudad Emilio Rabasa\, Calzada de las Personas Ilustres\, Tuxtla Gutiérrez\, Chiapas\, 29000\, Mexico
CATEGORIES:Evento general
ATTACH;FMTTYPE=image/jpeg:https://alertachiapas.com/wp-content/uploads/2025/10/533195267_1202145965267153_9074086397029308320_n.jpg
END:VEVENT
BEGIN:VEVENT
DTSTART;TZID=America/Mexico_City:20251101T180000
DTEND;TZID=America/Mexico_City:20251101T220000
DTSTAMP:20260422T115450
CREATED:20251031T203507Z
LAST-MODIFIED:20251031T203507Z
UID:10001058-1762020000-1762034400@alertachiapas.com
SUMMARY:¡CASA DE TERROR GRATUITA! Payasos\, Monstruos y Sustos en la Colonia Fco. I. Madero este 1 de Noviembre
DESCRIPTION:Para aquellos que buscan una dosis de adrenalina y terror durante las celebraciones de Día de Muertos\, se anuncia una espectacular CASA DE TERROR que abrirá sus puertas al público con un gran atractivo: ¡la ENTRADA GRATUITA! \nEl evento\, que se realizará el Sábado 1 de Noviembre\, promete una inmersión en el miedo con una ambientación que incluye elementos de circo tenebroso\, payasos aterradores\, monstruos y personajes de pesadilla\, ideales para quienes disfrutan de las emociones fuertes en estas fechas. \nEsta iniciativa se presenta como una opción de entretenimiento accesible para la comunidad local. El horario de apertura será de 6:00 PM a 10:00 PM (6 de la tarde a 10 de la noche)\, permitiendo a los asistentes vivir una noche escalofriante después del atardecer. \nLa Casa de Terror estará ubicada en la Calle Central Sur #695\, entre la 5a y 6a Sur\, en la Colonia Francisco I. Madero. \nSe recomienda a los asistentes llegar temprano\, considerando que la entrada es gratuita y se espera una gran afluencia. \n\n  \nConcentrado de Información del Evento:\n  \n\n\n\nCategoría\nDetalle\n\n\n\n\nEvento\nCasa de Terror\n\n\nFecha\n1 de Noviembre\n\n\nHorario\n6:00 PM a 10:00 PM\n\n\nCosto\nENTRADA GRATUITA\n\n\nLugar\nCalle Central Sur #695\, entre 5ta y 6ta Sur\, Colonia Francisco I. Madero\n\n\nTemática\nTerror\, payasos\, monstruos.
URL:https://alertachiapas.com/evento/casa-de-terror-gratuita-payasos-monstruos-y-sustos-en-la-colonia-fco-i-madero-este-1-de-noviembre-2/
LOCATION:Casa Terror Madero\, Calle Central Sur #695\, entre 5ta y 6ta Sur\, Colonia Francisco I. Madero\, Tuxtla Gutiérrez\, Chiapas\, 29000\, Mexico
CATEGORIES:Evento general
ATTACH;FMTTYPE=image/jpeg:https://alertachiapas.com/wp-content/uploads/2025/10/unnamed.jpg
END:VEVENT
BEGIN:VEVENT
DTSTART;TZID=America/Mexico_City:20251101T190000
DTEND;TZID=America/Mexico_City:20251101T233000
DTSTAMP:20260422T115450
CREATED:20251031T205524Z
LAST-MODIFIED:20251031T205524Z
UID:10001060-1762023600-1762039800@alertachiapas.com
SUMMARY:CAMINO AL MICTLÁN: Cena Temática\, Rito de Limpia y Espiritualidad en Madre Cuisine este 1 de Noviembre
DESCRIPTION:Una Noche para Honrar la Memoria: Madre Cuisine Presenta la 4ta Edición de “Camino al Mictlán” \nMadre Cuisine invita a una experiencia única y profunda con la 4ta Edición de su evento especial de Día de Muertos: “Camino al Mictlán”. Esta propuesta va más allá de una cena\, ofreciendo “una noche para honrar la memoria a través del sabor” y conectar los sentidos con la espiritualidad. \nLa experiencia es totalmente temática e inmersiva y consta de: \n\nExperiencia Temática a 3 Tiempos: Un menú especial diseñado para evocar y honrar la memoria a través de la gastronomía.\nRito de Limpia de Malas Energías: Una actividad diseñada para conectar con la espiritualidad y renovar las energías.\n\nLa cita para esta experiencia única es el Sábado 1 de Noviembre a las 7:00 PM. \nEs importante destacar que el cupo es limitado\, por lo que se recomienda asegurar la asistencia realizando reservaciones. Para informes y reservaciones\, está disponible el número: 961 240 8041. \n\n  \nConcentrado de Información del Evento:\n  \n\n\n\nCategoría\nDetalle\n\n\n\n\nEvento\nCamino al Mictlán (4ta Edición)\n\n\nOrganiza\nMadre Cuisine\n\n\nFecha\nSábado 1 de Noviembre\n\n\nHora\n7:00 PM\n\n\nDetalles\nExperiencia temática a 3 tiempos\, Rito de limpia de malas energías\, Conexión con la espiritualidad.\n\n\nReservaciones\nAbiertas al 961 240 8041 (Cupo limitado)
URL:https://alertachiapas.com/evento/camino-al-mictlan-cena-tematica-rito-de-limpia-y-espiritualidad-en-madre-cuisine-este-1-de-noviembre/
LOCATION:Madre Cuishe\, Cañahueca Km 1082\, Residencial Campestre\, Tuxtla Gutiérrez\, Select a State:\, 29047\, Mexico
CATEGORIES:Evento general
ATTACH;FMTTYPE=image/jpeg:https://alertachiapas.com/wp-content/uploads/2025/10/571326903_821225407158834_3169268581269792976_n.jpg
END:VEVENT
BEGIN:VEVENT
DTSTART;TZID=America/Mexico_City:20251101T200000
DTEND;TZID=America/Mexico_City:20251101T233000
DTSTAMP:20260422T115450
CREATED:20251028T054354Z
LAST-MODIFIED:20251028T054354Z
UID:10001056-1762027200-1762039800@alertachiapas.com
SUMMARY:¡Llega la Primera Fiesta Cubana a Tapachula!
DESCRIPTION:Tapachula se prepara para una noche llena de ritmo\, sabor y diversión con la Primera Fiesta Cubana\, un evento que promete encender la pista de baile y traer lo mejor del ambiente caribeño a la Perla del Soconusco. \n🕺💃 Este 1 de noviembre\, desde las 8:00 PM y hasta que el cuerpo aguante\, la fiesta se vivirá en grande en Avenida Tultepec esquina Central Oriente\, detrás del City Pub. \nPrepárate para disfrutar del Reparto Cubano Internacional\, ¡el grupo más sonado del momento! Además habrá rifas\, baile\, tesoro escondido y muchas sorpresas más. \n🎁 Entrada GRATIS para grupos de mujeres🍻 Cubetazo + shot de tequila de cortesía🚌 Transporte de ida y regreso disponible🎤 Animación a cargo de Tony Guayabal\, Yordanis Tour y Pabilo el Animador \nNo te pierdas esta oportunidad de vivir una noche inolvidable al ritmo de la rumba y el sabor cubano. ¡Ven con tu bandera\, tu alegría y tus ganas de gozar! 🌴🔥 \n\n📍 Lugar: Avenida Tultepec esquina Central Oriente\, detrás del City Pub\, Tapachula📅 Fecha: 1 de noviembre🕗 Hora: Desde las 8:00 PM hasta que el cuerpo aguante🎶 Detalles: Reparto Cubano Internacional\, rifas\, baile\, entrada gratis para grupos de mujeres\, cubetazo + shot de cortesía\, transporte disponible.📞 Contactos: Tony Guayabal | Yordanis Tour | Pabilo el Animador \n👉 Sabor cubano en Tapachula: pura rumba y diversión garantizada! 🇨🇺🎶
URL:https://alertachiapas.com/evento/llega-la-primera-fiesta-cubana-a-tapachula/
LOCATION:Avenida Tultepec esquina Central Oriente\, detrás del City Pub\, Tapachula\, Avenida Tultepec esquina Central Oriente\, detrás del City Pub\, Tapachula\, Tapachula\, Chiapas\, Mexico
CATEGORIES:Evento general
ATTACH;FMTTYPE=image/jpeg:https://alertachiapas.com/wp-content/uploads/2025/10/Unknown-9.jpeg
END:VEVENT
END:VCALENDAR