BEGIN:VCALENDAR
VERSION:2.0
PRODID:-//Alerta Chiapas - ECPv6.15.20//NONSGML v1.0//EN
CALSCALE:GREGORIAN
METHOD:PUBLISH
X-WR-CALNAME:Alerta Chiapas
X-ORIGINAL-URL:https://alertachiapas.com
X-WR-CALDESC:Eventos para Alerta Chiapas
REFRESH-INTERVAL;VALUE=DURATION:PT1H
X-Robots-Tag:noindex
X-PUBLISHED-TTL:PT1H
BEGIN:VTIMEZONE
TZID:America/Mexico_City
BEGIN:STANDARD
TZOFFSETFROM:-0600
TZOFFSETTO:-0600
TZNAME:CST
DTSTART:20240101T000000
END:STANDARD
END:VTIMEZONE
BEGIN:VEVENT
DTSTART;TZID=America/Mexico_City:20251003T160000
DTEND;TZID=America/Mexico_City:20251003T200000
DTSTAMP:20260421T230343
CREATED:20251002T004729Z
LAST-MODIFIED:20251002T004804Z
UID:10000972-1759507200-1759521600@alertachiapas.com
SUMMARY:Feria Artística y Cultural del Adulto Mayor en Tuxtla
DESCRIPTION:El Ayuntamiento de Tuxtla Gutiérrez y el Instituto Tuxtleco de Arte y Cultura (ITAC) invitan a la Feria Artística y Cultural del Adulto Mayor\, un evento para celebrar la experiencia de vida\, la alegría y la tradición. \nEsta feria es un espacio de convivencia que reunirá diversas actividades para el disfrute de toda la familia. Podrás ver presentaciones de danza folklórica y otras presentaciones artísticas\, y disfrutar de la música de marimba en vivo. Además\, habrá talleres\, juegos de feria y venta de alimentos. \nNo te pierdas esta oportunidad de honrar a nuestros adultos mayores y disfrutar de un evento lleno de cultura y alegría. \n\nDetalles del evento: \n\nTítulo del evento: Feria Artística y Cultural del Adulto Mayor.\nLugar: Patio Cívico del Ayuntamiento de Tuxtla Gutiérrez.\nFecha: Jueves\, 3 de octubre.\nHorario: 16:00 a 20:00 horas.\nActividades: Presentaciones de danza folklórica y artísticas\, talleres\, juegos de feria\, marimba en vivo y venta de alimentos.
URL:https://alertachiapas.com/evento/feria-artistica-y-cultural-del-adulto-mayor-en-tuxtla/
LOCATION:Palacio Municipal de Tuxtla Gutierrez\, Tuxtla Gutiérrez\, Chiapas\, 29000\, Mexico
CATEGORIES:Evento general
ATTACH;FMTTYPE=image/jpeg:https://alertachiapas.com/wp-content/uploads/2025/10/8066b97c-aba4-4b6e-949e-6a6688f476de.jpg
END:VEVENT
END:VCALENDAR