BEGIN:VCALENDAR
VERSION:2.0
PRODID:-//Alerta Chiapas - ECPv6.15.20//NONSGML v1.0//EN
CALSCALE:GREGORIAN
METHOD:PUBLISH
X-ORIGINAL-URL:https://alertachiapas.com
X-WR-CALDESC:Eventos para Alerta Chiapas
REFRESH-INTERVAL;VALUE=DURATION:PT1H
X-Robots-Tag:noindex
X-PUBLISHED-TTL:PT1H
BEGIN:VTIMEZONE
TZID:America/Mexico_City
BEGIN:STANDARD
TZOFFSETFROM:-0600
TZOFFSETTO:-0600
TZNAME:CST
DTSTART:20240101T000000
END:STANDARD
END:VTIMEZONE
BEGIN:VEVENT
DTSTART;TZID=America/Mexico_City:20251001T163000
DTEND;TZID=America/Mexico_City:20251001T190000
DTSTAMP:20260424T103451
CREATED:20250929T224956Z
LAST-MODIFIED:20250929T224956Z
UID:10000971-1759336200-1759345200@alertachiapas.com
SUMMARY:Encuentro "Tequios y Telares": El transporte que nosotras queremos
DESCRIPTION:Participa en el encuentro de mujeres anticorrupción “Tequios y Telares”\, que busca discutir y proponer soluciones para un sistema de transporte más justo. Bajo el tema “El transporte que nosotras queremos: Más íntegro\, incluyente y seguro”\, este evento abordará los desafíos que enfrentan las mujeres en el transporte público y cómo la corrupción impacta en su seguridad y movilidad. \nEste encuentro es una iniciativa financiada por la Unión Europea y organizada por Ligalab y Transparencia Mexicana\, como parte de la campaña #AC4ALL. Es una oportunidad para que las mujeres compartan sus experiencias y se propongan estrategias para construir un entorno de transporte más seguro y equitativo para todas. \nLa cita es este miércoles 1 de octubre a las 4:30 PM en el Instituto Casa de las Artesanías\, ubicado en el Boulevard Belisario Domínguez 2035\, Col. Xamaipak\, Tuxtla Gutiérrez\, Chiapas. \n\nDetalles del evento: \n\nTítulo del evento: Tequios y Telares: Encuentro de Mujeres Anticorrupción\nTema: El transporte que nosotras queremos: Más íntegro\, incluyente y seguro\nLugar: Instituto Casa de las Artesanías\, Blvd. Belisario Domínguez 2035\, Col. Xamaipak\, Tuxtla Gutiérrez\, Chis.\nFecha: Miércoles\, 1 de octubre.\nHora: 4:30 PM.\nOrganizadores: Ligalab y Transparencia Mexicana.\nPatrocinio: Financiado por la Unión Europea.
URL:https://alertachiapas.com/evento/encuentro-tequios-y-telares-el-transporte-que-nosotras-queremos/
LOCATION:Instituto Casa de las artesanias\, Blvd. Belisario Domínguez 2035\, Xamaipak\, Tuxtla Gutiérrez\, Chiapas\, Mexico
CATEGORIES:Evento general
ATTACH;FMTTYPE=image/jpeg:https://alertachiapas.com/wp-content/uploads/2025/09/1186f1d3-a034-4b34-a621-50fdcf9d287b.jpg
END:VEVENT
END:VCALENDAR