BEGIN:VCALENDAR
VERSION:2.0
PRODID:-//Alerta Chiapas - ECPv6.15.20//NONSGML v1.0//EN
CALSCALE:GREGORIAN
METHOD:PUBLISH
X-WR-CALNAME:Alerta Chiapas
X-ORIGINAL-URL:https://alertachiapas.com
X-WR-CALDESC:Eventos para Alerta Chiapas
REFRESH-INTERVAL;VALUE=DURATION:PT1H
X-Robots-Tag:noindex
X-PUBLISHED-TTL:PT1H
BEGIN:VTIMEZONE
TZID:America/Mexico_City
BEGIN:STANDARD
TZOFFSETFROM:-0600
TZOFFSETTO:-0600
TZNAME:CST
DTSTART:20240101T000000
END:STANDARD
END:VTIMEZONE
BEGIN:VEVENT
DTSTART;TZID=America/Mexico_City:20250930T090000
DTEND;TZID=America/Mexico_City:20250930T160000
DTSTAMP:20260422T175137
CREATED:20250926T230606Z
LAST-MODIFIED:20250926T230606Z
UID:10000966-1759222800-1759248000@alertachiapas.com
SUMMARY:¡Expo Venta Gastronómica Artesanal de Adultos Mayores!
DESCRIPTION:Ven y disfruta de los sabores y las artesanías de la mano de los adultos mayores de nuestra comunidad. Este evento es una excelente oportunidad para apoyar su talento y dedicación\, mientras disfrutas de una gran variedad de productos hechos con amor y tradición. \nLa cita es el próximo martes 30 de septiembre\, en el Parque San Marcos\, justo a un costado del quiosco. Podrás encontrar una gran diversidad de gastronomía local y hermosas artesanías\, perfectas para un regalo o para consentirte. ¡No faltes y apoya el talento local! \n\nDetalles del evento: \n\nTítulo del evento: Expo Venta Gastronómica Artesanal de Adultos Mayores\nPresenta: Instituto Tuxtleco de Arte y Cultura (ITAC) y Ayuntamiento de Tuxtla Gutiérrez 2024-2027\nLugar: Parque San Marcos (a un costado del quiosco) en la 1a. Sur y 1a. Oriente.\nFecha: Martes\, 30 de septiembre.\nHorario: 9:00 a 16:00 horas.\nDetalles: Expo-venta de comida tradicional y artesanías elaboradas por adultos mayores.
URL:https://alertachiapas.com/evento/expo-venta-gastronomica-artesanal-de-adultos-mayores/
LOCATION:Parque San Marcos\, Tuxtla Gutiérrez\, Chiapas\, 29000\, Mexico
CATEGORIES:Evento general,Expo venta
ATTACH;FMTTYPE=image/jpeg:https://alertachiapas.com/wp-content/uploads/2025/09/553951968_1194500262709860_3949377079468941890_n.jpg
END:VEVENT
BEGIN:VEVENT
DTSTART;TZID=America/Mexico_City:20250930T170000
DTEND;TZID=America/Mexico_City:20250930T200000
DTSTAMP:20260422T175137
CREATED:20250929T224336Z
LAST-MODIFIED:20250929T224336Z
UID:10000968-1759251600-1759262400@alertachiapas.com
SUMMARY:¡Festejemos juntos el 7º Aniversario del MUSART!
DESCRIPTION:El Museo de las Artesanías de Chiapas (MUSART) invita a toda la comunidad a celebrar su 7º Aniversario con un evento especial lleno de música y reconocimientos. \nLa celebración se llevará a cabo mañana\, martes 30 de septiembre\, a las 5:00 PM. Durante el evento\, se hará la entrega de reconocimientos a los “amigos del MUSART” en agradecimiento por su apoyo y contribución al museo. Además\, se podrá disfrutar de un concierto de marimba a cargo del Cuarteto Ritmando\, que deleitará a los asistentes con su música. \nNo te pierdas esta oportunidad de celebrar la cultura y las tradiciones de Chiapas en un evento festivo y lleno de arte. \n\nDetalles del evento: \n\nTítulo del evento: 7º Aniversario del MUSART\nLugar: MUSART – Museo de las Artesanías de Chiapas. Blvd. Belisario Domínguez 2035\, Col. Xamaipak\, Tuxtla Gutiérrez\, Chiapas.\nFecha: Martes\, 30 de septiembre.\nHora: 5:00 PM.\nActividades: Entrega de reconocimientos a los amigos del MUSART y concierto de marimba con el Cuarteto Ritmando.
URL:https://alertachiapas.com/evento/festejemos-juntos-el-7o-aniversario-del-musart/
LOCATION:Instituto Casa de las artesanias\, Blvd. Belisario Domínguez 2035\, Xamaipak\, Tuxtla Gutiérrez\, Chiapas\, Mexico
CATEGORIES:Evento general
ATTACH;FMTTYPE=image/jpeg:https://alertachiapas.com/wp-content/uploads/2025/09/IMG_6027.jpg
END:VEVENT
END:VCALENDAR