BEGIN:VCALENDAR
VERSION:2.0
PRODID:-//Alerta Chiapas - ECPv6.15.20//NONSGML v1.0//EN
CALSCALE:GREGORIAN
METHOD:PUBLISH
X-ORIGINAL-URL:https://alertachiapas.com
X-WR-CALDESC:Eventos para Alerta Chiapas
REFRESH-INTERVAL;VALUE=DURATION:PT1H
X-Robots-Tag:noindex
X-PUBLISHED-TTL:PT1H
BEGIN:VTIMEZONE
TZID:America/Mexico_City
BEGIN:STANDARD
TZOFFSETFROM:-0600
TZOFFSETTO:-0600
TZNAME:CST
DTSTART:20240101T000000
END:STANDARD
END:VTIMEZONE
BEGIN:VEVENT
DTSTART;TZID=America/Mexico_City:20250925T210000
DTEND;TZID=America/Mexico_City:20250927T233000
DTSTAMP:20260424T102304
CREATED:20250926T014219Z
LAST-MODIFIED:20250926T014219Z
UID:10000958-1758834000-1759015800@alertachiapas.com
SUMMARY:¡La Catrina Café-Cultubar celebra sus 18 años!
DESCRIPTION:¡Ven a celebrar el 18 aniversario de La Catrina Café-Cultubar en San Cristóbal de las Casas! La fiesta se extiende por tres días con la presentación en vivo de grandes bandas y artistas locales. No te pierdas esta celebración llena de música y cultura. \nJUEVES 25: \n\nMashband\n\nVIERNES 26: \n\nStereocosmos\nLomaltok\n\nSÁBADO 27: \n\nBeto Berzerk\nPaco Castro & Julio Láudano\n\n¡La entrada es libre! Te esperamos para vivir una noche inolvidable en un ambiente único. \nConcentrado del evento: \n\nLugar: La Catrina Café-Cultubar\, Francisco I. Madero 35\, San Cristóbal de las Casas\, Chiapas\, México.\nFecha: Jueves 25\, Viernes 26 y Sábado 27 de septiembre.\nHorario: 9:00 PM.\nDetalles: Celebración de 18 años con música en vivo de Mashband\, Stereocosmos\, Lomaltok\, Beto Berzerk\, Paco Castro & Julio Láudano. Entrada libre.
URL:https://alertachiapas.com/evento/la-catrina-cafe-cultubar-celebra-sus-18-anos/2025-09-25/2/
LOCATION:La Catrina Café-Cultubar\, Francisco I. Madero 35\, San Cristóbal de las Casas\, Chiapas\, México\, San Cristóbal de Las Casas\, Chiapas\, Mexico
CATEGORIES:Evento general
ATTACH;FMTTYPE=image/jpeg:https://alertachiapas.com/wp-content/uploads/2025/09/b7ca2e35-6071-4508-bb7f-a1656416331a.jpg
END:VEVENT
BEGIN:VEVENT
DTSTART;TZID=America/Mexico_City:20250927T110000
DTEND;TZID=America/Mexico_City:20250928T200000
DTSTAMP:20260424T102304
CREATED:20250926T013717Z
LAST-MODIFIED:20250926T013717Z
UID:10000956-1758970800-1759089600@alertachiapas.com
SUMMARY:¡Vive la emoción de manejar tu próximo BYD!
DESCRIPTION:BYD\, la marca líder en tecnología\, diseño e innovación\, te invita a vivir la experiencia de conducción de sus vehículos en el Test Drive Center de Chiapas. Podrás probar los modelos más recientes y conocer de cerca todas las innovaciones que BYD tiene para ti. \nEste evento contará con la presencia de pilotos profesionales\, quienes te guiarán y te brindarán la mejor experiencia al volante\, resolviendo todas tus dudas y mostrándote el rendimiento y seguridad de nuestros vehículos. \nAdemás\, podrás disfrutar de beneficios exclusivos y promociones especiales durante el evento. \n¡Te esperamos! \nConcentrado del evento: \n\nLugar: Plaza Crystal\nFecha: 27 y 28 de septiembre\nHorario: 11:00 a 20:00 hrs.\nDetalles: Test Drive con pilotos profesionales y beneficios exclusivos.
URL:https://alertachiapas.com/evento/vive-la-emocion-de-manejar-tu-proximo-byd/
LOCATION:Plaza Crystal\, Blvd. Belisario Domínguez\, Sin Nombre\, Flamboyán\, Tuxtla Gutiérrez\, Chiapas\, 29059\, Mexico
CATEGORIES:Evento general,Expo venta
ATTACH;FMTTYPE=image/jpeg:https://alertachiapas.com/wp-content/uploads/2025/09/19f3fcc0-4c61-4233-b88e-4a812d8889d8.jpg
END:VEVENT
BEGIN:VEVENT
DTSTART;TZID=America/Mexico_City:20250927T180000
DTEND;TZID=America/Mexico_City:20250927T220000
DTSTAMP:20260424T102304
CREATED:20250926T225817Z
LAST-MODIFIED:20250926T225817Z
UID:10000962-1758996000-1759010400@alertachiapas.com
SUMMARY:Discos Rufianes y Casa Palmas presentan: ¡Noche de Rock y Ska en Tuxtla Gutiérrez!
DESCRIPTION:Este próximo Sábado 27 de septiembre\, prepárate para una noche llena de energía y buena música en Casa Palmas. Discos Rufianes y Casa Palmas se unen para traer un cartel de lujo con algunas de las mejores bandas de la escena local y de los alrededores. \nEl evento contará con la participación en vivo de Zoque Canibal (Ska Core Chiapas)\, Hasta el FinalX (HC Punk de Ecatepec celebrando su 8º aniversario)\, Chiflido (Música Chiflada)\, Los No Muertos (Punk Rock)\, The Mamuska (Ska)\, y Los Furbies (Punk). \nVen a celebrar la música y el talento de estas grandes bandas en un ambiente único y creativo. ¡No te lo pierdas! La cooperación es de solo $60. \n\nDetalles del evento: \n\nTítulo del evento: Discos Rufianes & Casa Palmas presentan: ¡Noche de Rock y Ska!\nLugar: Casa Palmas – Palma China #598\, Las Palmas\, Tuxtla Gutiérrez\, Chiapas.\nFecha: Sábado\, 27 de septiembre.\nHora: 6:00 PM.\nBandas: Zoque Canibal\, Hasta el FinalX\, Chiflido\, Los No Muertos\, The Mamuska y Los Furbies.\nCosto: $60.
URL:https://alertachiapas.com/evento/discos-rufianes-y-casa-palmas-presentan-noche-de-rock-y-ska-en-tuxtla-gutierrez/
LOCATION:Casa Palmas\, Palma China #598\, Las Palmas\, Tuxtla Gutiérrez\, Chiapas\, 29000\, Mexico
CATEGORIES:Evento general,Música
ATTACH;FMTTYPE=image/jpeg:https://alertachiapas.com/wp-content/uploads/2025/09/9ee50e1e-4718-47c4-8990-ac1f3b7ff454.jpg
END:VEVENT
END:VCALENDAR