BEGIN:VCALENDAR
VERSION:2.0
PRODID:-//Alerta Chiapas - ECPv6.15.20//NONSGML v1.0//EN
CALSCALE:GREGORIAN
METHOD:PUBLISH
X-ORIGINAL-URL:https://alertachiapas.com
X-WR-CALDESC:Eventos para Alerta Chiapas
REFRESH-INTERVAL;VALUE=DURATION:PT1H
X-Robots-Tag:noindex
X-PUBLISHED-TTL:PT1H
BEGIN:VTIMEZONE
TZID:America/Mexico_City
BEGIN:STANDARD
TZOFFSETFROM:-0600
TZOFFSETTO:-0600
TZNAME:CST
DTSTART:20240101T000000
END:STANDARD
END:VTIMEZONE
BEGIN:VEVENT
DTSTART;TZID=America/Mexico_City:20250920T103000
DTEND;TZID=America/Mexico_City:20250921T190000
DTSTAMP:20260424T143652
CREATED:20250919T022234Z
LAST-MODIFIED:20250919T022234Z
UID:10000937-1758364200-1758481200@alertachiapas.com
SUMMARY:¡Llega el Sticker Fest a San Cristóbal de Las Casas!
DESCRIPTION:Si te gusta el arte urbano y los diseños independientes\, no te puedes perder el Sticker Fest\, un evento que celebra el arte adhesivo en el Centro Cultural “Carlos Jurado”. \nEste festival es una gran oportunidad para conocer el trabajo de diversos artistas y adquirir stickers\, posters\, postales\, obras originales y mucho más directamente de sus creadores. Es un espacio para la creatividad\, la expresión y el diseño independiente. \nEl evento es de entrada libre para todo el público. ¡No te lo pierdas y apoya al talento local! \n\nConcentrado del evento: \n\nEvento: Sticker Fest (Arte Adhesivo)\nLugar: Centro Cultural Carlos Jurado\, Avenida 16 de Septiembre #1\, Col. Centro\, San Cristóbal de Las Casas.\nFecha: 20 y 21 de septiembre\nHora: 10:30 a 19:00 h\nDetalles: Festival de arte adhesivo con stickers\, posters\, postales y obras originales. Entrada libre.
URL:https://alertachiapas.com/evento/llega-el-sticker-fest-a-san-cristobal-de-las-casas-2/
LOCATION:Centro Cultural Carlos Jurado\, Av. 16 de Septiembre\, San Cristóbal de Las Casas\, Chiapas\, Mexico
CATEGORIES:Evento general
ATTACH;FMTTYPE=image/jpeg:https://alertachiapas.com/wp-content/uploads/2025/09/9d46002f-eacd-40b5-b87b-2660a0791787.jpg
END:VEVENT
BEGIN:VEVENT
DTSTART;TZID=America/Mexico_City:20250920T170000
DTEND;TZID=America/Mexico_City:20250920T210000
DTSTAMP:20260424T143652
CREATED:20250918T004536Z
LAST-MODIFIED:20250918T004555Z
UID:10000933-1758387600-1758402000@alertachiapas.com
SUMMARY:¡Que Viva México! Festival de música para celebrar la fiesta mexicana
DESCRIPTION:¡Prepárate para una noche llena de tradición y música! El Parque Santa Cecilia\, conocido como la Plaza del Mariachi\, será el escenario del Festival de Música Mexicana “¡Qué Viva México!”. Este evento es una gran oportunidad para disfrutar de una auténtica fiesta de cultura y alegría. \nEl festival contará con las presentaciones de mariachis\, cantantes y ballets folclóricos que llenarán el ambiente de música\, baile y tradición. Es un evento familiar y completamente gratuito\, perfecto para celebrar la fiesta mexicana y disfrutar del talento local. No olvides que este evento es parte del Circuito de Parques de Tuxtla Gutiérrez. \n\nConcentrado del evento: \n\nEvento: Festival de Música Mexicana “¡Qué Viva México!”\nLugar: Parque Santa Cecilia (Plaza del Mariachi)\, 8a. Sur Ote.\, esquina 3a. Ote. sur\, Tuxtla Gutiérrez\, Chiapas.\nFecha: Sábado\, 20 de septiembre\nHora: 5:00 PM a 9:00 PM\nDetalles: Evento gratuito. Presentaciones de mariachis\, cantantes y ballets folclóricos.
URL:https://alertachiapas.com/evento/que-viva-mexico-festival-de-musica-para-celebrar-la-fiesta-mexicana/
LOCATION:Plaza del Mariachi\, Tuxtla Gutiérrez\, Chiapas\, 29000\, Mexico
CATEGORIES:Evento general
ATTACH;FMTTYPE=image/jpeg:https://alertachiapas.com/wp-content/uploads/2025/09/540688884_1175825817910638_8562291457288092189_n.jpg
END:VEVENT
END:VCALENDAR