BEGIN:VCALENDAR
VERSION:2.0
PRODID:-//Alerta Chiapas - ECPv6.15.20//NONSGML v1.0//EN
CALSCALE:GREGORIAN
METHOD:PUBLISH
X-ORIGINAL-URL:https://alertachiapas.com
X-WR-CALDESC:Eventos para Alerta Chiapas
REFRESH-INTERVAL;VALUE=DURATION:PT1H
X-Robots-Tag:noindex
X-PUBLISHED-TTL:PT1H
BEGIN:VTIMEZONE
TZID:America/Mexico_City
BEGIN:STANDARD
TZOFFSETFROM:-0600
TZOFFSETTO:-0600
TZNAME:CST
DTSTART:20240101T000000
END:STANDARD
END:VTIMEZONE
BEGIN:VEVENT
DTSTART;TZID=America/Mexico_City:20250903T190000
DTEND;TZID=America/Mexico_City:20250906T213000
DTSTAMP:20260424T143702
CREATED:20250903T012306Z
LAST-MODIFIED:20250903T012306Z
UID:10000892-1756926000-1757194200@alertachiapas.com
SUMMARY:Comitán de Domínguez celebra el centenario del natalicio del Mtro. Oscar Bonifaz
DESCRIPTION:Con un extenso programa cultural que se extenderá por cuatro días\, Comitán de Domínguez conmemora los 100 años del natalicio del Mtro. Oscar Bonifaz Caballero\, una figura fundamental en la cultura chiapaneca. La celebración se llevará a cabo en el Centro Cultural Rosario Castellanos y contará con una variedad de presentaciones artísticas. \nEl programa cultural es el siguiente: \n\nMiércoles 3 de septiembre: La jornada inaugural incluirá la lectura de poemas del Mtro. Oscar Bonifaz por Rosa Hortensia Aguilar Trujillo\, la declamación de “La oración”\, el performance “Tendido para el Hambre” y la proyección del documental “Una piedra en el zapato”.\nJueves 4 de septiembre: Se presentará el grupo de danza folclórica Tenam\, dirigido por el Prof. Rubén Escandón\, seguido de la lectura dramatizada de la obra “Rosario la mujer” por el Ensamble Jaguar-Extro\, bajo la dirección de Rosa Hortensia Aguilar Trujillo.\nViernes 5 de septiembre: El grupo de filosofía “La Vos pensante”\, dirigido por Omar Bonifaz\, presentará “Maestroscar\, su voz en la vos”. La jornada culminará con música latinoamericana a cargo del Grupo Antara.\nSábado 6 de septiembre: Se presentará la obra teatral “La Rebelión de las niñas” y la obra de títeres “¿Hijito de quién sos?” a cargo del grupo de teatro “La Comunidad Saa-Chilo con temperante”\, dirigido por Leticia Ogando.\n\nTodos los eventos se realizarán en el Auditorio Roberto Cordero Catalán. \n\n  \nConcentrado del evento\n  \n\nLugar: Centro Cultural Rosario Castellanos\, Auditorio Roberto Cordero Catalán\, Comitán de Domínguez\, Chiapas.\nFecha: Del 3 al 6 de septiembre de 2025.\nHora: 19:00 horas (7:00 PM) todos los días.\nDetalles del evento: Conmemoración del centenario del natalicio del Mtro. Oscar Bonifaz Caballero con un programa cultural que incluye lecturas\, danza\, música y teatro.
URL:https://alertachiapas.com/evento/comitan-de-dominguez-celebra-el-centenario-del-natalicio-del-mtro-oscar-bonifaz/
LOCATION:Centro Cultural Rosario Castellanos Comitán\, Rosario Castellano S/N\, Centro\,\, Comitán de Domínguez\, Chiapas\, 30000\, Mexico
CATEGORIES:Cultura,Evento general
ATTACH;FMTTYPE=image/jpeg:https://alertachiapas.com/wp-content/uploads/2025/09/540971656_10240087878994924_2294045148704166232_n.jpg
END:VEVENT
BEGIN:VEVENT
DTSTART;TZID=America/Mexico_City:20250906T090000
DTEND;TZID=America/Mexico_City:20250906T160000
DTSTAMP:20260424T143702
CREATED:20250905T010644Z
LAST-MODIFIED:20250905T010644Z
UID:10000902-1757149200-1757174400@alertachiapas.com
SUMMARY:¡Viva la Independencia de las Mujeres! en Tuxtla
DESCRIPTION:Este 6 de septiembre\, Tuxtla Gutiérrez celebrará el evento “¡Viva la Independencia de las Mujeres!”\, un espacio cultural y festivo que busca reconocer el papel de las mujeres dentro de la sociedad\, al mismo tiempo que ofrece un día lleno de actividades para toda la familia. \nLa cita será en la Calzada de las Personas Ilustres\, donde desde las 9:00 de la mañana y hasta las 4:00 de la tarde\, se desarrollará un programa con actividades culturales\, presentaciones de ballet\, mariachi y un bazar con alimentos\, productos ecológicos\, accesorios\, arte\, diseño y moda. \nAdemás\, se realizará una feria de adopción canina\, fomentando la tenencia responsable de mascotas\, en el marco de una jornada que combina cultura\, tradición y participación social. \nEl evento es impulsado por el Ayuntamiento de Tuxtla Gutiérrez\, en coordinación con la Secretaría para la Igualdad de las Mujeres\, el Instituto Tuxtleco de Arte y Cultura (ITAC)\, la Secretaría de Desarrollo Social y Educación\, así como la Secretaría de Salud Municipal. \n\n📌 Concentrado del evento\n\n\nEvento: ¡Viva la Independencia de las Mujeres! \n\n\nFecha: 6 de septiembre \n\n\nLugar: Calzada de las Personas Ilustres\, Tuxtla Gutiérrez \n\n\nHorario: 9:00 AM – 4:00 PM \n\n\nActividades: \n\n\nActividades culturales \n\n\nMariachi \n\n\nBallet \n\n\nFeria de adopción canina \n\n\nAlimentos y productos ecológicos \n\n\nAccesorios\, arte\, diseño y moda \n\n\n\n\nEntrada: Libre
URL:https://alertachiapas.com/evento/viva-la-independencia-de-las-mujeres-en-tuxtla/
LOCATION:Calzada de las Personas Ilustres\, Calzada de las Personas Ilustres\, tuxtla gutiérrez\, Chiapas\, 29000\, Mexico
CATEGORIES:Evento general
ATTACH;FMTTYPE=image/jpeg:https://alertachiapas.com/wp-content/uploads/2025/09/542757061_1720989515284790_2647621506186012453_n.jpg
GEO:16°45'32.0"N;93°06'30.5"W
X-APPLE-STRUCTURED-LOCATION;VALUE=URI;X-ADDRESS=Calzada de las Personas Ilustres Calzada de las Personas Ilustres tuxtla gutiérrez Chiapas 29000 Mexico;X-APPLE-RADIUS=500;X-TITLE=Calzada de las Personas Ilustres:geo:93°06'30.5"W,16°45'32.0"N
END:VEVENT
BEGIN:VEVENT
DTSTART;TZID=America/Mexico_City:20250906T110000
DTEND;TZID=America/Mexico_City:20250906T160000
DTSTAMP:20260424T143702
CREATED:20250906T011249Z
LAST-MODIFIED:20250906T011249Z
UID:10000906-1757156400-1757174400@alertachiapas.com
SUMMARY:“Tuxtlequeando”: Un Evento para Hacer la Historia del Pueblo
DESCRIPTION:El Museo de la Ciudad de Tuxtla Gutiérrez te invita a unirte a su evento especial “Tuxtlequeando”\, una jornada dedicada a celebrar la historia\, el arte y la cultura de la capital chiapaneca. El museo busca la participación de todos para “hacer la historia del pueblo”. \nEl evento contará con un programa variado que incluye: \n\n“Tu Tía Chiapaneca”\, monólogo de Andrea la Teatrera: Una presentación que promete ser divertida y reflexiva.\nMosaico Arte Pedagógico: Una actividad de Ligalab\, Jessica y Roberto Carlos que combina la creatividad con la enseñanza.\nMúsica y bailongo: ¡Para que te diviertas y bailes!\n¡Grandes sorpresas!\n\nEs un evento para toda la familia. ¡Tu presencia es muy importante! \n\n  \nDetalles del evento\n  \n\nTítulo del evento: Tuxtlequeando\nFecha: Sábado\, 6 de septiembre\nHora: A partir de las 11:00 a.m.\nLugar: Museo de la Ciudad\, Av. Central Poniente #288\, Tuxtla Gutiérrez\nDetalles adicionales: Un evento cultural y artístico con monólogo\, arte pedagógico y música. La entrada es libre y se invita a toda la comunidad a participar.
URL:https://alertachiapas.com/evento/tuxtlequeando-un-evento-para-hacer-la-historia-del-pueblo/
LOCATION:Museo de la Ciudad\, Av Central Pte 288\, Santo Domingo\, Tuxtla Gutiérrez\, Chiapas\, 29000\, Mexico
CATEGORIES:Arte,Evento general
ATTACH;FMTTYPE=image/jpeg:https://alertachiapas.com/wp-content/uploads/2025/09/cbc88f66-a74d-460e-864b-b02a90fab4b4.jpg
END:VEVENT
END:VCALENDAR