BEGIN:VCALENDAR
VERSION:2.0
PRODID:-//Alerta Chiapas - ECPv6.15.20//NONSGML v1.0//EN
CALSCALE:GREGORIAN
METHOD:PUBLISH
X-WR-CALNAME:Alerta Chiapas
X-ORIGINAL-URL:https://alertachiapas.com
X-WR-CALDESC:Eventos para Alerta Chiapas
REFRESH-INTERVAL;VALUE=DURATION:PT1H
X-Robots-Tag:noindex
X-PUBLISHED-TTL:PT1H
BEGIN:VTIMEZONE
TZID:America/Mexico_City
BEGIN:STANDARD
TZOFFSETFROM:-0600
TZOFFSETTO:-0600
TZNAME:CST
DTSTART:20240101T000000
END:STANDARD
END:VTIMEZONE
BEGIN:VEVENT
DTSTART;TZID=America/Mexico_City:20250821T170000
DTEND;TZID=America/Mexico_City:20250821T190000
DTSTAMP:20260424T160749
CREATED:20250819T005627Z
LAST-MODIFIED:20250819T005627Z
UID:10000853-1755795600-1755802800@alertachiapas.com
SUMMARY:Continúa el ciclo de charlas "Naturaleza\, Cultura y Territorio"
DESCRIPTION:En el marco del ciclo de charlas “Naturaleza\, Cultura y Territorio”\, el Ayuntamiento de Tuxtla Gutiérrez a través de la Casa de la Cultura Luis Alaminos Guerrero\, invita a la sesión 2 titulada “La observación de aves: herramientas para el monitoreo ecológico y su conservación”. \nEsta interesante charla será impartida por la bióloga Paulina Tondopó\, quien compartirá sus conocimientos sobre la importancia del avistamiento de aves como una herramienta clave para el monitoreo ecológico y la preservación de estas especies. \nNo te pierdas esta oportunidad de aprender sobre la fauna local y la conservación ambiental. La entrada es libre y el evento contará con la participación del Club de Observación de Aves Tōlōtl Ahui. \nDetalles del evento: \n\nTítulo de la charla: La observación de aves: herramientas para el monitoreo ecológico y su conservación.\nExpositora: Bióloga Paulina Tondopó.\nLugar: Casa de la Cultura Luis Alaminos Guerrero\, ubicada en 1a. Poniente esquina 2a. Norte.\nFecha: 21 de agosto.\nHora: 17:00 horas.\nCosto: Entrada libre.\nOrganizadores: Ayuntamiento de Tuxtla Gutiérrez y Casa de la Cultura Luis Alaminos Guerrero.\nColaboradores: Club de Observación de Aves Tōlōtl Ahui.
URL:https://alertachiapas.com/evento/continua-el-ciclo-de-charlas-naturaleza-cultura-y-territorio/
LOCATION:Casa de la Cultura Luis Alaminos\, 1a poniente esquina con 2a norte\, Tuxtla Gutiérrez\, Chiapas\, 29000\, Mexico
CATEGORIES:Evento general
ATTACH;FMTTYPE=image/jpeg:https://alertachiapas.com/wp-content/uploads/2025/08/530789173_18412975195110703_6207869538481424375_n.jpg
END:VEVENT
END:VCALENDAR