BEGIN:VCALENDAR
VERSION:2.0
PRODID:-//Alerta Chiapas - ECPv6.15.20//NONSGML v1.0//EN
CALSCALE:GREGORIAN
METHOD:PUBLISH
X-ORIGINAL-URL:https://alertachiapas.com
X-WR-CALDESC:Eventos para Alerta Chiapas
REFRESH-INTERVAL;VALUE=DURATION:PT1H
X-Robots-Tag:noindex
X-PUBLISHED-TTL:PT1H
BEGIN:VTIMEZONE
TZID:America/Mexico_City
BEGIN:STANDARD
TZOFFSETFROM:-0600
TZOFFSETTO:-0600
TZNAME:CST
DTSTART:20240101T000000
END:STANDARD
END:VTIMEZONE
BEGIN:VEVENT
DTSTART;TZID=America/Mexico_City:20250710T130000
DTEND;TZID=America/Mexico_City:20250710T220000
DTSTAMP:20260425T101632
CREATED:20250710T012911Z
LAST-MODIFIED:20250710T012911Z
UID:10000746-1752152400-1752184800@alertachiapas.com
SUMMARY:¡Adopta un Árbol en Tuxtla! Celebra el Día del Árbol en Chiapas
DESCRIPTION:En el marco del Día del Árbol\, Sonora Botanera\, restaurante chiapaneco\, invita a toda la comunidad a participar en su iniciativa “Adopta un Árbol\, Vos Colocho”. Este evento tiene como objetivo fomentar la reforestación y la conciencia ambiental en Chiapas\, ofreciendo la oportunidad de que los ciudadanos adopten un árbol y contribuyan al cuidado de nuestro planeta. \nLos interesados podrán obtener un arbolito de especies nativas como Swietenia humilis\, Erythrostemon palmeri y Crescentia alata\, ideales para el clima de la región. La entrega de los árboles se realizará el mismo Día del Árbol\, este jueves 10 de julio\, en las instalaciones de Sonora Botanera. \nPara poder adoptar un árbol\, es indispensable cumplir con los siguientes requisitos: \n\nCopia de tu INE (identificación oficial).\nFotografía del lugar donde se plantará el árbol\, asegurando un espacio adecuado para su crecimiento.\n\n¡No pierdas la oportunidad de ser parte de esta importante iniciativa verde y embellecer nuestro estado! \n\nConcentrado del Evento: \n\nEvento: “Adopta un Árbol\, Vos Colocho” – Celebración del Día del Árbol\nFecha de Entrega: Jueves 10 de julio de 2025\nLugar de Entrega: Sonora Botanera\, Restaurante Chiapaneco\nDetalles: Se entregarán arbolitos de las especies Swietenia humilis\, Erythrostemon palmeri y Crescentia alata.\nRequisitos para la Entrega: Copia de INE y foto del lugar de plantación.
URL:https://alertachiapas.com/evento/adopta-un-arbol-en-tuxtla-celebra-el-dia-del-arbol-en-chiapas/
LOCATION:Sonora Botanera\, 482 8A Avenida Norte Oriente\, tuxtla gutiérrez\, Chiapas\, Mexico
CATEGORIES:Evento general
ATTACH;FMTTYPE=image/jpeg:https://alertachiapas.com/wp-content/uploads/2025/07/IMG_2569.jpg
END:VEVENT
BEGIN:VEVENT
DTSTART;TZID=America/Mexico_City:20250710T190000
DTEND;TZID=America/Mexico_City:20250710T220000
DTSTAMP:20260425T101632
CREATED:20250709T011756Z
LAST-MODIFIED:20250709T011756Z
UID:10000741-1752174000-1752184800@alertachiapas.com
SUMMARY:¡Celebra el Día del Árbol con La Coneja Cantina Club: Adopta un Arbolito y Contribuye al Planeta!
DESCRIPTION:La Coneja se une a la celebración del Día del Árbol invitando a la comunidad a participar en una noble causa: la adopción de arbolitos. Esta iniciativa busca fomentar la reforestación y la conciencia ambiental en nuestra región\, promoviendo la participación ciudadana en el cuidado de nuestro planeta. \nEste 10 de julio\, tendrás la oportunidad de llevar a casa un arbolito y ser parte activa de la recuperación de nuestras áreas verdes. Para poder adoptar tu ejemplar\, es indispensable presentar una copia de tu INE y una fotografía del lugar donde planeas sembrarlo\, asegurando así un compromiso real con su crecimiento y desarrollo. \nLa Coneja Cantina Club ofrecerá especies adecuadas para el ecosistema local\, como Swietenia Humilis\, Erythrostemon Palmeri y Crescentia Alata\, contribuyendo a la biodiversidad y al equilibrio ambiental de Chiapas. ¡No pierdas esta oportunidad de hacer una diferencia y embellecer tu entorno! \n\nConcentrado del Evento: \n\nEvento: Celebración del Día del Árbol – Adopción de Arbolitos\nOrganiza: La Coneja\nFecha: 10 de Julio de 2025\nDetalles de la Adopción:\n\nRequisitos: Presentar copia de INE y una foto del lugar donde se plantará el arbolito.\nEspecies disponibles para adoptar: Swietenia Humilis\, Erythrostemon Palmeri y Crescentia Alata.\n\n\nLugar: Se infiere que el evento se realizará en las instalaciones de La Coneja Cantina Club\, aunque la dirección exacta no está especificada en la imagen. Se recomienda contactar directamente al organizador para obtener detalles precisos de la ubicación y horario de entrega.
URL:https://alertachiapas.com/evento/celebra-el-dia-del-arbol-con-la-coneja-cantina-club-adopta-un-arbolito-y-contribuye-al-planeta/
LOCATION:La Coneja\, Las Palmas 76-112\, Las Palmas\, Tuxtla Gutiérrez\, Chiapas\, 29040\, Mexico
CATEGORIES:Evento general
ATTACH;FMTTYPE=image/jpeg:https://alertachiapas.com/wp-content/uploads/2025/07/IMG_2566.jpg
END:VEVENT
BEGIN:VEVENT
DTSTART;TZID=America/Mexico_City:20250710T200000
DTEND;TZID=America/Mexico_City:20250710T220000
DTSTAMP:20260425T101632
CREATED:20250709T013148Z
LAST-MODIFIED:20250709T013148Z
UID:10000744-1752177600-1752184800@alertachiapas.com
SUMMARY:¡Celebra el Día del Árbol con Rock: Adopta un Árbol y Ayuda al Planeta!
DESCRIPTION:En conmemoración del Día del Árbol\, Jack Rock y Chila se suman a la importante labor de reforestación y concientización ambiental\, invitando a la ciudadanía a participar en su iniciativa de adopción de árboles. Esta es una excelente oportunidad para contribuir activamente a la salud de nuestro planeta y embellecer nuestros espacios. \nEste 10 de julio\, podrás llevar a casa un nuevo arbolito y ser parte del cambio. Para realizar la adopción\, es necesario presentar tu Identificación Oficial (INE) y una fotografía del espacio donde será plantado el árbol. Estos requisitos aseguran que cada ejemplar tenga un hogar adecuado y un compromiso de cuidado por parte de los adoptantes. \nEntre las especies disponibles para adoptar se encuentran la Swietenia Humilis\, Erythrostemon Palmeri y Crescentia Alata\, especies nativas y beneficiosas para el ecosistema local. Al participar\, no solo adquieres un árbol\, sino que también contribuyes a la mejora de la calidad del aire y al fomento de la biodiversidad en nuestra región. \n¡Ven\, adopta un árbol y ayudemos al planeta a respirar mejor! Tu acción\, por pequeña que parezca\, marca una gran diferencia. \n\nConcentrado del Evento: \n\nEvento: Celebración del Día del Árbol – Adopción de Árboles\nOrganiza: Jack Rock y Chila\nFecha: 10 de Julio de 2025\nDetalles de la Adopción:\n\nRequisitos: Identificación Oficial (INE) y foto del espacio donde será plantado el árbol.\nEspecies disponibles para adoptar: Swietenia Humilis\, Erythrostemon Palmeri\, Crescentia Alata.
URL:https://alertachiapas.com/evento/celebra-el-dia-del-arbol-con-rock-adopta-un-arbol-y-ayuda-al-planeta/
LOCATION:Jack Pub\, 15A. Pte. Nte. 132\, Zona Sin Asignación de Nombre de Col 46\, Tuxtla Gutiérrez\, Chiapas\, 29040\, Mexico
CATEGORIES:Evento general
ATTACH;FMTTYPE=image/jpeg:https://alertachiapas.com/wp-content/uploads/2025/07/IMG_2571.jpg
END:VEVENT
END:VCALENDAR