BEGIN:VCALENDAR
VERSION:2.0
PRODID:-//Alerta Chiapas - ECPv6.15.20//NONSGML v1.0//EN
CALSCALE:GREGORIAN
METHOD:PUBLISH
X-ORIGINAL-URL:https://alertachiapas.com
X-WR-CALDESC:Eventos para Alerta Chiapas
REFRESH-INTERVAL;VALUE=DURATION:PT1H
X-Robots-Tag:noindex
X-PUBLISHED-TTL:PT1H
BEGIN:VTIMEZONE
TZID:America/Mexico_City
BEGIN:STANDARD
TZOFFSETFROM:-0600
TZOFFSETTO:-0600
TZNAME:CST
DTSTART:20240101T000000
END:STANDARD
END:VTIMEZONE
BEGIN:VEVENT
DTSTART;TZID=America/Mexico_City:20250616T120000
DTEND;TZID=America/Mexico_City:20250616T140000
DTSTAMP:20260425T113526
CREATED:20250612T021604Z
LAST-MODIFIED:20250612T021604Z
UID:10000671-1750075200-1750082400@alertachiapas.com
SUMMARY:Epifanías en Tinta: Talento Joven en la Galería de Arte
DESCRIPTION:¡Prepárate para una experiencia artística conmovedora! ✨ Te invitamos a la exposición gráfica “Epifanías en Tinta”\, una muestra imperdible del talento de los Alumnos de la Licenciatura en Artes Visuales de la Universidad de Ciencias y Artes de Chiapas. 🎓🎨 \nDescubre la visión y creatividad de jóvenes artistas que exploran diversas técnicas en tinta\, plasmando sus ideas y emociones en cada obra. Entre los expositores se encuentran talentos como Karen Hazel Hernández Gutiérrez\, Francisco Abelardo Rijos Gómez\, Deysi Zmwrth Espinoza Toledo\, Jorge Kevin Morales Juárez\, Ángel Pérez Castellanos\, Zumún Santiago Santy\, M. Karol Paniagua\, Marvin Cruz Ramírez\, Ximena Alejandra Acosta Hernández\, Sherlyn Padilla Revilla\, Magali Urbina Gómez\, Alejandra Cano Lara\, Jessica Denisse López Flores\, Alexandra González Salbuena\, Ximena Cristina Pérez Vázquez\, Fátima Denisse Paezales\, Deysi Lizeth López Pérez\, Romina Vázquez Ríos\, M. Alejandra Martínez Chandomí\, Xitlalic López Alfaro\, Helen Seany Palma Espinoza\, Karla Suncamendi\, Cristian Moguel Esquinza\, Enrique Allison Revuelta\, Anael Farrera\, Andrea Gómez Meza\, Víctor Hugo Burguete y Moisés Franco Paredes. 🤩 \n¡No te pierdas esta oportunidad de apoyar el arte emergente y disfrutar de una tarde llena de inspiración! 💖 \n\nConcentrado del evento: \n\nLugar: Galería de arte contemporáneo del Centro Cultural de Chiapas Jaime Sabines\, Tuxtla Gutiérrez\, Chiapas. 🏛️\nFecha: Lunes\, 16 de junio. 🗓️\nHora: 12:00 H (12:00 PM). ⏰\nDetalles del evento: Exposición gráfica “Epifanías en Tinta” por alumnos de la Licenciatura en Artes Visuales de la Universidad de Ciencias y Artes de Chiapas. 🖼️
URL:https://alertachiapas.com/evento/epifanias-en-tinta-talento-joven-en-la-galeria-de-arte/
LOCATION:Centro Cultural de Chiapas Jaime Sabines\, Av. Central Ote. s/n\, Centro\, tuxtla gutiérrez\, Chiapas\, 29000\, Mexico
CATEGORIES:Arte,Evento general
ATTACH;FMTTYPE=image/jpeg:https://alertachiapas.com/wp-content/uploads/2025/06/506181207_1056174753366373_1273958577082290003_n.jpg
END:VEVENT
END:VCALENDAR