BEGIN:VCALENDAR
VERSION:2.0
PRODID:-//Alerta Chiapas - ECPv6.15.20//NONSGML v1.0//EN
CALSCALE:GREGORIAN
METHOD:PUBLISH
X-ORIGINAL-URL:https://alertachiapas.com
X-WR-CALDESC:Eventos para Alerta Chiapas
REFRESH-INTERVAL;VALUE=DURATION:PT1H
X-Robots-Tag:noindex
X-PUBLISHED-TTL:PT1H
BEGIN:VTIMEZONE
TZID:America/Mexico_City
BEGIN:STANDARD
TZOFFSETFROM:-0600
TZOFFSETTO:-0600
TZNAME:CST
DTSTART:20240101T000000
END:STANDARD
END:VTIMEZONE
BEGIN:VEVENT
DTSTART;TZID=America/Mexico_City:20250614T120000
DTEND;TZID=America/Mexico_City:20250614T160000
DTSTAMP:20260425T114338
CREATED:20250520T223251Z
LAST-MODIFIED:20250520T223251Z
UID:10000594-1749902400-1749916800@alertachiapas.com
SUMMARY:Mampride Chiapas 2025
DESCRIPTION:El orgullo se vive\, se marcha y se celebra 💪🏽🏳️‍🌈. Este sábado 14 de junio\, Tuxtla Gutiérrez será el escenario de uno de los eventos más coloridos e inclusivos del año: Mampride Chiapas 2025. Con un enfoque en la visibilidad\, la diversidad y el respeto\, esta marcha promete ser una poderosa manifestación de amor\, igualdad y resistencia. \nEl evento arrancará con actividades desde las 12:00 p.m.\, y la marcha comenzará oficialmente a las 2:00 p.m.. El punto de partida será frente al INIFECH\, en Grupo Rocaf (Nueva FM)\, y concluirá en el emblemático Parque Central de Tuxtla Gutiérrez\, donde se espera un ambiente festivo\, seguro y lleno de orgullo. \nMampride Chiapas es impulsado por la Red por la Inclusión de la Diversidad Sexual Chiapas\, con el respaldo de la Alianza Nacional de Marchas LGBT+ México y Nueva FM\, uniendo voces por un estado y un país más justo para todas las identidades. \n🌟 No faltes\, trae tus banderas\, glitter\, pancartas\, y sobre todo\, ¡tu orgullo! 💃🏽🎉 \n\n📍 Lugar de salida: Frente al INIFECH🏁 Destino: Parque Central de Tuxtla Gutiérrez📆 Fecha: Sábado 14 de junio de 2025⏰ Inicio del programa: 12:00 p.m.🚶‍♂️ Arranque de marcha: 2:00 p.m.🎉 Organizan: Red por la Inclusión de la Diversidad Sexual Chiapas\, Alianza Nacional de Marchas LGBT+
URL:https://alertachiapas.com/evento/mampride-chiapas-2025/
LOCATION:INIFECH\, Lib. Sur Pte. 650\, Sin Nombre\, Penipak\, Tuxtla Gutiérrez\, Chiapas\, 29060\, Mexico
CATEGORIES:Evento general
ATTACH;FMTTYPE=image/jpeg:https://alertachiapas.com/wp-content/uploads/2025/05/500056162_1053468090280678_4816557035228331405_n.jpg
END:VEVENT
BEGIN:VEVENT
DTSTART;TZID=America/Mexico_City:20250614T180000
DTEND;TZID=America/Mexico_City:20250614T200000
DTSTAMP:20260425T114338
CREATED:20250606T234328Z
LAST-MODIFIED:20250606T234328Z
UID:10000656-1749924000-1749931200@alertachiapas.com
SUMMARY:¡Cierre explosivo de PASCHA con arte\, voces y electrocumbia!
DESCRIPTION:Este sábado 14 de junio no te puedes perder el cierre de la exposición PASCHA de Joα Merαz\, un evento multidisciplinario que mezcla arte\, reflexión social y música en un ambiente rebelde\, diverso y lleno de poder. 🎭🌺✨ \nEl evento tendrá lugar en El Picantito / Julio Panti\, y comenzará a las 6:00 p.m.\, justo después del MamPride. El cierre de esta muestra visual llega acompañado de una agenda vibrante e imperdible: \n👠 Conversatorio con Trabajadoras SexualesTema: “María Magdalena en tiempos de OnlyFans”Con las voces de: \n\n\nKaren Dianne \n\n\nBlack Witch \n\n\nDilery Sánchez Tevea \n\n\n🎨 Sesión de Dibujo con Modelos en VivoTitulada Identidades Divinas\, dirigida por la artista Mar Cuervo\, será un espacio libre y artístico donde podrás dibujar y admirar la diversidad de cuerpos y expresiones. \n🎶 Música en vivo con Fer Dalton y su ElectrocumbiaPrepárate para cerrar la noche bailando con ritmos potentes y sonidos tropicales que harán vibrar tus sentidos. 💃🏽🌈🕺🏽 \n\n📍 Concentrado del Evento:\n\n\n🗓️ Fecha: Sábado 14 de junio \n\n\n⏰ Hora: 6:00 PM (After MamPride) \n\n\n📍 Lugar: El Picantito / Julio Panti📌 Dirección: Av. Central Ote. 1324\, frente a 5 de Mayo \n\n\n🎤 Actividades: \n\n\nConversatorio con trabajadoras sexuales \n\n\nDibujo con modelos en vivo \n\n\nMúsica en vivo con Fer Dalton \n\n\n\n\n🎨 Artista de la exposición: Joa Meraz \n\n\n¡Un evento queer\, artístico y político que no puedes dejar pasar! 🧠🎶💖
URL:https://alertachiapas.com/evento/cierre-explosivo-de-pascha-con-arte-voces-y-electrocumbia/
LOCATION:El Picantito\, Av. Central Oriente 1324\, tuxtla gutiérrez\, Chiapas\, 29000\, Mexico
CATEGORIES:Arte,Evento general,Música
ATTACH;FMTTYPE=image/jpeg:https://alertachiapas.com/wp-content/uploads/2025/06/IMG_1941.jpg
END:VEVENT
END:VCALENDAR