BEGIN:VCALENDAR
VERSION:2.0
PRODID:-//Alerta Chiapas - ECPv6.15.20//NONSGML v1.0//EN
CALSCALE:GREGORIAN
METHOD:PUBLISH
X-WR-CALNAME:Alerta Chiapas
X-ORIGINAL-URL:https://alertachiapas.com
X-WR-CALDESC:Eventos para Alerta Chiapas
REFRESH-INTERVAL;VALUE=DURATION:PT1H
X-Robots-Tag:noindex
X-PUBLISHED-TTL:PT1H
BEGIN:VTIMEZONE
TZID:America/Mexico_City
BEGIN:STANDARD
TZOFFSETFROM:-0600
TZOFFSETTO:-0600
TZNAME:CST
DTSTART:20240101T000000
END:STANDARD
END:VTIMEZONE
BEGIN:VEVENT
DTSTART;TZID=America/Mexico_City:20250524T160000
DTEND;TZID=America/Mexico_City:20250524T220000
DTSTAMP:20260425T143856
CREATED:20250521T005159Z
LAST-MODIFIED:20250521T005159Z
UID:10000595-1748102400-1748124000@alertachiapas.com
SUMMARY:¡Reciben a San Martín Obispo y Santa Marta en gran fiesta tradicional!
DESCRIPTION:Este sábado 24 de mayo de 2025\, la comunidad celebrará con alegría la recepción del Cohuina de San Martín Obispo y Santa Marta “Los Tigres”\, en un evento cargado de tradición\, fe y música. \nLa cita es a partir de las 4:00 p.m. en la 3a Poniente entre 6a y 7a Norte\, justo frente a la Clínica Santa Fe\, donde se reunirán los fieles para acompañar a las imágenes que estarán en resguardo del cohuneado durante el periodo 2025 – 2028. \n🎵 El ambiente estará amenizado por dos grandes agrupaciones de marimba: \n\n\nMarimba Orquesta Clave Azul de los Hermanos Toledo \n\n\nJúnior Gómez y su Marimba Orquesta \n\n\nEsta festividad es una muestra viva del fervor religioso y la riqueza cultural que caracteriza a los barrios tradicionales de Chiapas. No te lo pierdas\, ¡lleva a tu familia y forma parte de esta hermosa tradición! \n\n\n\n\n📅 Fecha: Sábado 24 de mayo de 2025 \n\n\n🕓 Hora: 4:00 p.m. \n\n\n📍 Lugar: 3a Poniente entre 6a y 7a Norte (Frente a Clínica Santa Fe) \n\n\n🎼 Música en vivo: \n\n\nMarimba Orquesta Clave Azul (Hermanos Toledo) \n\n\nJúnior Gómez y su Marimba Orquesta \n\n\n\n\n🙏 Reciben: San Martín Obispo y Santa Marta “Los Tigres” \n\n\n🕊️ Periodo de cohuneo: 2025 – 2028
URL:https://alertachiapas.com/evento/reciben-a-san-martin-obispo-y-santa-marta-en-gran-fiesta-tradicional/
LOCATION:Cohuiná San Martín Obispo y Santa Marta “Los Tigres”\, 3a Poniente entre 6a y 7a Norte\, Ocozocoautla de Espinosa\, Chiapas\, Mexico
CATEGORIES:Evento general
ATTACH;FMTTYPE=image/jpeg:https://alertachiapas.com/wp-content/uploads/2025/05/IMG_1421.jpg
END:VEVENT
BEGIN:VEVENT
DTSTART;TZID=America/Mexico_City:20250524T170000
DTEND;TZID=America/Mexico_City:20250524T200000
DTSTAMP:20260425T143856
CREATED:20250519T234800Z
LAST-MODIFIED:20250519T234800Z
UID:10000592-1748106000-1748116800@alertachiapas.com
SUMMARY:¡Que Viva la Trova en Tuxtla!
DESCRIPTION:¡Atención\, amantes de la buena música en Tuxtla Gutiérrez! 🎉 Prepárense para una noche mágica llena de sentimiento y recuerdos con el concierto ¡Que Viva la Trova! entre acordes y recuerdos. 🎸 Este 24 de mayo\, de 5 PM a 8 PM\, el Foro al Aire Libre del Parque Joyyo Mayu se llenará de las voces y melodías de increíbles artistas: \n🎤 Luis Aquino 🎤 Flor de América 🎤 Alex Lerma 🎤 Clazz (Majo y Leonardo) 🎤 Oswaldo Romero 🎤 Ruvicel Pérez 🎤 Miguel del Ángel 🎤 Francisco Barrios \n¡La entrada es libre! 🤩 Así que no hay excusa para perderse esta velada musical organizada por el Ayuntamiento de Tuxtla Gutiérrez y el ITAC – Instituto Tuxtleco de Arte y Cultura\, como parte del Circuito de Parques. ¡Ven\, disfruta y vive Tuxtla! 💜🐰 \nConcentrado del Evento: \n📍 Lugar: Foro al Aire Libre del Parque Joyyo Mayu 🗓️ Fecha: 24 de mayo ⏰ Hora: 5 PM – 8 PM 🎟️ Detalles: Concierto ¡Que Viva la Trova! con la participación de diversos artistas. Entrada Libre. Organizado por el Ayuntamiento de Tuxtla Gutiérrez e ITAC dentro del Circuito de Parques.
URL:https://alertachiapas.com/evento/que-viva-la-trova-en-tuxtla/
LOCATION:Parque Joyyo Mayu\, Tuxtla Gutiérrez\, Chiapas\, 29000\, Mexico
CATEGORIES:Evento general,Música
ATTACH;FMTTYPE=image/jpeg:https://alertachiapas.com/wp-content/uploads/2025/05/IMG_1570.jpg
END:VEVENT
END:VCALENDAR