BEGIN:VCALENDAR
VERSION:2.0
PRODID:-//Alerta Chiapas - ECPv6.15.20//NONSGML v1.0//EN
CALSCALE:GREGORIAN
METHOD:PUBLISH
X-WR-CALNAME:Alerta Chiapas
X-ORIGINAL-URL:https://alertachiapas.com
X-WR-CALDESC:Eventos para Alerta Chiapas
REFRESH-INTERVAL;VALUE=DURATION:PT1H
X-Robots-Tag:noindex
X-PUBLISHED-TTL:PT1H
BEGIN:VTIMEZONE
TZID:America/Mexico_City
BEGIN:STANDARD
TZOFFSETFROM:-0600
TZOFFSETTO:-0600
TZNAME:CST
DTSTART:20240101T000000
END:STANDARD
END:VTIMEZONE
BEGIN:VEVENT
DTSTART;VALUE=DATE:20250428
DTEND;VALUE=DATE:20250429
DTSTAMP:20260425T125654
CREATED:20250428T223413Z
LAST-MODIFIED:20250428T223413Z
UID:10000524-1745798400-1745884799@alertachiapas.com
SUMMARY:Celebra el Día Internacional de los Jardines Botánicos en Tuxtla
DESCRIPTION:El Jardín Botánico Dr. Faustino Miranda\, junto con el Museo Botánico y la Secretaría de Medio Ambiente e Historia Natural del Gobierno de Chiapas\, te invitan a celebrar el Día Internacional de los Jardines Botánicos este 28 de abril. ¡Un evento lleno de naturaleza\, cultura y conciencia ambiental! 🌳🌎 \n📍 Ubicación: Calzada de las Personas Ilustres\, Tuxtla Gutiérrez\, Chiapas. \n🌸 Actividades:\n\n\n🛍️ Bazar de productos artesanales. \n\n\n📚 Stands informativos sobre educación ambiental\, fauna y medio ambiente. \n\n\n🎭 Programa cultural con diversas presentaciones artísticas. \n\n\n🍲 Venta de artesanías y alimentos tradicionales. \n\n\n🕒 Horario:\n\n\nDe 11:00 a 16:00 horas. \n\n\n¡Disfruta un día en familia rodeado de naturaleza\, aprendizaje y diversión! 🎉💚 \n\n\n\n📍 Lugar: Calzada de las Personas Ilustres\, Tuxtla Gutiérrez\, Chiapas. \n\n\n📅 Fecha: 28 de abril de 2025. \n\n\n🕒 Hora: De 11:00 a 16:00 horas. \n\n\n🎟️ Detalles: Evento gratuito\, ideal para toda la familia. Actividades culturales\, educativas\, venta de artesanías y alimentos.
URL:https://alertachiapas.com/evento/celebra-el-dia-internacional-de-los-jardines-botanicos-en-tuxtla/
LOCATION:Jardín Botánico Faustino Miranda\, Av\, 5a. Avenida Nte. Ote. s/n\, Parque Madero\, Tuxtla Gutiérrez\, Chiapas\, Mexico
CATEGORIES:Evento general
ATTACH;FMTTYPE=image/jpeg:https://alertachiapas.com/wp-content/uploads/2025/04/IMG_1066.jpg
END:VEVENT
END:VCALENDAR